BEGIN:VCALENDAR
VERSION:2.0
PRODID:www.bfh.ch
X-APPLE-CALENDAR-COLOR:Orange
X-OUTLOOK-COLOR:Orange
X-FUNAMBOL-COLOR:Orange
X-WR-CALNAME:Übersicht Bfh_diagonal
BEGIN:VEVENT
UID:69ebe2f77aefa
DTSTART:20220920T141500Z
SEQUENCE:0
TRANSP:OPAQUE
DTEND:20220920T155000Z
LOCATION:Quell-Q407
CLASS:PUBLIC
DESCRIPTION:Veranstaltung:  (BZG3441)\nDozierende: Pinheiro [psm2]\nRäume:
  Quell-Q407\nCode: BZG3441a
X-ALT-DESC;FMTTYPE=text/html:Veranstaltung:  (BZG3441)<br>Dozierende: Pinhe
 iro [psm2]<br>Räume: Quell-Q407<br>Code: BZG3441a
DTSTAMP:20260424T213903Z
END:VEVENT
BEGIN:VEVENT
UID:69ebe2f77b00d
DTSTART:20220922T122500Z
SEQUENCE:0
TRANSP:OPAQUE
DTEND:20220922T140000Z
LOCATION:Jlco-T134
CLASS:PUBLIC
DESCRIPTION:Veranstaltung:  (BZG3441)\nDozierende: Moser [msd1]\nRäume: Jl
 co-T134\nCode: BZG3441i
X-ALT-DESC;FMTTYPE=text/html:Veranstaltung:  (BZG3441)<br>Dozierende: Moser
  [msd1]<br>Räume: Jlco-T134<br>Code: BZG3441i
DTSTAMP:20260424T213903Z
END:VEVENT
BEGIN:VEVENT
UID:69ebe2f77b068
DTSTART:20220927T141500Z
SEQUENCE:0
TRANSP:OPAQUE
DTEND:20220927T155000Z
LOCATION:Quell-Q407
CLASS:PUBLIC
DESCRIPTION:Veranstaltung:  (BZG3441)\nDozierende: Pinheiro [psm2]\nRäume:
  Quell-Q407\nCode: BZG3441a
X-ALT-DESC;FMTTYPE=text/html:Veranstaltung:  (BZG3441)<br>Dozierende: Pinhe
 iro [psm2]<br>Räume: Quell-Q407<br>Code: BZG3441a
DTSTAMP:20260424T213903Z
END:VEVENT
BEGIN:VEVENT
UID:69ebe2f77b0b3
DTSTART:20220929T122500Z
SEQUENCE:0
TRANSP:OPAQUE
DTEND:20220929T140000Z
LOCATION:Jlco-T134
CLASS:PUBLIC
DESCRIPTION:Veranstaltung:  (BZG3441)\nDozierende: Moser [msd1]\nRäume: Jl
 co-T134\nCode: BZG3441i
X-ALT-DESC;FMTTYPE=text/html:Veranstaltung:  (BZG3441)<br>Dozierende: Moser
  [msd1]<br>Räume: Jlco-T134<br>Code: BZG3441i
DTSTAMP:20260424T213903Z
END:VEVENT
BEGIN:VEVENT
UID:69ebe2f77b0fc
DTSTART:20221004T141500Z
SEQUENCE:0
TRANSP:OPAQUE
DTEND:20221004T155000Z
LOCATION:Quell-Q407
CLASS:PUBLIC
DESCRIPTION:Veranstaltung:  (BZG3441)\nDozierende: Pinheiro [psm2]\nRäume:
  Quell-Q407\nCode: BZG3441a
X-ALT-DESC;FMTTYPE=text/html:Veranstaltung:  (BZG3441)<br>Dozierende: Pinhe
 iro [psm2]<br>Räume: Quell-Q407<br>Code: BZG3441a
DTSTAMP:20260424T213903Z
END:VEVENT
BEGIN:VEVENT
UID:69ebe2f77b145
DTSTART:20221006T122500Z
SEQUENCE:0
TRANSP:OPAQUE
DTEND:20221006T140000Z
LOCATION:Jlco-T134
CLASS:PUBLIC
DESCRIPTION:Veranstaltung:  (BZG3441)\nDozierende: Moser [msd1]\nRäume: Jl
 co-T134\nCode: BZG3441i
X-ALT-DESC;FMTTYPE=text/html:Veranstaltung:  (BZG3441)<br>Dozierende: Moser
  [msd1]<br>Räume: Jlco-T134<br>Code: BZG3441i
DTSTAMP:20260424T213903Z
END:VEVENT
BEGIN:VEVENT
UID:69ebe2f77b18d
DTSTART:20221011T141500Z
SEQUENCE:0
TRANSP:OPAQUE
DTEND:20221011T155000Z
LOCATION:Quell-Q407
CLASS:PUBLIC
DESCRIPTION:Veranstaltung:  (BZG3441)\nDozierende: Pinheiro [psm2]\nRäume:
  Quell-Q407\nCode: BZG3441a
X-ALT-DESC;FMTTYPE=text/html:Veranstaltung:  (BZG3441)<br>Dozierende: Pinhe
 iro [psm2]<br>Räume: Quell-Q407<br>Code: BZG3441a
DTSTAMP:20260424T213903Z
END:VEVENT
BEGIN:VEVENT
UID:69ebe2f77b1d5
DTSTART:20221013T122500Z
SEQUENCE:0
TRANSP:OPAQUE
DTEND:20221013T140000Z
LOCATION:Jlco-T134
CLASS:PUBLIC
DESCRIPTION:Veranstaltung:  (BZG3441)\nDozierende: Moser [msd1]\nRäume: Jl
 co-T134\nCode: BZG3441i
X-ALT-DESC;FMTTYPE=text/html:Veranstaltung:  (BZG3441)<br>Dozierende: Moser
  [msd1]<br>Räume: Jlco-T134<br>Code: BZG3441i
DTSTAMP:20260424T213903Z
END:VEVENT
BEGIN:VEVENT
UID:69ebe2f77b21b
DTSTART:20221018T141500Z
SEQUENCE:0
TRANSP:OPAQUE
DTEND:20221018T155000Z
LOCATION:Quell-Q407
CLASS:PUBLIC
DESCRIPTION:Veranstaltung:  (BZG3441)\nDozierende: Pinheiro [psm2]\nRäume:
  Quell-Q407\nCode: BZG3441a
X-ALT-DESC;FMTTYPE=text/html:Veranstaltung:  (BZG3441)<br>Dozierende: Pinhe
 iro [psm2]<br>Räume: Quell-Q407<br>Code: BZG3441a
DTSTAMP:20260424T213903Z
END:VEVENT
BEGIN:VEVENT
UID:69ebe2f77b263
DTSTART:20221020T122500Z
SEQUENCE:0
TRANSP:OPAQUE
DTEND:20221020T140000Z
LOCATION:Jlco-T134
CLASS:PUBLIC
DESCRIPTION:Veranstaltung:  (BZG3441)\nDozierende: Moser [msd1]\nRäume: Jl
 co-T134\nCode: BZG3441i
X-ALT-DESC;FMTTYPE=text/html:Veranstaltung:  (BZG3441)<br>Dozierende: Moser
  [msd1]<br>Räume: Jlco-T134<br>Code: BZG3441i
DTSTAMP:20260424T213903Z
END:VEVENT
BEGIN:VEVENT
UID:69ebe2f77b2b6
DTSTART:20221025T141500Z
SEQUENCE:0
TRANSP:OPAQUE
DTEND:20221025T155000Z
LOCATION:Quell-Q407
CLASS:PUBLIC
DESCRIPTION:Veranstaltung:  (BZG3441)\nDozierende: Pinheiro [psm2]\nRäume:
  Quell-Q407\nCode: BZG3441a
X-ALT-DESC;FMTTYPE=text/html:Veranstaltung:  (BZG3441)<br>Dozierende: Pinhe
 iro [psm2]<br>Räume: Quell-Q407<br>Code: BZG3441a
DTSTAMP:20260424T213903Z
END:VEVENT
BEGIN:VEVENT
UID:69ebe2f77b300
DTSTART:20221027T122500Z
SEQUENCE:0
TRANSP:OPAQUE
DTEND:20221027T140000Z
LOCATION:Jlco-T134
CLASS:PUBLIC
DESCRIPTION:Veranstaltung:  (BZG3441)\nDozierende: Moser [msd1]\nRäume: Jl
 co-T134\nCode: BZG3441i
X-ALT-DESC;FMTTYPE=text/html:Veranstaltung:  (BZG3441)<br>Dozierende: Moser
  [msd1]<br>Räume: Jlco-T134<br>Code: BZG3441i
DTSTAMP:20260424T213903Z
END:VEVENT
BEGIN:VEVENT
UID:69ebe2f77b347
DTSTART:20221101T151500Z
SEQUENCE:0
TRANSP:OPAQUE
DTEND:20221101T165000Z
LOCATION:Quell-Q407
CLASS:PUBLIC
DESCRIPTION:Veranstaltung:  (BZG3441)\nDozierende: Pinheiro [psm2]\nRäume:
  Quell-Q407\nCode: BZG3441a
X-ALT-DESC;FMTTYPE=text/html:Veranstaltung:  (BZG3441)<br>Dozierende: Pinhe
 iro [psm2]<br>Räume: Quell-Q407<br>Code: BZG3441a
DTSTAMP:20260424T213903Z
END:VEVENT
BEGIN:VEVENT
UID:69ebe2f77b392
DTSTART:20221103T132500Z
SEQUENCE:0
TRANSP:OPAQUE
DTEND:20221103T150000Z
LOCATION:Jlco-T134
CLASS:PUBLIC
DESCRIPTION:Veranstaltung:  (BZG3441)\nDozierende: Moser [msd1]\nRäume: Jl
 co-T134\nCode: BZG3441i
X-ALT-DESC;FMTTYPE=text/html:Veranstaltung:  (BZG3441)<br>Dozierende: Moser
  [msd1]<br>Räume: Jlco-T134<br>Code: BZG3441i
DTSTAMP:20260424T213903Z
END:VEVENT
BEGIN:VEVENT
UID:69ebe2f77b3d7
DTSTART:20221108T151500Z
SEQUENCE:0
TRANSP:OPAQUE
DTEND:20221108T165000Z
LOCATION:Quell-Q407
CLASS:PUBLIC
DESCRIPTION:Veranstaltung:  (BZG3441)\nDozierende: Pinheiro [psm2]\nRäume:
  Quell-Q407\nCode: BZG3441a
X-ALT-DESC;FMTTYPE=text/html:Veranstaltung:  (BZG3441)<br>Dozierende: Pinhe
 iro [psm2]<br>Räume: Quell-Q407<br>Code: BZG3441a
DTSTAMP:20260424T213903Z
END:VEVENT
BEGIN:VEVENT
UID:69ebe2f77b420
DTSTART:20221110T132500Z
SEQUENCE:0
TRANSP:OPAQUE
DTEND:20221110T150000Z
LOCATION:Jlco-T134
CLASS:PUBLIC
DESCRIPTION:Veranstaltung:  (BZG3441)\nDozierende: Moser [msd1]\nRäume: Jl
 co-T134\nCode: BZG3441i
X-ALT-DESC;FMTTYPE=text/html:Veranstaltung:  (BZG3441)<br>Dozierende: Moser
  [msd1]<br>Räume: Jlco-T134<br>Code: BZG3441i
DTSTAMP:20260424T213903Z
END:VEVENT
BEGIN:VEVENT
UID:69ebe2f77b466
DTSTART:20221115T151500Z
SEQUENCE:0
TRANSP:OPAQUE
DTEND:20221115T165000Z
LOCATION:Quell-Q407
CLASS:PUBLIC
DESCRIPTION:Veranstaltung:  (BZG3441)\nDozierende: Pinheiro [psm2]\nRäume:
  Quell-Q407\nCode: BZG3441a
X-ALT-DESC;FMTTYPE=text/html:Veranstaltung:  (BZG3441)<br>Dozierende: Pinhe
 iro [psm2]<br>Räume: Quell-Q407<br>Code: BZG3441a
DTSTAMP:20260424T213903Z
END:VEVENT
BEGIN:VEVENT
UID:69ebe2f77b4ac
DTSTART:20221117T132500Z
SEQUENCE:0
TRANSP:OPAQUE
DTEND:20221117T150000Z
LOCATION:Jlco-T134
CLASS:PUBLIC
DESCRIPTION:Veranstaltung:  (BZG3441)\nDozierende: Moser [msd1]\nRäume: Jl
 co-T134\nCode: BZG3441i
X-ALT-DESC;FMTTYPE=text/html:Veranstaltung:  (BZG3441)<br>Dozierende: Moser
  [msd1]<br>Räume: Jlco-T134<br>Code: BZG3441i
DTSTAMP:20260424T213903Z
END:VEVENT
BEGIN:VEVENT
UID:69ebe2f77b4f2
DTSTART:20221122T151500Z
SEQUENCE:0
TRANSP:OPAQUE
DTEND:20221122T165000Z
LOCATION:Quell-Q407
CLASS:PUBLIC
DESCRIPTION:Veranstaltung:  (BZG3441)\nDozierende: Pinheiro [psm2]\nRäume:
  Quell-Q407\nCode: BZG3441a
X-ALT-DESC;FMTTYPE=text/html:Veranstaltung:  (BZG3441)<br>Dozierende: Pinhe
 iro [psm2]<br>Räume: Quell-Q407<br>Code: BZG3441a
DTSTAMP:20260424T213903Z
END:VEVENT
BEGIN:VEVENT
UID:69ebe2f77b539
DTSTART:20221124T132500Z
SEQUENCE:0
TRANSP:OPAQUE
DTEND:20221124T150000Z
LOCATION:Jlco-T134
CLASS:PUBLIC
DESCRIPTION:Veranstaltung:  (BZG3441)\nDozierende: Moser [msd1]\nRäume: Jl
 co-T134\nCode: BZG3441i
X-ALT-DESC;FMTTYPE=text/html:Veranstaltung:  (BZG3441)<br>Dozierende: Moser
  [msd1]<br>Räume: Jlco-T134<br>Code: BZG3441i
DTSTAMP:20260424T213903Z
END:VEVENT
BEGIN:VEVENT
UID:69ebe2f77b580
DTSTART:20221129T151500Z
SEQUENCE:0
TRANSP:OPAQUE
DTEND:20221129T165000Z
LOCATION:Quell-Q407
CLASS:PUBLIC
DESCRIPTION:Veranstaltung:  (BZG3441)\nDozierende: Pinheiro [psm2]\nRäume:
  Quell-Q407\nCode: BZG3441a
X-ALT-DESC;FMTTYPE=text/html:Veranstaltung:  (BZG3441)<br>Dozierende: Pinhe
 iro [psm2]<br>Räume: Quell-Q407<br>Code: BZG3441a
DTSTAMP:20260424T213903Z
END:VEVENT
BEGIN:VEVENT
UID:69ebe2f77b5c6
DTSTART:20221201T132500Z
SEQUENCE:0
TRANSP:OPAQUE
DTEND:20221201T150000Z
LOCATION:Jlco-T134
CLASS:PUBLIC
DESCRIPTION:Veranstaltung:  (BZG3441)\nDozierende: Moser [msd1]\nRäume: Jl
 co-T134\nCode: BZG3441i
X-ALT-DESC;FMTTYPE=text/html:Veranstaltung:  (BZG3441)<br>Dozierende: Moser
  [msd1]<br>Räume: Jlco-T134<br>Code: BZG3441i
DTSTAMP:20260424T213903Z
END:VEVENT
BEGIN:VEVENT
UID:69ebe2f77b60c
DTSTART:20221206T151500Z
SEQUENCE:0
TRANSP:OPAQUE
DTEND:20221206T165000Z
LOCATION:Quell-Q407
CLASS:PUBLIC
DESCRIPTION:Veranstaltung:  (BZG3441)\nDozierende: Pinheiro [psm2]\nRäume:
  Quell-Q407\nCode: BZG3441a
X-ALT-DESC;FMTTYPE=text/html:Veranstaltung:  (BZG3441)<br>Dozierende: Pinhe
 iro [psm2]<br>Räume: Quell-Q407<br>Code: BZG3441a
DTSTAMP:20260424T213903Z
END:VEVENT
BEGIN:VEVENT
UID:69ebe2f77b654
DTSTART:20221208T132500Z
SEQUENCE:0
TRANSP:OPAQUE
DTEND:20221208T150000Z
LOCATION:Jlco-T134
CLASS:PUBLIC
DESCRIPTION:Veranstaltung:  (BZG3441)\nDozierende: Moser [msd1]\nRäume: Jl
 co-T134\nCode: BZG3441i
X-ALT-DESC;FMTTYPE=text/html:Veranstaltung:  (BZG3441)<br>Dozierende: Moser
  [msd1]<br>Räume: Jlco-T134<br>Code: BZG3441i
DTSTAMP:20260424T213903Z
END:VEVENT
BEGIN:VEVENT
UID:69ebe2f77b69a
DTSTART:20221213T151500Z
SEQUENCE:0
TRANSP:OPAQUE
DTEND:20221213T165000Z
LOCATION:Quell-Q407
CLASS:PUBLIC
DESCRIPTION:Veranstaltung:  (BZG3441)\nDozierende: Pinheiro [psm2]\nRäume:
  Quell-Q407\nCode: BZG3441a
X-ALT-DESC;FMTTYPE=text/html:Veranstaltung:  (BZG3441)<br>Dozierende: Pinhe
 iro [psm2]<br>Räume: Quell-Q407<br>Code: BZG3441a
DTSTAMP:20260424T213903Z
END:VEVENT
BEGIN:VEVENT
UID:69ebe2f77b6ed
DTSTART:20221215T132500Z
SEQUENCE:0
TRANSP:OPAQUE
DTEND:20221215T150000Z
LOCATION:Jlco-T134
CLASS:PUBLIC
DESCRIPTION:Veranstaltung:  (BZG3441)\nDozierende: Moser [msd1]\nRäume: Jl
 co-T134\nCode: BZG3441i
X-ALT-DESC;FMTTYPE=text/html:Veranstaltung:  (BZG3441)<br>Dozierende: Moser
  [msd1]<br>Räume: Jlco-T134<br>Code: BZG3441i
DTSTAMP:20260424T213903Z
END:VEVENT
BEGIN:VEVENT
UID:69ebe2f77b734
DTSTART:20221220T151500Z
SEQUENCE:0
TRANSP:OPAQUE
DTEND:20221220T165000Z
LOCATION:Quell-Q407
CLASS:PUBLIC
DESCRIPTION:Veranstaltung:  (BZG3441)\nDozierende: Pinheiro [psm2]\nRäume:
  Quell-Q407\nCode: BZG3441a
X-ALT-DESC;FMTTYPE=text/html:Veranstaltung:  (BZG3441)<br>Dozierende: Pinhe
 iro [psm2]<br>Räume: Quell-Q407<br>Code: BZG3441a
DTSTAMP:20260424T213903Z
END:VEVENT
BEGIN:VEVENT
UID:69ebe2f77b77c
DTSTART:20221222T132500Z
SEQUENCE:0
TRANSP:OPAQUE
DTEND:20221222T150000Z
LOCATION:Jlco-T134
CLASS:PUBLIC
DESCRIPTION:Veranstaltung:  (BZG3441)\nDozierende: Moser [msd1]\nRäume: Jl
 co-T134\nCode: BZG3441i
X-ALT-DESC;FMTTYPE=text/html:Veranstaltung:  (BZG3441)<br>Dozierende: Moser
  [msd1]<br>Räume: Jlco-T134<br>Code: BZG3441i
DTSTAMP:20260424T213903Z
END:VEVENT
BEGIN:VEVENT
UID:69ebe2f77b7c3
DTSTART:20230110T151500Z
SEQUENCE:0
TRANSP:OPAQUE
DTEND:20230110T165000Z
LOCATION:Quell-Q407
CLASS:PUBLIC
DESCRIPTION:Veranstaltung:  (BZG3441)\nDozierende: Pinheiro [psm2]\nRäume:
  Quell-Q407\nCode: BZG3441a
X-ALT-DESC;FMTTYPE=text/html:Veranstaltung:  (BZG3441)<br>Dozierende: Pinhe
 iro [psm2]<br>Räume: Quell-Q407<br>Code: BZG3441a
DTSTAMP:20260424T213903Z
END:VEVENT
BEGIN:VEVENT
UID:69ebe2f77b80a
DTSTART:20230112T132500Z
SEQUENCE:0
TRANSP:OPAQUE
DTEND:20230112T150000Z
LOCATION:Jlco-T134
CLASS:PUBLIC
DESCRIPTION:Veranstaltung:  (BZG3441)\nDozierende: Moser [msd1]\nRäume: Jl
 co-T134\nCode: BZG3441i
X-ALT-DESC;FMTTYPE=text/html:Veranstaltung:  (BZG3441)<br>Dozierende: Moser
  [msd1]<br>Räume: Jlco-T134<br>Code: BZG3441i
DTSTAMP:20260424T213903Z
END:VEVENT
BEGIN:VEVENT
UID:69ebe2f77b852
DTSTART:20230117T151500Z
SEQUENCE:0
TRANSP:OPAQUE
DTEND:20230117T165000Z
LOCATION:Quell-Q407
CLASS:PUBLIC
DESCRIPTION:Veranstaltung:  (BZG3441)\nDozierende: Pinheiro [psm2]\nRäume:
  Quell-Q407\nCode: BZG3441a
X-ALT-DESC;FMTTYPE=text/html:Veranstaltung:  (BZG3441)<br>Dozierende: Pinhe
 iro [psm2]<br>Räume: Quell-Q407<br>Code: BZG3441a
DTSTAMP:20260424T213903Z
END:VEVENT
BEGIN:VEVENT
UID:69ebe2f77b89c
DTSTART:20230119T132500Z
SEQUENCE:0
TRANSP:OPAQUE
DTEND:20230119T150000Z
LOCATION:Jlco-T134
CLASS:PUBLIC
DESCRIPTION:Veranstaltung:  (BZG3441)\nDozierende: Moser [msd1]\nRäume: Jl
 co-T134\nCode: BZG3441i
X-ALT-DESC;FMTTYPE=text/html:Veranstaltung:  (BZG3441)<br>Dozierende: Moser
  [msd1]<br>Räume: Jlco-T134<br>Code: BZG3441i
DTSTAMP:20260424T213903Z
END:VEVENT
BEGIN:VEVENT
UID:69ebe2f77b8e5
DTSTART:20280910T220000Z
SEQUENCE:0
TRANSP:OPAQUE
DTEND:20280914T215959Z
LOCATION:CBB
SUMMARY:Allgemein
CLASS:PUBLIC
DESCRIPTION:Veranstaltung: Allgemein (Cleansing)\nDozierende:  []\nRäume: 
 CBB\nCode: Cleansing\nKommentar: Grundreinigung
X-ALT-DESC;FMTTYPE=text/html:Veranstaltung: Allgemein (Cleansing)<br>Dozier
 ende:  []<br>Räume: CBB<br>Code: Cleansing<br>Kommentar: Grundreinigung
DTSTAMP:20260424T213903Z
END:VEVENT
BEGIN:VEVENT
UID:69ebe2f77b937
DTSTART:20280919T141500Z
SEQUENCE:0
TRANSP:OPAQUE
DTEND:20280919T155000Z
LOCATION:CBB-X407
CLASS:PUBLIC
DESCRIPTION:Veranstaltung:  (BZG3441)\nDozierende: Pinheiro [psm2]\nRäume:
  CBB-X407\nCode: BZG3441a
X-ALT-DESC;FMTTYPE=text/html:Veranstaltung:  (BZG3441)<br>Dozierende: Pinhe
 iro [psm2]<br>Räume: CBB-X407<br>Code: BZG3441a
DTSTAMP:20260424T213903Z
END:VEVENT
BEGIN:VEVENT
UID:69ebe2f77b986
DTSTART:20280921T122500Z
SEQUENCE:0
TRANSP:OPAQUE
DTEND:20280921T140000Z
LOCATION:CBB-T134
CLASS:PUBLIC
DESCRIPTION:Veranstaltung:  (BZG3441)\nDozierende: Moser [msd1]\nRäume: CB
 B-T134\nCode: BZG3441i
X-ALT-DESC;FMTTYPE=text/html:Veranstaltung:  (BZG3441)<br>Dozierende: Moser
  [msd1]<br>Räume: CBB-T134<br>Code: BZG3441i
DTSTAMP:20260424T213903Z
END:VEVENT
END:VCALENDAR