BEGIN:VCALENDAR
VERSION:2.0
PRODID:www.bfh.ch
X-APPLE-CALENDAR-COLOR:Orange
X-OUTLOOK-COLOR:Orange
X-FUNAMBOL-COLOR:Orange
X-WR-CALNAME:Übersicht e_bum1
BEGIN:VEVENT
UID:69ec3501053a4
DTSTART:20260216T141500Z
SEQUENCE:0
TRANSP:OPAQUE
DTEND:20260216T160000Z
LOCATION:Sw48-002
SUMMARY:Bsc pfl 25 vz\, Perioperative Pflege\, VL: Einführung Chirurgie
CLASS:PUBLIC
DESCRIPTION:Veranstaltung: Bsc pfl 25 vz\, Perioperative Pflege\, VL: Einf
 ührung Chirurgie\nDozierende: Béguin [e_bum1]\nRäume: Sw48-002\nCode: B
 GN5221\nKommentar: VL: Einführung Chirurgie
X-ALT-DESC;FMTTYPE=text/html:Veranstaltung: Bsc pfl 25 vz\, Perioperative P
 flege\, VL: Einführung Chirurgie<br>Dozierende: Béguin [e_bum1]<br>Räum
 e: Sw48-002<br>Code: BGN5221<br>Kommentar: VL: Einführung Chirurgie
DTSTAMP:20260425T032905Z
END:VEVENT
END:VCALENDAR