BEGIN:VCALENDAR
VERSION:2.0
PRODID:www.bfh.ch
X-APPLE-CALENDAR-COLOR:Orange
X-OUTLOOK-COLOR:Orange
X-FUNAMBOL-COLOR:Orange
X-WR-CALNAME:Übersicht e_gug1
BEGIN:VEVENT
UID:69ec350095fc7
DTSTART:20260304T141500Z
SEQUENCE:0
TRANSP:OPAQUE
DTEND:20260304T160000Z
LOCATION:SPEN-A_256
SUMMARY:Bsc pfl 23 vz basel\, Qualitätsentwicklung und Projektmanagement\,
  VL: Nationale Qualitätsmessung und Indikatoren (ANQ)
CLASS:PUBLIC
DESCRIPTION:Veranstaltung: Bsc pfl 23 vz basel\, Qualitätsentwicklung und 
 Projektmanagement\, VL: Nationale Qualitätsmessung und Indikatoren (ANQ)\
 nDozierende: Garuffi [e_gug1]\nRäume: SPEN-A_256\nCode: BGN5662\nKommenta
 r: VL: Nationale Qualitätsmessung und Indikatoren (ANQ)
X-ALT-DESC;FMTTYPE=text/html:Veranstaltung: Bsc pfl 23 vz basel\, Qualität
 sentwicklung und Projektmanagement\, VL: Nationale Qualitätsmessung und I
 ndikatoren (ANQ)<br>Dozierende: Garuffi [e_gug1]<br>Räume: SPEN-A_256<br>
 Code: BGN5662<br>Kommentar: VL: Nationale Qualitätsmessung und Indikatore
 n (ANQ)
DTSTAMP:20260425T032904Z
END:VEVENT
END:VCALENDAR