BEGIN:VCALENDAR
VERSION:2.0
PRODID:www.bfh.ch
X-APPLE-CALENDAR-COLOR:Orange
X-OUTLOOK-COLOR:Orange
X-FUNAMBOL-COLOR:Orange
X-WR-CALNAME:Übersicht e_hlc1
BEGIN:VEVENT
UID:69ebd9d97edc0
DTSTART:20221128T121500Z
SEQUENCE:0
TRANSP:OPAQUE
DTEND:20221128T140000Z
LOCATION:Kl147-403
SUMMARY:Bsc pfl 21 vz basel\, Belastende Situationen\, VL: Sterbebegleitung
 \, Sinnfindung
CLASS:PUBLIC
DESCRIPTION:Veranstaltung: Bsc pfl 21 vz basel\, Belastende Situationen\, V
 L: Sterbebegleitung\, Sinnfindung\nDozierende: Hlawatsch [e_hlc1]\nRäume:
  Kl147-403\nKommentar: VL: Sterbebegleitung\, Sinnfindung
X-ALT-DESC;FMTTYPE=text/html:Veranstaltung: Bsc pfl 21 vz basel\, Belastend
 e Situationen\, VL: Sterbebegleitung\, Sinnfindung<br>Dozierende: Hlawatsc
 h [e_hlc1]<br>Räume: Kl147-403<br>Kommentar: VL: Sterbebegleitung\, Sinnf
 indung
DTSTAMP:20260424T210009Z
END:VEVENT
BEGIN:VEVENT
UID:69ebd9d97eebb
DTSTART:20221128T141500Z
SEQUENCE:0
TRANSP:OPAQUE
DTEND:20221128T160000Z
LOCATION:Ex-G-Veranstaltung
SUMMARY:Bsc pfl 21 vz basel\, Belastende Situationen\, SEM: Station f. Pall
 iative Care (Hospiz im Park\, Arlesheim)
CLASS:PUBLIC
DESCRIPTION:Veranstaltung: Bsc pfl 21 vz basel\, Belastende Situationen\, S
 EM: Station f. Palliative Care (Hospiz im Park\, Arlesheim)\nDozierende: H
 lawatsch [e_hlc1]\nRäume: Ex-G-Veranstaltung\nKommentar: SEM: Station f. 
 Palliative Care (Hospiz im Park\, Arlesheim)
X-ALT-DESC;FMTTYPE=text/html:Veranstaltung: Bsc pfl 21 vz basel\, Belastend
 e Situationen\, SEM: Station f. Palliative Care (Hospiz im Park\, Arleshei
 m)<br>Dozierende: Hlawatsch [e_hlc1]<br>Räume: Ex-G-Veranstaltung<br>Komm
 entar: SEM: Station f. Palliative Care (Hospiz im Park\, Arlesheim)
DTSTAMP:20260424T210009Z
END:VEVENT
BEGIN:VEVENT
UID:69ebd9d97eeeb
DTSTART:20221129T091500Z
SEQUENCE:0
TRANSP:OPAQUE
DTEND:20221129T110000Z
LOCATION:Kl147-317
SUMMARY:Bsc pfl 21 vz basel\, Belastende Situationen\, VL: Palliative Care
CLASS:PUBLIC
DESCRIPTION:Veranstaltung: Bsc pfl 21 vz basel\, Belastende Situationen\, V
 L: Palliative Care\nDozierende: Hlawatsch [e_hlc1]\nRäume: Kl147-317\nKom
 mentar: VL: Palliative Care
X-ALT-DESC;FMTTYPE=text/html:Veranstaltung: Bsc pfl 21 vz basel\, Belastend
 e Situationen\, VL: Palliative Care<br>Dozierende: Hlawatsch [e_hlc1]<br>R
 äume: Kl147-317<br>Kommentar: VL: Palliative Care
DTSTAMP:20260424T210009Z
END:VEVENT
BEGIN:VEVENT
UID:69ebd9d97ef13
DTSTART:20221201T101500Z
SEQUENCE:0
TRANSP:OPAQUE
DTEND:20221201T110000Z
LOCATION:Kl147-317
SUMMARY:Bsc pfl 21 vz basel\, Belastende Situationen\, EF: Sterbebegleitung
 \, Palliative Care
CLASS:PUBLIC
DESCRIPTION:Veranstaltung: Bsc pfl 21 vz basel\, Belastende Situationen\, E
 F: Sterbebegleitung\, Palliative Care\nDozierende: Hlawatsch [e_hlc1]\nRä
 ume: Kl147-317\nKommentar: EF: Sterbebegleitung\, Palliative Care
X-ALT-DESC;FMTTYPE=text/html:Veranstaltung: Bsc pfl 21 vz basel\, Belastend
 e Situationen\, EF: Sterbebegleitung\, Palliative Care<br>Dozierende: Hlaw
 atsch [e_hlc1]<br>Räume: Kl147-317<br>Kommentar: EF: Sterbebegleitung\, P
 alliative Care
DTSTAMP:20260424T210009Z
END:VEVENT
BEGIN:VEVENT
UID:69ebd9d97ef3a
DTSTART:20221201T131500Z
SEQUENCE:0
TRANSP:OPAQUE
DTEND:20221201T170000Z
LOCATION:Kl121-007
SUMMARY:Bsc pfl 21 vz basel\, Belastende Situationen\, SEM: Sterbe-/Trauerb
 egleitung (Erw. u. Kinder)
CLASS:PUBLIC
DESCRIPTION:Veranstaltung: Bsc pfl 21 vz basel\, Belastende Situationen\, S
 EM: Sterbe-/Trauerbegleitung (Erw. u. Kinder)\nDozierende: Hlawatsch [e_hl
 c1]\nRäume: Kl121-007\nKommentar: SEM: Sterbe-/Trauerbegleitung (Erw. u. 
 Kinder)
X-ALT-DESC;FMTTYPE=text/html:Veranstaltung: Bsc pfl 21 vz basel\, Belastend
 e Situationen\, SEM: Sterbe-/Trauerbegleitung (Erw. u. Kinder)<br>Dozieren
 de: Hlawatsch [e_hlc1]<br>Räume: Kl121-007<br>Kommentar: SEM: Sterbe-/Tra
 uerbegleitung (Erw. u. Kinder)
DTSTAMP:20260424T210009Z
END:VEVENT
END:VCALENDAR