BEGIN:VCALENDAR
VERSION:2.0
PRODID:www.bfh.ch
X-APPLE-CALENDAR-COLOR:Orange
X-OUTLOOK-COLOR:Orange
X-FUNAMBOL-COLOR:Orange
X-WR-CALNAME:Übersicht e_kcr1
BEGIN:VEVENT
UID:69ebe149f38f7
DTSTART:20221121T121500Z
SEQUENCE:0
TRANSP:OPAQUE
DTEND:20221121T140000Z
LOCATION:Sw48-002
SUMMARY:Bsc pfl 21 bb\, Qualitätsentwicklung\, PBL6: Schritt 7 (Podiumsdis
 kussion)
CLASS:PUBLIC
DESCRIPTION:Veranstaltung: Bsc pfl 21 bb\, Qualitätsentwicklung\, PBL6: Sc
 hritt 7 (Podiumsdiskussion)\nDozierende: Bachofner [bne3]\, Hänsenberger 
 [e_hns1]\, Koch [e_kcr1]\, Küng [kuk2]\, Schlunegger [sgm1]\nRäume: Sw48
 -002\nKommentar: PBL6: Schritt 7 (Podiumsdiskussion)
X-ALT-DESC;FMTTYPE=text/html:Veranstaltung: Bsc pfl 21 bb\, Qualitätsentwi
 cklung\, PBL6: Schritt 7 (Podiumsdiskussion)<br>Dozierende: Bachofner [bne
 3]\, Hänsenberger [e_hns1]\, Koch [e_kcr1]\, Küng [kuk2]\, Schlunegger [
 sgm1]<br>Räume: Sw48-002<br>Kommentar: PBL6: Schritt 7 (Podiumsdiskussion
 )
DTSTAMP:20260424T213153Z
END:VEVENT
END:VCALENDAR