BEGIN:VCALENDAR
VERSION:2.0
PRODID:www.bfh.ch
X-APPLE-CALENDAR-COLOR:Orange
X-OUTLOOK-COLOR:Orange
X-FUNAMBOL-COLOR:Orange
X-WR-CALNAME:Übersicht e_pfc1
BEGIN:VEVENT
UID:69ec34ffd28a5
DTSTART:20260320T091500Z
SEQUENCE:0
TRANSP:OPAQUE
DTEND:20260320T100000Z
LOCATION:Sw48-304
SUMMARY:Bsc pfl 25 vz\, Perioperative Pflege\, EF\, Gr. 1-3: Gynäkologie
CLASS:PUBLIC
DESCRIPTION:Veranstaltung: Bsc pfl 25 vz\, Perioperative Pflege\, EF\, Gr. 
 1-3: Gynäkologie\nDozierende: Pfäffli [e_pfc1]\nRäume: Sw48-304\nCode: 
 BGN5221\nKommentar: EF\, Gr. 1-3: Gynäkologie
X-ALT-DESC;FMTTYPE=text/html:Veranstaltung: Bsc pfl 25 vz\, Perioperative P
 flege\, EF\, Gr. 1-3: Gynäkologie<br>Dozierende: Pfäffli [e_pfc1]<br>Rä
 ume: Sw48-304<br>Code: BGN5221<br>Kommentar: EF\, Gr. 1-3: Gynäkologie
DTSTAMP:20260425T032903Z
END:VEVENT
BEGIN:VEVENT
UID:69ec34ffd2a7a
DTSTART:20260320T101500Z
SEQUENCE:0
TRANSP:OPAQUE
DTEND:20260320T110000Z
LOCATION:Sw48-304
SUMMARY:Bsc pfl 25 vz\, Perioperative Pflege\, EF\, Gr. 4-6: Gynäkologie
CLASS:PUBLIC
DESCRIPTION:Veranstaltung: Bsc pfl 25 vz\, Perioperative Pflege\, EF\, Gr. 
 4-6: Gynäkologie\nDozierende: Pfäffli [e_pfc1]\nRäume: Sw48-304\nCode: 
 BGN5221\nKommentar: EF\, Gr. 4-6: Gynäkologie
X-ALT-DESC;FMTTYPE=text/html:Veranstaltung: Bsc pfl 25 vz\, Perioperative P
 flege\, EF\, Gr. 4-6: Gynäkologie<br>Dozierende: Pfäffli [e_pfc1]<br>Rä
 ume: Sw48-304<br>Code: BGN5221<br>Kommentar: EF\, Gr. 4-6: Gynäkologie
DTSTAMP:20260425T032903Z
END:VEVENT
END:VCALENDAR