BEGIN:VCALENDAR
VERSION:2.0
PRODID:www.bfh.ch
X-APPLE-CALENDAR-COLOR:Orange
X-OUTLOOK-COLOR:Orange
X-FUNAMBOL-COLOR:Orange
X-WR-CALNAME:Übersicht e_prn1
BEGIN:VEVENT
UID:69ec35004b67f
DTSTART:20221222T071500Z
SEQUENCE:0
TRANSP:OPAQUE
DTEND:20221222T110000Z
LOCATION:Mu10-PFL-Skills
SUMMARY:Bsc pfl 22 vz\, Notfallsituationen\, SKT\, Gr. B: Inhalation Kinder
 /Erwachsene
CLASS:PUBLIC
DESCRIPTION:Veranstaltung: Bsc pfl 22 vz\, Notfallsituationen\, SKT\, Gr. B
 : Inhalation Kinder/Erwachsene\nDozierende: Baumgartner [bne5]\, Arnemann-
 Zimmermann [e_arr1]\, Prétat [e_prn1]\, Rapphold [rob4]\nRäume: Mu10-PFL
 -Skills\nKommentar: SKT\, Gr. B: Inhalation Kinder/Erwachsene
X-ALT-DESC;FMTTYPE=text/html:Veranstaltung: Bsc pfl 22 vz\, Notfallsituatio
 nen\, SKT\, Gr. B: Inhalation Kinder/Erwachsene<br>Dozierende: Baumgartner
  [bne5]\, Arnemann-Zimmermann [e_arr1]\, Prétat [e_prn1]\, Rapphold [rob4
 ]<br>Räume: Mu10-PFL-Skills<br>Kommentar: SKT\, Gr. B: Inhalation Kinder/
 Erwachsene
DTSTAMP:20260425T032904Z
END:VEVENT
BEGIN:VEVENT
UID:69ec35004b735
DTSTART:20221222T121500Z
SEQUENCE:0
TRANSP:OPAQUE
DTEND:20221222T160000Z
LOCATION:Mu10-PFL-Skills
SUMMARY:Bsc pfl 22 vz\, Notfallsituationen\, SKT\, Gr. A: Inhalation\, Kind
 er/Erwachsene
CLASS:PUBLIC
DESCRIPTION:Veranstaltung: Bsc pfl 22 vz\, Notfallsituationen\, SKT\, Gr. A
 : Inhalation\, Kinder/Erwachsene\nDozierende: Baumgartner [bne5]\, Arneman
 n-Zimmermann [e_arr1]\, Prétat [e_prn1]\, Rapphold [rob4]\nRäume: Mu10-P
 FL-Skills\nKommentar: SKT\, Gr. A: Inhalation\, Kinder/Erwachsene
X-ALT-DESC;FMTTYPE=text/html:Veranstaltung: Bsc pfl 22 vz\, Notfallsituatio
 nen\, SKT\, Gr. A: Inhalation\, Kinder/Erwachsene<br>Dozierende: Baumgartn
 er [bne5]\, Arnemann-Zimmermann [e_arr1]\, Prétat [e_prn1]\, Rapphold [ro
 b4]<br>Räume: Mu10-PFL-Skills<br>Kommentar: SKT\, Gr. A: Inhalation\, Kin
 der/Erwachsene
DTSTAMP:20260425T032904Z
END:VEVENT
END:VCALENDAR