BEGIN:VCALENDAR
VERSION:2.0
PRODID:www.bfh.ch
X-APPLE-CALENDAR-COLOR:Orange
X-OUTLOOK-COLOR:Orange
X-FUNAMBOL-COLOR:Orange
X-WR-CALNAME:Übersicht pga2
BEGIN:VEVENT
UID:69ebe14c602b0
DTSTART:20221019T104500Z
SEQUENCE:0
TRANSP:OPAQUE
DTEND:20221019T140000Z
LOCATION:Quell-Q208
SUMMARY:V2a\;V2b\, 
CLASS:PUBLIC
DESCRIPTION:Veranstaltung: V2a\;V2b\,  (BTV3560)\nDozierende: Pages [pga2]\
 nRäume: Quell-Q208\nCode: BTV3560z\nKommentar: classes V2A et V2B regroup
 ée pour cause d'effectif insuffisant
X-ALT-DESC;FMTTYPE=text/html:Veranstaltung: V2a\;V2b\,  (BTV3560)<br>Dozier
 ende: Pages [pga2]<br>Räume: Quell-Q208<br>Code: BTV3560z<br>Kommentar: c
 lasses V2A et V2B regroupée pour cause d'effectif insuffisant
DTSTAMP:20260424T213156Z
END:VEVENT
BEGIN:VEVENT
UID:69ebe14c60380
DTSTART:20221026T104500Z
SEQUENCE:0
TRANSP:OPAQUE
DTEND:20221026T140000Z
LOCATION:Quell-Q208
SUMMARY:V2a\;V2b\, 
CLASS:PUBLIC
DESCRIPTION:Veranstaltung: V2a\;V2b\,  (BTV3560)\nDozierende: Pages [pga2]\
 nRäume: Quell-Q208\nCode: BTV3560z\nKommentar: classes V2A et V2B regroup
 ée pour cause d'effectif insuffisant
X-ALT-DESC;FMTTYPE=text/html:Veranstaltung: V2a\;V2b\,  (BTV3560)<br>Dozier
 ende: Pages [pga2]<br>Räume: Quell-Q208<br>Code: BTV3560z<br>Kommentar: c
 lasses V2A et V2B regroupée pour cause d'effectif insuffisant
DTSTAMP:20260424T213156Z
END:VEVENT
BEGIN:VEVENT
UID:69ebe14c603b2
DTSTART:20221102T114500Z
SEQUENCE:0
TRANSP:OPAQUE
DTEND:20221102T150000Z
LOCATION:Quell-Q208
SUMMARY:V2a\;V2b\, 
CLASS:PUBLIC
DESCRIPTION:Veranstaltung: V2a\;V2b\,  (BTV3560)\nDozierende: Pages [pga2]\
 nRäume: Quell-Q208\nCode: BTV3560z\nKommentar: classes V2A et V2B regroup
 ée pour cause d'effectif insuffisant
X-ALT-DESC;FMTTYPE=text/html:Veranstaltung: V2a\;V2b\,  (BTV3560)<br>Dozier
 ende: Pages [pga2]<br>Räume: Quell-Q208<br>Code: BTV3560z<br>Kommentar: c
 lasses V2A et V2B regroupée pour cause d'effectif insuffisant
DTSTAMP:20260424T213156Z
END:VEVENT
BEGIN:VEVENT
UID:69ebe14c603da
DTSTART:20221109T114500Z
SEQUENCE:0
TRANSP:OPAQUE
DTEND:20221109T150000Z
LOCATION:Quell-Q208
SUMMARY:V2a\;V2b\, 
CLASS:PUBLIC
DESCRIPTION:Veranstaltung: V2a\;V2b\,  (BTV3560)\nDozierende: Pages [pga2]\
 nRäume: Quell-Q208\nCode: BTV3560z\nKommentar: classes V2A et V2B regroup
 ée pour cause d'effectif insuffisant
X-ALT-DESC;FMTTYPE=text/html:Veranstaltung: V2a\;V2b\,  (BTV3560)<br>Dozier
 ende: Pages [pga2]<br>Räume: Quell-Q208<br>Code: BTV3560z<br>Kommentar: c
 lasses V2A et V2B regroupée pour cause d'effectif insuffisant
DTSTAMP:20260424T213156Z
END:VEVENT
END:VCALENDAR