BEGIN:VCALENDAR
VERSION:2.0
PRODID:www.bfh.ch
X-APPLE-CALENDAR-COLOR:Orange
X-OUTLOOK-COLOR:Orange
X-FUNAMBOL-COLOR:Orange
X-WR-CALNAME:Übersicht srt1
BEGIN:VEVENT
UID:69ec371b54727
DTSTART:20221004T111500Z
SEQUENCE:0
TRANSP:OPAQUE
DTEND:20221004T130000Z
LOCATION:Sw48-511
SUMMARY:Bsc pfl 22 bb\, Professionelle Pflege\, VL: Interprofessionalität
CLASS:PUBLIC
DESCRIPTION:Veranstaltung: Bsc pfl 22 bb\, Professionelle Pflege\, VL: Inte
 rprofessionalität\nDozierende: Scherer [srt1]\nRäume: Sw48-511\nKommenta
 r: VL: Interprofessionalität
X-ALT-DESC;FMTTYPE=text/html:Veranstaltung: Bsc pfl 22 bb\, Professionelle 
 Pflege\, VL: Interprofessionalität<br>Dozierende: Scherer [srt1]<br>Räum
 e: Sw48-511<br>Kommentar: VL: Interprofessionalität
DTSTAMP:20260425T033803Z
END:VEVENT
BEGIN:VEVENT
UID:69ec371b547ef
DTSTART:20221011T121500Z
SEQUENCE:0
TRANSP:OPAQUE
DTEND:20221011T140000Z
SUMMARY:Bsc pfl 22 vz basel\, Allgemeine Veranstaltung\, SEM: Schweigepflic
 ht (separate Planung)
CLASS:PUBLIC
DESCRIPTION:Veranstaltung: Bsc pfl 22 vz basel\, Allgemeine Veranstaltung\,
  SEM: Schweigepflicht (separate Planung)\nDozierende: Scherer [srt1]\nRäu
 me: \nKommentar: SEM: Schweigepflicht (separate Planung)
X-ALT-DESC;FMTTYPE=text/html:Veranstaltung: Bsc pfl 22 vz basel\, Allgemein
 e Veranstaltung\, SEM: Schweigepflicht (separate Planung)<br>Dozierende: S
 cherer [srt1]<br>Räume: <br>Kommentar: SEM: Schweigepflicht (separate Pla
 nung)
DTSTAMP:20260425T033803Z
END:VEVENT
BEGIN:VEVENT
UID:69ec371b54821
DTSTART:20221011T141500Z
SEQUENCE:0
TRANSP:OPAQUE
DTEND:20221011T160000Z
SUMMARY:Bsc pfl 22 vz basel\, Allgemeine Veranstaltung\, SEM: Schweigepflic
 ht (separate Planung)
CLASS:PUBLIC
DESCRIPTION:Veranstaltung: Bsc pfl 22 vz basel\, Allgemeine Veranstaltung\,
  SEM: Schweigepflicht (separate Planung)\nDozierende: Scherer [srt1]\nRäu
 me: \nKommentar: SEM: Schweigepflicht (separate Planung)
X-ALT-DESC;FMTTYPE=text/html:Veranstaltung: Bsc pfl 22 vz basel\, Allgemein
 e Veranstaltung\, SEM: Schweigepflicht (separate Planung)<br>Dozierende: S
 cherer [srt1]<br>Räume: <br>Kommentar: SEM: Schweigepflicht (separate Pla
 nung)
DTSTAMP:20260425T033803Z
END:VEVENT
BEGIN:VEVENT
UID:69ec371b5484a
DTSTART:20221013T081500Z
SEQUENCE:0
TRANSP:OPAQUE
DTEND:20221013T090000Z
LOCATION:Sw48-410
SUMMARY:Bsc pfl 22 bb\, Professionelle Pflege\, EF: Interprofessionalität
CLASS:PUBLIC
DESCRIPTION:Veranstaltung: Bsc pfl 22 bb\, Professionelle Pflege\, EF: Inte
 rprofessionalität\nDozierende: Scherer [srt1]\nRäume: Sw48-410\nKommenta
 r: EF: Interprofessionalität
X-ALT-DESC;FMTTYPE=text/html:Veranstaltung: Bsc pfl 22 bb\, Professionelle 
 Pflege\, EF: Interprofessionalität<br>Dozierende: Scherer [srt1]<br>Räum
 e: Sw48-410<br>Kommentar: EF: Interprofessionalität
DTSTAMP:20260425T033803Z
END:VEVENT
BEGIN:VEVENT
UID:69ec371b54873
DTSTART:20230227T121500Z
SEQUENCE:0
TRANSP:OPAQUE
DTEND:20230227T140000Z
LOCATION:Sw48-308
SUMMARY:Bsc pfl 19 tz\, Gesundheitspolitik und Interprofessionalität\, VL:
  Interprofessionalität
CLASS:PUBLIC
DESCRIPTION:Veranstaltung: Bsc pfl 19 tz\, Gesundheitspolitik und Interprof
 essionalität\, VL: Interprofessionalität\nDozierende: Scherer [srt1]\, Z
 augg [zub1]\nRäume: Sw48-308\nKommentar: VL: Interprofessionalität
X-ALT-DESC;FMTTYPE=text/html:Veranstaltung: Bsc pfl 19 tz\, Gesundheitspoli
 tik und Interprofessionalität\, VL: Interprofessionalität<br>Dozierende:
  Scherer [srt1]\, Zaugg [zub1]<br>Räume: Sw48-308<br>Kommentar: VL: Inter
 professionalität
DTSTAMP:20260425T033803Z
END:VEVENT
BEGIN:VEVENT
UID:69ec371b5489d
DTSTART:20230303T121500Z
SEQUENCE:0
TRANSP:OPAQUE
DTEND:20230303T160000Z
LOCATION:Mu10-326-329
SUMMARY:Bsc pfl 19 tz\, Gesundheitspolitik und Interprofessionalität\, SEM
 : Interprofessionalität
CLASS:PUBLIC
DESCRIPTION:Veranstaltung: Bsc pfl 19 tz\, Gesundheitspolitik und Interprof
 essionalität\, SEM: Interprofessionalität\nDozierende: Scherer [srt1]\, 
 Zaugg [zub1]\nRäume: Mu10-326-329\nKommentar: SEM: Interprofessionalität
X-ALT-DESC;FMTTYPE=text/html:Veranstaltung: Bsc pfl 19 tz\, Gesundheitspoli
 tik und Interprofessionalität\, SEM: Interprofessionalität<br>Dozierende
 : Scherer [srt1]\, Zaugg [zub1]<br>Räume: Mu10-326-329<br>Kommentar: SEM:
  Interprofessionalität
DTSTAMP:20260425T033803Z
END:VEVENT
BEGIN:VEVENT
UID:69ec371b548c6
DTSTART:20230608T131500Z
SEQUENCE:0
TRANSP:OPAQUE
DTEND:20230608T150000Z
LOCATION:Sw48-405
SUMMARY:Bsc pfl 20 tz\, Gesundheitspolitik und Interprofessionalität\, VL:
  Interprofessionalität
CLASS:PUBLIC
DESCRIPTION:Veranstaltung: Bsc pfl 20 tz\, Gesundheitspolitik und Interprof
 essionalität\, VL: Interprofessionalität\nDozierende: Scherer [e_srt1]\,
  Turnherr [thk1]\nRäume: Sw48-405\nKommentar: VL: Interprofessionalität
X-ALT-DESC;FMTTYPE=text/html:Veranstaltung: Bsc pfl 20 tz\, Gesundheitspoli
 tik und Interprofessionalität\, VL: Interprofessionalität<br>Dozierende:
  Scherer [e_srt1]\, Turnherr [thk1]<br>Räume: Sw48-405<br>Kommentar: VL: 
 Interprofessionalität
DTSTAMP:20260425T033803Z
END:VEVENT
BEGIN:VEVENT
UID:69ec371b548ef
DTSTART:20230616T061500Z
SEQUENCE:0
TRANSP:OPAQUE
DTEND:20230616T100000Z
LOCATION:Sw48-306
SUMMARY:Bsc pfl 20 tz\, Gesundheitspolitik und Interprofessionalität\, SEM
 : Interprofessionalität
CLASS:PUBLIC
DESCRIPTION:Veranstaltung: Bsc pfl 20 tz\, Gesundheitspolitik und Interprof
 essionalität\, SEM: Interprofessionalität\nDozierende: Scherer [e_srt1]\
 , Turnherr [thk1]\, Zaugg [zub1]\nRäume: Sw48-306\nKommentar: SEM: Interp
 rofessionalität
X-ALT-DESC;FMTTYPE=text/html:Veranstaltung: Bsc pfl 20 tz\, Gesundheitspoli
 tik und Interprofessionalität\, SEM: Interprofessionalität<br>Dozierende
 : Scherer [e_srt1]\, Turnherr [thk1]\, Zaugg [zub1]<br>Räume: Sw48-306<br
 >Kommentar: SEM: Interprofessionalität
DTSTAMP:20260425T033803Z
END:VEVENT
BEGIN:VEVENT
UID:69ec371b54919
DTSTART:20231003T111500Z
SEQUENCE:0
TRANSP:OPAQUE
DTEND:20231003T130000Z
LOCATION:Sw48-511
SUMMARY:Bsc pfl 23 bb\, Professionelle Pflege\, VL: Interprofessionalität
CLASS:PUBLIC
DESCRIPTION:Veranstaltung: Bsc pfl 23 bb\, Professionelle Pflege\, VL: Inte
 rprofessionalität\nDozierende: Scherer [e_srt1]\nRäume: Sw48-511\nCode: 
 BGN6111\nKommentar: VL: Interprofessionalität
X-ALT-DESC;FMTTYPE=text/html:Veranstaltung: Bsc pfl 23 bb\, Professionelle 
 Pflege\, VL: Interprofessionalität<br>Dozierende: Scherer [e_srt1]<br>Rä
 ume: Sw48-511<br>Code: BGN6111<br>Kommentar: VL: Interprofessionalität
DTSTAMP:20260425T033803Z
END:VEVENT
BEGIN:VEVENT
UID:69ec371b54943
DTSTART:20231012T081500Z
SEQUENCE:0
TRANSP:OPAQUE
DTEND:20231012T090000Z
LOCATION:Sw48-410
SUMMARY:Bsc pfl 23 bb\, Professionelle Pflege\, EF: Interprofessionalität
CLASS:PUBLIC
DESCRIPTION:Veranstaltung: Bsc pfl 23 bb\, Professionelle Pflege\, EF: Inte
 rprofessionalität\nDozierende: Scherer [e_srt1]\nRäume: Sw48-410\nCode: 
 BGN6111\nKommentar: EF: Interprofessionalität
X-ALT-DESC;FMTTYPE=text/html:Veranstaltung: Bsc pfl 23 bb\, Professionelle 
 Pflege\, EF: Interprofessionalität<br>Dozierende: Scherer [e_srt1]<br>Rä
 ume: Sw48-410<br>Code: BGN6111<br>Kommentar: EF: Interprofessionalität
DTSTAMP:20260425T033803Z
END:VEVENT
BEGIN:VEVENT
UID:69ec371b5496f
DTSTART:20240607T061500Z
SEQUENCE:0
TRANSP:OPAQUE
DTEND:20240607T080000Z
LOCATION:Sw48-405
SUMMARY:Bsc pfl 21 tz\, Gesundheitspolitik und Interprofessionalität\, VL:
  Interprofessionalität
CLASS:PUBLIC
DESCRIPTION:Veranstaltung: Bsc pfl 21 tz\, Gesundheitspolitik und Interprof
 essionalität\, VL: Interprofessionalität\nDozierende: Scherer [e_srt1]\,
  Thurnheer [tek1]\nRäume: Sw48-405\nCode: BGN7663\nKommentar: VL: Interpr
 ofessionalität
X-ALT-DESC;FMTTYPE=text/html:Veranstaltung: Bsc pfl 21 tz\, Gesundheitspoli
 tik und Interprofessionalität\, VL: Interprofessionalität<br>Dozierende:
  Scherer [e_srt1]\, Thurnheer [tek1]<br>Räume: Sw48-405<br>Code: BGN7663<
 br>Kommentar: VL: Interprofessionalität
DTSTAMP:20260425T033803Z
END:VEVENT
BEGIN:VEVENT
UID:69ec371b5499b
DTSTART:20240613T111500Z
SEQUENCE:0
TRANSP:OPAQUE
DTEND:20240613T150000Z
LOCATION:Sw48-310
SUMMARY:Bsc pfl 21 tz\, Gesundheitspolitik und Interprofessionalität\, SEM
 : Interprofessionalität
CLASS:PUBLIC
DESCRIPTION:Veranstaltung: Bsc pfl 21 tz\, Gesundheitspolitik und Interprof
 essionalität\, SEM: Interprofessionalität\nDozierende: Scherer [e_srt1]\
 , Thurnheer [tek1]\nRäume: Sw48-310\nCode: BGN7663\nKommentar: SEM: Inter
 professionalität
X-ALT-DESC;FMTTYPE=text/html:Veranstaltung: Bsc pfl 21 tz\, Gesundheitspoli
 tik und Interprofessionalität\, SEM: Interprofessionalität<br>Dozierende
 : Scherer [e_srt1]\, Thurnheer [tek1]<br>Räume: Sw48-310<br>Code: BGN7663
 <br>Kommentar: SEM: Interprofessionalität
DTSTAMP:20260425T033803Z
END:VEVENT
BEGIN:VEVENT
UID:69ec371b549c6
DTSTART:20250612T111500Z
SEQUENCE:0
TRANSP:OPAQUE
DTEND:20250612T150000Z
LOCATION:Sw48-405
SUMMARY:Bsc pfl 22 tz\, Gesundheitspolitik und Interprofessionalität\, SEM
 : Interprofessionalität
CLASS:PUBLIC
DESCRIPTION:Veranstaltung: Bsc pfl 22 tz\, Gesundheitspolitik und Interprof
 essionalität\, SEM: Interprofessionalität\nDozierende: Scherer [e_srt1]\
 , Thurnheer [tek1]\nRäume: Sw48-405\nCode: BGN7663\nKommentar: SEM: Inter
 professionalität
X-ALT-DESC;FMTTYPE=text/html:Veranstaltung: Bsc pfl 22 tz\, Gesundheitspoli
 tik und Interprofessionalität\, SEM: Interprofessionalität<br>Dozierende
 : Scherer [e_srt1]\, Thurnheer [tek1]<br>Räume: Sw48-405<br>Code: BGN7663
 <br>Kommentar: SEM: Interprofessionalität
DTSTAMP:20260425T033803Z
END:VEVENT
BEGIN:VEVENT
UID:69ec371b54a14
DTSTART:20260611T111500Z
SEQUENCE:0
TRANSP:OPAQUE
DTEND:20260611T150000Z
LOCATION:Sw48-408
SUMMARY:Bsc pfl 23 tz\, Gesundheitspolitik und Interprofessionalität\, SEM
 : Interprofessionalität
CLASS:PUBLIC
DESCRIPTION:Veranstaltung: Bsc pfl 23 tz\, Gesundheitspolitik und Interprof
 essionalität\, SEM: Interprofessionalität\nDozierende: Scherer [e_srt1]\
 , Thurnheer [i_tek1]\nRäume: Sw48-408\nCode: BGN7663\nKommentar: SEM: Int
 erprofessionalität
X-ALT-DESC;FMTTYPE=text/html:Veranstaltung: Bsc pfl 23 tz\, Gesundheitspoli
 tik und Interprofessionalität\, SEM: Interprofessionalität<br>Dozierende
 : Scherer [e_srt1]\, Thurnheer [i_tek1]<br>Räume: Sw48-408<br>Code: BGN76
 63<br>Kommentar: SEM: Interprofessionalität
DTSTAMP:20260425T033803Z
END:VEVENT
END:VCALENDAR