BEGIN:VCALENDAR
VERSION:2.0
PRODID:www.bfh.ch
X-APPLE-CALENDAR-COLOR:Orange
X-OUTLOOK-COLOR:Orange
X-FUNAMBOL-COLOR:Orange
X-WR-CALNAME:Übersicht sub1
BEGIN:VEVENT
UID:69ec2f498c7ae
DTSTART:20210921T104500Z
SEQUENCE:0
TRANSP:OPAQUE
DTEND:20210921T122000Z
LOCATION:Q306
SUMMARY:F2b\, Strukturmechanik 2
CLASS:PUBLIC
DESCRIPTION:Veranstaltung: F2b\, Strukturmechanik 2 (BTF3240)\nDozierende: 
 Schmutz [sub1]\nRäume: Q306\nCode: BTF3240b
X-ALT-DESC;FMTTYPE=text/html:Veranstaltung: F2b\, Strukturmechanik 2 (BTF32
 40)<br>Dozierende: Schmutz [sub1]<br>Räume: Q306<br>Code: BTF3240b
DTSTAMP:20260425T030441Z
END:VEVENT
BEGIN:VEVENT
UID:69ec2f498c88b
DTSTART:20210923T062000Z
SEQUENCE:0
TRANSP:OPAQUE
DTEND:20210923T075500Z
LOCATION:Q306
SUMMARY:F2b\, Strukturmechanik 2
CLASS:PUBLIC
DESCRIPTION:Veranstaltung: F2b\, Strukturmechanik 2 (BTF3240)\nDozierende: 
 Schmutz [sub1]\nRäume: Q306\nCode: BTF3240b
X-ALT-DESC;FMTTYPE=text/html:Veranstaltung: F2b\, Strukturmechanik 2 (BTF32
 40)<br>Dozierende: Schmutz [sub1]<br>Räume: Q306<br>Code: BTF3240b
DTSTAMP:20260425T030441Z
END:VEVENT
BEGIN:VEVENT
UID:69ec2f498c8bf
DTSTART:20210928T104500Z
SEQUENCE:0
TRANSP:OPAQUE
DTEND:20210928T122000Z
LOCATION:Q306
SUMMARY:F2b\, Strukturmechanik 2
CLASS:PUBLIC
DESCRIPTION:Veranstaltung: F2b\, Strukturmechanik 2 (BTF3240)\nDozierende: 
 Schmutz [sub1]\nRäume: Q306\nCode: BTF3240b
X-ALT-DESC;FMTTYPE=text/html:Veranstaltung: F2b\, Strukturmechanik 2 (BTF32
 40)<br>Dozierende: Schmutz [sub1]<br>Räume: Q306<br>Code: BTF3240b
DTSTAMP:20260425T030441Z
END:VEVENT
BEGIN:VEVENT
UID:69ec2f498c8ea
DTSTART:20210930T062000Z
SEQUENCE:0
TRANSP:OPAQUE
DTEND:20210930T075500Z
LOCATION:Q306
SUMMARY:F2b\, Strukturmechanik 2
CLASS:PUBLIC
DESCRIPTION:Veranstaltung: F2b\, Strukturmechanik 2 (BTF3240)\nDozierende: 
 Schmutz [sub1]\nRäume: Q306\nCode: BTF3240b
X-ALT-DESC;FMTTYPE=text/html:Veranstaltung: F2b\, Strukturmechanik 2 (BTF32
 40)<br>Dozierende: Schmutz [sub1]<br>Räume: Q306<br>Code: BTF3240b
DTSTAMP:20260425T030441Z
END:VEVENT
BEGIN:VEVENT
UID:69ec2f498c914
DTSTART:20211005T104500Z
SEQUENCE:0
TRANSP:OPAQUE
DTEND:20211005T122000Z
LOCATION:Q306
SUMMARY:F2b\, Strukturmechanik 2
CLASS:PUBLIC
DESCRIPTION:Veranstaltung: F2b\, Strukturmechanik 2 (BTF3240)\nDozierende: 
 Schmutz [sub1]\nRäume: Q306\nCode: BTF3240b
X-ALT-DESC;FMTTYPE=text/html:Veranstaltung: F2b\, Strukturmechanik 2 (BTF32
 40)<br>Dozierende: Schmutz [sub1]<br>Räume: Q306<br>Code: BTF3240b
DTSTAMP:20260425T030441Z
END:VEVENT
BEGIN:VEVENT
UID:69ec2f498c93f
DTSTART:20211007T062000Z
SEQUENCE:0
TRANSP:OPAQUE
DTEND:20211007T075500Z
LOCATION:Q306
SUMMARY:F2b\, Strukturmechanik 2
CLASS:PUBLIC
DESCRIPTION:Veranstaltung: F2b\, Strukturmechanik 2 (BTF3240)\nDozierende: 
 Schmutz [sub1]\nRäume: Q306\nCode: BTF3240b
X-ALT-DESC;FMTTYPE=text/html:Veranstaltung: F2b\, Strukturmechanik 2 (BTF32
 40)<br>Dozierende: Schmutz [sub1]<br>Räume: Q306<br>Code: BTF3240b
DTSTAMP:20260425T030441Z
END:VEVENT
BEGIN:VEVENT
UID:69ec2f498c968
DTSTART:20211012T104500Z
SEQUENCE:0
TRANSP:OPAQUE
DTEND:20211012T122000Z
LOCATION:Q306
SUMMARY:F2b\, Strukturmechanik 2
CLASS:PUBLIC
DESCRIPTION:Veranstaltung: F2b\, Strukturmechanik 2 (BTF3240)\nDozierende: 
 Schmutz [sub1]\nRäume: Q306\nCode: BTF3240b
X-ALT-DESC;FMTTYPE=text/html:Veranstaltung: F2b\, Strukturmechanik 2 (BTF32
 40)<br>Dozierende: Schmutz [sub1]<br>Räume: Q306<br>Code: BTF3240b
DTSTAMP:20260425T030441Z
END:VEVENT
BEGIN:VEVENT
UID:69ec2f498c991
DTSTART:20211014T062000Z
SEQUENCE:0
TRANSP:OPAQUE
DTEND:20211014T075500Z
LOCATION:Q306
SUMMARY:F2b\, Strukturmechanik 2
CLASS:PUBLIC
DESCRIPTION:Veranstaltung: F2b\, Strukturmechanik 2 (BTF3240)\nDozierende: 
 Schmutz [sub1]\nRäume: Q306\nCode: BTF3240b
X-ALT-DESC;FMTTYPE=text/html:Veranstaltung: F2b\, Strukturmechanik 2 (BTF32
 40)<br>Dozierende: Schmutz [sub1]<br>Räume: Q306<br>Code: BTF3240b
DTSTAMP:20260425T030441Z
END:VEVENT
BEGIN:VEVENT
UID:69ec2f498c9b9
DTSTART:20211019T104500Z
SEQUENCE:0
TRANSP:OPAQUE
DTEND:20211019T122000Z
LOCATION:Q306
SUMMARY:F2b\, Strukturmechanik 2
CLASS:PUBLIC
DESCRIPTION:Veranstaltung: F2b\, Strukturmechanik 2 (BTF3240)\nDozierende: 
 Schmutz [sub1]\nRäume: Q306\nCode: BTF3240b
X-ALT-DESC;FMTTYPE=text/html:Veranstaltung: F2b\, Strukturmechanik 2 (BTF32
 40)<br>Dozierende: Schmutz [sub1]<br>Räume: Q306<br>Code: BTF3240b
DTSTAMP:20260425T030441Z
END:VEVENT
BEGIN:VEVENT
UID:69ec2f498c9e1
DTSTART:20211021T062000Z
SEQUENCE:0
TRANSP:OPAQUE
DTEND:20211021T075500Z
LOCATION:Q306
SUMMARY:F2b\, Strukturmechanik 2
CLASS:PUBLIC
DESCRIPTION:Veranstaltung: F2b\, Strukturmechanik 2 (BTF3240)\nDozierende: 
 Schmutz [sub1]\nRäume: Q306\nCode: BTF3240b
X-ALT-DESC;FMTTYPE=text/html:Veranstaltung: F2b\, Strukturmechanik 2 (BTF32
 40)<br>Dozierende: Schmutz [sub1]<br>Räume: Q306<br>Code: BTF3240b
DTSTAMP:20260425T030441Z
END:VEVENT
BEGIN:VEVENT
UID:69ec2f498ca09
DTSTART:20211026T104500Z
SEQUENCE:0
TRANSP:OPAQUE
DTEND:20211026T122000Z
LOCATION:Q306
SUMMARY:F2b\, Strukturmechanik 2
CLASS:PUBLIC
DESCRIPTION:Veranstaltung: F2b\, Strukturmechanik 2 (BTF3240)\nDozierende: 
 Schmutz [sub1]\nRäume: Q306\nCode: BTF3240b
X-ALT-DESC;FMTTYPE=text/html:Veranstaltung: F2b\, Strukturmechanik 2 (BTF32
 40)<br>Dozierende: Schmutz [sub1]<br>Räume: Q306<br>Code: BTF3240b
DTSTAMP:20260425T030441Z
END:VEVENT
BEGIN:VEVENT
UID:69ec2f498ca31
DTSTART:20211028T062000Z
SEQUENCE:0
TRANSP:OPAQUE
DTEND:20211028T075500Z
LOCATION:Q306
SUMMARY:F2b\, Strukturmechanik 2
CLASS:PUBLIC
DESCRIPTION:Veranstaltung: F2b\, Strukturmechanik 2 (BTF3240)\nDozierende: 
 Schmutz [sub1]\nRäume: Q306\nCode: BTF3240b
X-ALT-DESC;FMTTYPE=text/html:Veranstaltung: F2b\, Strukturmechanik 2 (BTF32
 40)<br>Dozierende: Schmutz [sub1]<br>Räume: Q306<br>Code: BTF3240b
DTSTAMP:20260425T030441Z
END:VEVENT
BEGIN:VEVENT
UID:69ec2f498ca5a
DTSTART:20211102T114500Z
SEQUENCE:0
TRANSP:OPAQUE
DTEND:20211102T132000Z
LOCATION:Q306
SUMMARY:F2b\, Strukturmechanik 2
CLASS:PUBLIC
DESCRIPTION:Veranstaltung: F2b\, Strukturmechanik 2 (BTF3240)\nDozierende: 
 Schmutz [sub1]\nRäume: Q306\nCode: BTF3240b
X-ALT-DESC;FMTTYPE=text/html:Veranstaltung: F2b\, Strukturmechanik 2 (BTF32
 40)<br>Dozierende: Schmutz [sub1]<br>Räume: Q306<br>Code: BTF3240b
DTSTAMP:20260425T030441Z
END:VEVENT
BEGIN:VEVENT
UID:69ec2f498ca82
DTSTART:20211104T072000Z
SEQUENCE:0
TRANSP:OPAQUE
DTEND:20211104T085500Z
LOCATION:Q306
SUMMARY:F2b\, Strukturmechanik 2
CLASS:PUBLIC
DESCRIPTION:Veranstaltung: F2b\, Strukturmechanik 2 (BTF3240)\nDozierende: 
 Schmutz [sub1]\nRäume: Q306\nCode: BTF3240b
X-ALT-DESC;FMTTYPE=text/html:Veranstaltung: F2b\, Strukturmechanik 2 (BTF32
 40)<br>Dozierende: Schmutz [sub1]<br>Räume: Q306<br>Code: BTF3240b
DTSTAMP:20260425T030441Z
END:VEVENT
BEGIN:VEVENT
UID:69ec2f498caaa
DTSTART:20211109T114500Z
SEQUENCE:0
TRANSP:OPAQUE
DTEND:20211109T132000Z
LOCATION:Q306
SUMMARY:F2b\, Strukturmechanik 2
CLASS:PUBLIC
DESCRIPTION:Veranstaltung: F2b\, Strukturmechanik 2 (BTF3240)\nDozierende: 
 Schmutz [sub1]\nRäume: Q306\nCode: BTF3240b
X-ALT-DESC;FMTTYPE=text/html:Veranstaltung: F2b\, Strukturmechanik 2 (BTF32
 40)<br>Dozierende: Schmutz [sub1]<br>Räume: Q306<br>Code: BTF3240b
DTSTAMP:20260425T030441Z
END:VEVENT
BEGIN:VEVENT
UID:69ec2f498cad2
DTSTART:20211111T072000Z
SEQUENCE:0
TRANSP:OPAQUE
DTEND:20211111T085500Z
LOCATION:Q306
SUMMARY:F2b\, Strukturmechanik 2
CLASS:PUBLIC
DESCRIPTION:Veranstaltung: F2b\, Strukturmechanik 2 (BTF3240)\nDozierende: 
 Schmutz [sub1]\nRäume: Q306\nCode: BTF3240b
X-ALT-DESC;FMTTYPE=text/html:Veranstaltung: F2b\, Strukturmechanik 2 (BTF32
 40)<br>Dozierende: Schmutz [sub1]<br>Räume: Q306<br>Code: BTF3240b
DTSTAMP:20260425T030441Z
END:VEVENT
BEGIN:VEVENT
UID:69ec2f498cafb
DTSTART:20211116T114500Z
SEQUENCE:0
TRANSP:OPAQUE
DTEND:20211116T132000Z
LOCATION:Q306
SUMMARY:F2b\, Strukturmechanik 2
CLASS:PUBLIC
DESCRIPTION:Veranstaltung: F2b\, Strukturmechanik 2 (BTF3240)\nDozierende: 
 Schmutz [sub1]\nRäume: Q306\nCode: BTF3240b
X-ALT-DESC;FMTTYPE=text/html:Veranstaltung: F2b\, Strukturmechanik 2 (BTF32
 40)<br>Dozierende: Schmutz [sub1]<br>Räume: Q306<br>Code: BTF3240b
DTSTAMP:20260425T030441Z
END:VEVENT
BEGIN:VEVENT
UID:69ec2f498cb23
DTSTART:20211118T072000Z
SEQUENCE:0
TRANSP:OPAQUE
DTEND:20211118T085500Z
LOCATION:Q306
SUMMARY:F2b\, Strukturmechanik 2
CLASS:PUBLIC
DESCRIPTION:Veranstaltung: F2b\, Strukturmechanik 2 (BTF3240)\nDozierende: 
 Schmutz [sub1]\nRäume: Q306\nCode: BTF3240b
X-ALT-DESC;FMTTYPE=text/html:Veranstaltung: F2b\, Strukturmechanik 2 (BTF32
 40)<br>Dozierende: Schmutz [sub1]<br>Räume: Q306<br>Code: BTF3240b
DTSTAMP:20260425T030441Z
END:VEVENT
BEGIN:VEVENT
UID:69ec2f498cb4c
DTSTART:20211123T114500Z
SEQUENCE:0
TRANSP:OPAQUE
DTEND:20211123T132000Z
LOCATION:Q306
SUMMARY:F2b\, Strukturmechanik 2
CLASS:PUBLIC
DESCRIPTION:Veranstaltung: F2b\, Strukturmechanik 2 (BTF3240)\nDozierende: 
 Schmutz [sub1]\nRäume: Q306\nCode: BTF3240b
X-ALT-DESC;FMTTYPE=text/html:Veranstaltung: F2b\, Strukturmechanik 2 (BTF32
 40)<br>Dozierende: Schmutz [sub1]<br>Räume: Q306<br>Code: BTF3240b
DTSTAMP:20260425T030441Z
END:VEVENT
BEGIN:VEVENT
UID:69ec2f498cb73
DTSTART:20211125T072000Z
SEQUENCE:0
TRANSP:OPAQUE
DTEND:20211125T085500Z
LOCATION:Q306
SUMMARY:F2b\, Strukturmechanik 2
CLASS:PUBLIC
DESCRIPTION:Veranstaltung: F2b\, Strukturmechanik 2 (BTF3240)\nDozierende: 
 Schmutz [sub1]\nRäume: Q306\nCode: BTF3240b
X-ALT-DESC;FMTTYPE=text/html:Veranstaltung: F2b\, Strukturmechanik 2 (BTF32
 40)<br>Dozierende: Schmutz [sub1]<br>Räume: Q306<br>Code: BTF3240b
DTSTAMP:20260425T030441Z
END:VEVENT
BEGIN:VEVENT
UID:69ec2f498cb9a
DTSTART:20211130T114500Z
SEQUENCE:0
TRANSP:OPAQUE
DTEND:20211130T132000Z
LOCATION:Q306
SUMMARY:F2b\, Strukturmechanik 2
CLASS:PUBLIC
DESCRIPTION:Veranstaltung: F2b\, Strukturmechanik 2 (BTF3240)\nDozierende: 
 Schmutz [sub1]\nRäume: Q306\nCode: BTF3240b
X-ALT-DESC;FMTTYPE=text/html:Veranstaltung: F2b\, Strukturmechanik 2 (BTF32
 40)<br>Dozierende: Schmutz [sub1]<br>Räume: Q306<br>Code: BTF3240b
DTSTAMP:20260425T030441Z
END:VEVENT
BEGIN:VEVENT
UID:69ec2f498cbc1
DTSTART:20211202T072000Z
SEQUENCE:0
TRANSP:OPAQUE
DTEND:20211202T085500Z
LOCATION:Q306
SUMMARY:F2b\, Strukturmechanik 2
CLASS:PUBLIC
DESCRIPTION:Veranstaltung: F2b\, Strukturmechanik 2 (BTF3240)\nDozierende: 
 Schmutz [sub1]\nRäume: Q306\nCode: BTF3240b
X-ALT-DESC;FMTTYPE=text/html:Veranstaltung: F2b\, Strukturmechanik 2 (BTF32
 40)<br>Dozierende: Schmutz [sub1]<br>Räume: Q306<br>Code: BTF3240b
DTSTAMP:20260425T030441Z
END:VEVENT
BEGIN:VEVENT
UID:69ec2f498cbe8
DTSTART:20211207T114500Z
SEQUENCE:0
TRANSP:OPAQUE
DTEND:20211207T132000Z
LOCATION:Q306
SUMMARY:F2b\, Strukturmechanik 2
CLASS:PUBLIC
DESCRIPTION:Veranstaltung: F2b\, Strukturmechanik 2 (BTF3240)\nDozierende: 
 Schmutz [sub1]\nRäume: Q306\nCode: BTF3240b
X-ALT-DESC;FMTTYPE=text/html:Veranstaltung: F2b\, Strukturmechanik 2 (BTF32
 40)<br>Dozierende: Schmutz [sub1]<br>Räume: Q306<br>Code: BTF3240b
DTSTAMP:20260425T030441Z
END:VEVENT
BEGIN:VEVENT
UID:69ec2f498cc0e
DTSTART:20211209T072000Z
SEQUENCE:0
TRANSP:OPAQUE
DTEND:20211209T085500Z
LOCATION:Q306
SUMMARY:F2b\, Strukturmechanik 2
CLASS:PUBLIC
DESCRIPTION:Veranstaltung: F2b\, Strukturmechanik 2 (BTF3240)\nDozierende: 
 Schmutz [sub1]\nRäume: Q306\nCode: BTF3240b
X-ALT-DESC;FMTTYPE=text/html:Veranstaltung: F2b\, Strukturmechanik 2 (BTF32
 40)<br>Dozierende: Schmutz [sub1]<br>Räume: Q306<br>Code: BTF3240b
DTSTAMP:20260425T030441Z
END:VEVENT
BEGIN:VEVENT
UID:69ec2f498cc36
DTSTART:20211214T114500Z
SEQUENCE:0
TRANSP:OPAQUE
DTEND:20211214T132000Z
LOCATION:Q306
SUMMARY:F2b\, Strukturmechanik 2
CLASS:PUBLIC
DESCRIPTION:Veranstaltung: F2b\, Strukturmechanik 2 (BTF3240)\nDozierende: 
 Schmutz [sub1]\nRäume: Q306\nCode: BTF3240b
X-ALT-DESC;FMTTYPE=text/html:Veranstaltung: F2b\, Strukturmechanik 2 (BTF32
 40)<br>Dozierende: Schmutz [sub1]<br>Räume: Q306<br>Code: BTF3240b
DTSTAMP:20260425T030441Z
END:VEVENT
BEGIN:VEVENT
UID:69ec2f498cc5f
DTSTART:20211216T072000Z
SEQUENCE:0
TRANSP:OPAQUE
DTEND:20211216T085500Z
LOCATION:Q306
SUMMARY:F2b\, Strukturmechanik 2
CLASS:PUBLIC
DESCRIPTION:Veranstaltung: F2b\, Strukturmechanik 2 (BTF3240)\nDozierende: 
 Schmutz [sub1]\nRäume: Q306\nCode: BTF3240b
X-ALT-DESC;FMTTYPE=text/html:Veranstaltung: F2b\, Strukturmechanik 2 (BTF32
 40)<br>Dozierende: Schmutz [sub1]<br>Räume: Q306<br>Code: BTF3240b
DTSTAMP:20260425T030441Z
END:VEVENT
BEGIN:VEVENT
UID:69ec2f498cc86
DTSTART:20211221T114500Z
SEQUENCE:0
TRANSP:OPAQUE
DTEND:20211221T132000Z
LOCATION:Q306
SUMMARY:F2b\, Strukturmechanik 2
CLASS:PUBLIC
DESCRIPTION:Veranstaltung: F2b\, Strukturmechanik 2 (BTF3240)\nDozierende: 
 Schmutz [sub1]\nRäume: Q306\nCode: BTF3240b
X-ALT-DESC;FMTTYPE=text/html:Veranstaltung: F2b\, Strukturmechanik 2 (BTF32
 40)<br>Dozierende: Schmutz [sub1]<br>Räume: Q306<br>Code: BTF3240b
DTSTAMP:20260425T030441Z
END:VEVENT
BEGIN:VEVENT
UID:69ec2f498ccb4
DTSTART:20211223T072000Z
SEQUENCE:0
TRANSP:OPAQUE
DTEND:20211223T085500Z
LOCATION:Q306
SUMMARY:F2b\, Strukturmechanik 2
CLASS:PUBLIC
DESCRIPTION:Veranstaltung: F2b\, Strukturmechanik 2 (BTF3240)\nDozierende: 
 Schmutz [sub1]\nRäume: Q306\nCode: BTF3240b
X-ALT-DESC;FMTTYPE=text/html:Veranstaltung: F2b\, Strukturmechanik 2 (BTF32
 40)<br>Dozierende: Schmutz [sub1]<br>Räume: Q306<br>Code: BTF3240b
DTSTAMP:20260425T030441Z
END:VEVENT
BEGIN:VEVENT
UID:69ec2f498ccdc
DTSTART:20220111T114500Z
SEQUENCE:0
TRANSP:OPAQUE
DTEND:20220111T132000Z
LOCATION:Q306
SUMMARY:F2b\, Strukturmechanik 2
CLASS:PUBLIC
DESCRIPTION:Veranstaltung: F2b\, Strukturmechanik 2 (BTF3240)\nDozierende: 
 Schmutz [sub1]\nRäume: Q306\nCode: BTF3240b
X-ALT-DESC;FMTTYPE=text/html:Veranstaltung: F2b\, Strukturmechanik 2 (BTF32
 40)<br>Dozierende: Schmutz [sub1]<br>Räume: Q306<br>Code: BTF3240b
DTSTAMP:20260425T030441Z
END:VEVENT
BEGIN:VEVENT
UID:69ec2f498cd05
DTSTART:20220113T072000Z
SEQUENCE:0
TRANSP:OPAQUE
DTEND:20220113T085500Z
LOCATION:Q306
SUMMARY:F2b\, Strukturmechanik 2
CLASS:PUBLIC
DESCRIPTION:Veranstaltung: F2b\, Strukturmechanik 2 (BTF3240)\nDozierende: 
 Schmutz [sub1]\nRäume: Q306\nCode: BTF3240b
X-ALT-DESC;FMTTYPE=text/html:Veranstaltung: F2b\, Strukturmechanik 2 (BTF32
 40)<br>Dozierende: Schmutz [sub1]<br>Räume: Q306<br>Code: BTF3240b
DTSTAMP:20260425T030441Z
END:VEVENT
BEGIN:VEVENT
UID:69ec2f498cd2f
DTSTART:20220118T114500Z
SEQUENCE:0
TRANSP:OPAQUE
DTEND:20220118T132000Z
LOCATION:Q306
SUMMARY:F2b\, Strukturmechanik 2
CLASS:PUBLIC
DESCRIPTION:Veranstaltung: F2b\, Strukturmechanik 2 (BTF3240)\nDozierende: 
 Schmutz [sub1]\nRäume: Q306\nCode: BTF3240b
X-ALT-DESC;FMTTYPE=text/html:Veranstaltung: F2b\, Strukturmechanik 2 (BTF32
 40)<br>Dozierende: Schmutz [sub1]<br>Räume: Q306<br>Code: BTF3240b
DTSTAMP:20260425T030441Z
END:VEVENT
BEGIN:VEVENT
UID:69ec2f498cd57
DTSTART:20220120T072000Z
SEQUENCE:0
TRANSP:OPAQUE
DTEND:20220120T085500Z
LOCATION:Q306
SUMMARY:F2b\, Strukturmechanik 2
CLASS:PUBLIC
DESCRIPTION:Veranstaltung: F2b\, Strukturmechanik 2 (BTF3240)\nDozierende: 
 Schmutz [sub1]\nRäume: Q306\nCode: BTF3240b
X-ALT-DESC;FMTTYPE=text/html:Veranstaltung: F2b\, Strukturmechanik 2 (BTF32
 40)<br>Dozierende: Schmutz [sub1]<br>Räume: Q306<br>Code: BTF3240b
DTSTAMP:20260425T030441Z
END:VEVENT
END:VCALENDAR