BEGIN:VCALENDAR
VERSION:2.0
PRODID:www.bfh.ch
X-APPLE-CALENDAR-COLOR:Orange
X-OUTLOOK-COLOR:Orange
X-FUNAMBOL-COLOR:Orange
X-WR-CALNAME:Übersicht Kl147 416
BEGIN:VEVENT
UID:69ec371a66c76
DTSTART:20221104T081500Z
SEQUENCE:0
TRANSP:OPAQUE
DTEND:20221104T090000Z
LOCATION:Kl147-416
SUMMARY:Schmerzmanagement\, PBL1: Schritt 7\, Gr. 3
CLASS:PUBLIC
DESCRIPTION:Veranstaltung: Schmerzmanagement\, PBL1: Schritt 7\, Gr. 3\nDoz
 ierende: Prokic [pks2]\nRäume: Kl147-416\nKommentar: PBL1: Schritt 7\, Gr
 . 3
X-ALT-DESC;FMTTYPE=text/html:Veranstaltung: Schmerzmanagement\, PBL1: Schri
 tt 7\, Gr. 3<br>Dozierende: Prokic [pks2]<br>Räume: Kl147-416<br>Kommenta
 r: PBL1: Schritt 7\, Gr. 3
DTSTAMP:20260425T033802Z
END:VEVENT
BEGIN:VEVENT
UID:69ec371a66d60
DTSTART:20221104T091500Z
SEQUENCE:0
TRANSP:OPAQUE
DTEND:20221104T100000Z
LOCATION:Kl147-416
SUMMARY:Schmerzmanagement\, PBL1: Schritt 7\, Gr. 2
CLASS:PUBLIC
DESCRIPTION:Veranstaltung: Schmerzmanagement\, PBL1: Schritt 7\, Gr. 2\nDoz
 ierende: Prokic [pks2]\nRäume: Kl147-416\nKommentar: PBL1: Schritt 7\, Gr
 . 2
X-ALT-DESC;FMTTYPE=text/html:Veranstaltung: Schmerzmanagement\, PBL1: Schri
 tt 7\, Gr. 2<br>Dozierende: Prokic [pks2]<br>Räume: Kl147-416<br>Kommenta
 r: PBL1: Schritt 7\, Gr. 2
DTSTAMP:20260425T033802Z
END:VEVENT
END:VCALENDAR