BEGIN:VCALENDAR
VERSION:2.0
PRODID:www.bfh.ch
X-APPLE-CALENDAR-COLOR:Orange
X-OUTLOOK-COLOR:Orange
X-FUNAMBOL-COLOR:Orange
X-WR-CALNAME:Übersicht BTA3020
BEGIN:VEVENT
UID:69ebbfa5d4955
DTSTART:20220223T072000Z
SEQUENCE:0
TRANSP:OPAQUE
DTEND:20220223T105500Z
LOCATION:Q303
SUMMARY:Vertiefungen Motoren und Thermodynamik (VKM2)
CLASS:PUBLIC
DESCRIPTION:Veranstaltung: Vertiefungen Motoren und Thermodynamik (VKM2) (B
 TA3020)\nDozierende: Engelmann [ead1]\nRäume: Q303\nCode: BTA3020a
X-ALT-DESC;FMTTYPE=text/html:Veranstaltung: Vertiefungen Motoren und Thermo
 dynamik (VKM2) (BTA3020)<br>Dozierende: Engelmann [ead1]<br>Räume: Q303<b
 r>Code: BTA3020a
DTSTAMP:20260424T190821Z
END:VEVENT
BEGIN:VEVENT
UID:69ebbfa5d4a03
DTSTART:20220224T114500Z
SEQUENCE:0
TRANSP:OPAQUE
DTEND:20220224T150000Z
LOCATION:Q208
SUMMARY:Vertiefungen Motoren und Thermodynamik (VKM2)
CLASS:PUBLIC
DESCRIPTION:Veranstaltung: Vertiefungen Motoren und Thermodynamik (VKM2) (B
 TA3020)\nDozierende: Engelmann [ead1]\nRäume: Q208\nCode: BTA3020a
X-ALT-DESC;FMTTYPE=text/html:Veranstaltung: Vertiefungen Motoren und Thermo
 dynamik (VKM2) (BTA3020)<br>Dozierende: Engelmann [ead1]<br>Räume: Q208<b
 r>Code: BTA3020a
DTSTAMP:20260424T190821Z
END:VEVENT
BEGIN:VEVENT
UID:69ebbfa5d4a2f
DTSTART:20220302T072000Z
SEQUENCE:0
TRANSP:OPAQUE
DTEND:20220302T105500Z
LOCATION:Q303
SUMMARY:Vertiefungen Motoren und Thermodynamik (VKM2)
CLASS:PUBLIC
DESCRIPTION:Veranstaltung: Vertiefungen Motoren und Thermodynamik (VKM2) (B
 TA3020)\nDozierende: Engelmann [ead1]\nRäume: Q303\nCode: BTA3020a
X-ALT-DESC;FMTTYPE=text/html:Veranstaltung: Vertiefungen Motoren und Thermo
 dynamik (VKM2) (BTA3020)<br>Dozierende: Engelmann [ead1]<br>Räume: Q303<b
 r>Code: BTA3020a
DTSTAMP:20260424T190821Z
END:VEVENT
BEGIN:VEVENT
UID:69ebbfa5d4a53
DTSTART:20220303T114500Z
SEQUENCE:0
TRANSP:OPAQUE
DTEND:20220303T150000Z
LOCATION:Q208
SUMMARY:Vertiefungen Motoren und Thermodynamik (VKM2)
CLASS:PUBLIC
DESCRIPTION:Veranstaltung: Vertiefungen Motoren und Thermodynamik (VKM2) (B
 TA3020)\nDozierende: Engelmann [ead1]\nRäume: Q208\nCode: BTA3020a
X-ALT-DESC;FMTTYPE=text/html:Veranstaltung: Vertiefungen Motoren und Thermo
 dynamik (VKM2) (BTA3020)<br>Dozierende: Engelmann [ead1]<br>Räume: Q208<b
 r>Code: BTA3020a
DTSTAMP:20260424T190821Z
END:VEVENT
BEGIN:VEVENT
UID:69ebbfa5d4a78
DTSTART:20220309T072000Z
SEQUENCE:0
TRANSP:OPAQUE
DTEND:20220309T105500Z
LOCATION:Q303
SUMMARY:Vertiefungen Motoren und Thermodynamik (VKM2)
CLASS:PUBLIC
DESCRIPTION:Veranstaltung: Vertiefungen Motoren und Thermodynamik (VKM2) (B
 TA3020)\nDozierende: Engelmann [ead1]\nRäume: Q303\nCode: BTA3020a
X-ALT-DESC;FMTTYPE=text/html:Veranstaltung: Vertiefungen Motoren und Thermo
 dynamik (VKM2) (BTA3020)<br>Dozierende: Engelmann [ead1]<br>Räume: Q303<b
 r>Code: BTA3020a
DTSTAMP:20260424T190821Z
END:VEVENT
BEGIN:VEVENT
UID:69ebbfa5d4a9a
DTSTART:20220310T114500Z
SEQUENCE:0
TRANSP:OPAQUE
DTEND:20220310T150000Z
LOCATION:Q208
SUMMARY:Vertiefungen Motoren und Thermodynamik (VKM2)
CLASS:PUBLIC
DESCRIPTION:Veranstaltung: Vertiefungen Motoren und Thermodynamik (VKM2) (B
 TA3020)\nDozierende: Engelmann [ead1]\nRäume: Q208\nCode: BTA3020a
X-ALT-DESC;FMTTYPE=text/html:Veranstaltung: Vertiefungen Motoren und Thermo
 dynamik (VKM2) (BTA3020)<br>Dozierende: Engelmann [ead1]<br>Räume: Q208<b
 r>Code: BTA3020a
DTSTAMP:20260424T190821Z
END:VEVENT
BEGIN:VEVENT
UID:69ebbfa5d4abd
DTSTART:20220316T072000Z
SEQUENCE:0
TRANSP:OPAQUE
DTEND:20220316T105500Z
LOCATION:Q303
SUMMARY:Vertiefungen Motoren und Thermodynamik (VKM2)
CLASS:PUBLIC
DESCRIPTION:Veranstaltung: Vertiefungen Motoren und Thermodynamik (VKM2) (B
 TA3020)\nDozierende: Engelmann [ead1]\nRäume: Q303\nCode: BTA3020a
X-ALT-DESC;FMTTYPE=text/html:Veranstaltung: Vertiefungen Motoren und Thermo
 dynamik (VKM2) (BTA3020)<br>Dozierende: Engelmann [ead1]<br>Räume: Q303<b
 r>Code: BTA3020a
DTSTAMP:20260424T190821Z
END:VEVENT
BEGIN:VEVENT
UID:69ebbfa5d4ae1
DTSTART:20220317T114500Z
SEQUENCE:0
TRANSP:OPAQUE
DTEND:20220317T150000Z
LOCATION:Q208
SUMMARY:Vertiefungen Motoren und Thermodynamik (VKM2)
CLASS:PUBLIC
DESCRIPTION:Veranstaltung: Vertiefungen Motoren und Thermodynamik (VKM2) (B
 TA3020)\nDozierende: Engelmann [ead1]\nRäume: Q208\nCode: BTA3020a
X-ALT-DESC;FMTTYPE=text/html:Veranstaltung: Vertiefungen Motoren und Thermo
 dynamik (VKM2) (BTA3020)<br>Dozierende: Engelmann [ead1]<br>Räume: Q208<b
 r>Code: BTA3020a
DTSTAMP:20260424T190821Z
END:VEVENT
BEGIN:VEVENT
UID:69ebbfa5d4b03
DTSTART:20220323T072000Z
SEQUENCE:0
TRANSP:OPAQUE
DTEND:20220323T105500Z
LOCATION:Q303
SUMMARY:Vertiefungen Motoren und Thermodynamik (VKM2)
CLASS:PUBLIC
DESCRIPTION:Veranstaltung: Vertiefungen Motoren und Thermodynamik (VKM2) (B
 TA3020)\nDozierende: Engelmann [ead1]\nRäume: Q303\nCode: BTA3020a
X-ALT-DESC;FMTTYPE=text/html:Veranstaltung: Vertiefungen Motoren und Thermo
 dynamik (VKM2) (BTA3020)<br>Dozierende: Engelmann [ead1]<br>Räume: Q303<b
 r>Code: BTA3020a
DTSTAMP:20260424T190821Z
END:VEVENT
BEGIN:VEVENT
UID:69ebbfa5d4b26
DTSTART:20220324T114500Z
SEQUENCE:0
TRANSP:OPAQUE
DTEND:20220324T150000Z
LOCATION:Q208
SUMMARY:Vertiefungen Motoren und Thermodynamik (VKM2)
CLASS:PUBLIC
DESCRIPTION:Veranstaltung: Vertiefungen Motoren und Thermodynamik (VKM2) (B
 TA3020)\nDozierende: Engelmann [ead1]\nRäume: Q208\nCode: BTA3020a
X-ALT-DESC;FMTTYPE=text/html:Veranstaltung: Vertiefungen Motoren und Thermo
 dynamik (VKM2) (BTA3020)<br>Dozierende: Engelmann [ead1]<br>Räume: Q208<b
 r>Code: BTA3020a
DTSTAMP:20260424T190821Z
END:VEVENT
BEGIN:VEVENT
UID:69ebbfa5d4b49
DTSTART:20220330T062000Z
SEQUENCE:0
TRANSP:OPAQUE
DTEND:20220330T095500Z
LOCATION:Q303
SUMMARY:Vertiefungen Motoren und Thermodynamik (VKM2)
CLASS:PUBLIC
DESCRIPTION:Veranstaltung: Vertiefungen Motoren und Thermodynamik (VKM2) (B
 TA3020)\nDozierende: Engelmann [ead1]\nRäume: Q303\nCode: BTA3020a
X-ALT-DESC;FMTTYPE=text/html:Veranstaltung: Vertiefungen Motoren und Thermo
 dynamik (VKM2) (BTA3020)<br>Dozierende: Engelmann [ead1]<br>Räume: Q303<b
 r>Code: BTA3020a
DTSTAMP:20260424T190821Z
END:VEVENT
BEGIN:VEVENT
UID:69ebbfa5d4b6b
DTSTART:20220331T104500Z
SEQUENCE:0
TRANSP:OPAQUE
DTEND:20220331T140000Z
LOCATION:Q208
SUMMARY:Vertiefungen Motoren und Thermodynamik (VKM2)
CLASS:PUBLIC
DESCRIPTION:Veranstaltung: Vertiefungen Motoren und Thermodynamik (VKM2) (B
 TA3020)\nDozierende: Engelmann [ead1]\nRäume: Q208\nCode: BTA3020a
X-ALT-DESC;FMTTYPE=text/html:Veranstaltung: Vertiefungen Motoren und Thermo
 dynamik (VKM2) (BTA3020)<br>Dozierende: Engelmann [ead1]<br>Räume: Q208<b
 r>Code: BTA3020a
DTSTAMP:20260424T190821Z
END:VEVENT
BEGIN:VEVENT
UID:69ebbfa5d4b8d
DTSTART:20220406T062000Z
SEQUENCE:0
TRANSP:OPAQUE
DTEND:20220406T095500Z
LOCATION:Q303
SUMMARY:Vertiefungen Motoren und Thermodynamik (VKM2)
CLASS:PUBLIC
DESCRIPTION:Veranstaltung: Vertiefungen Motoren und Thermodynamik (VKM2) (B
 TA3020)\nDozierende: Engelmann [ead1]\nRäume: Q303\nCode: BTA3020a
X-ALT-DESC;FMTTYPE=text/html:Veranstaltung: Vertiefungen Motoren und Thermo
 dynamik (VKM2) (BTA3020)<br>Dozierende: Engelmann [ead1]<br>Räume: Q303<b
 r>Code: BTA3020a
DTSTAMP:20260424T190821Z
END:VEVENT
BEGIN:VEVENT
UID:69ebbfa5d4baf
DTSTART:20220407T104500Z
SEQUENCE:0
TRANSP:OPAQUE
DTEND:20220407T140000Z
LOCATION:Q208
SUMMARY:Vertiefungen Motoren und Thermodynamik (VKM2)
CLASS:PUBLIC
DESCRIPTION:Veranstaltung: Vertiefungen Motoren und Thermodynamik (VKM2) (B
 TA3020)\nDozierende: Engelmann [ead1]\nRäume: Q208\nCode: BTA3020a
X-ALT-DESC;FMTTYPE=text/html:Veranstaltung: Vertiefungen Motoren und Thermo
 dynamik (VKM2) (BTA3020)<br>Dozierende: Engelmann [ead1]<br>Räume: Q208<b
 r>Code: BTA3020a
DTSTAMP:20260424T190821Z
END:VEVENT
BEGIN:VEVENT
UID:69ebbfa5d4bd0
DTSTART:20220420T062000Z
SEQUENCE:0
TRANSP:OPAQUE
DTEND:20220420T095500Z
LOCATION:Q303
SUMMARY:Vertiefungen Motoren und Thermodynamik (VKM2)
CLASS:PUBLIC
DESCRIPTION:Veranstaltung: Vertiefungen Motoren und Thermodynamik (VKM2) (B
 TA3020)\nDozierende: Engelmann [ead1]\nRäume: Q303\nCode: BTA3020a
X-ALT-DESC;FMTTYPE=text/html:Veranstaltung: Vertiefungen Motoren und Thermo
 dynamik (VKM2) (BTA3020)<br>Dozierende: Engelmann [ead1]<br>Räume: Q303<b
 r>Code: BTA3020a
DTSTAMP:20260424T190821Z
END:VEVENT
BEGIN:VEVENT
UID:69ebbfa5d4bf2
DTSTART:20220421T104500Z
SEQUENCE:0
TRANSP:OPAQUE
DTEND:20220421T140000Z
LOCATION:Q208
SUMMARY:Vertiefungen Motoren und Thermodynamik (VKM2)
CLASS:PUBLIC
DESCRIPTION:Veranstaltung: Vertiefungen Motoren und Thermodynamik (VKM2) (B
 TA3020)\nDozierende: Engelmann [ead1]\nRäume: Q208\nCode: BTA3020a
X-ALT-DESC;FMTTYPE=text/html:Veranstaltung: Vertiefungen Motoren und Thermo
 dynamik (VKM2) (BTA3020)<br>Dozierende: Engelmann [ead1]<br>Räume: Q208<b
 r>Code: BTA3020a
DTSTAMP:20260424T190821Z
END:VEVENT
END:VCALENDAR