BEGIN:VCALENDAR
VERSION:2.0
PRODID:www.bfh.ch
X-APPLE-CALENDAR-COLOR:Orange
X-OUTLOOK-COLOR:Orange
X-FUNAMBOL-COLOR:Orange
X-WR-CALNAME:Übersicht BTA3151
BEGIN:VEVENT
UID:69ec371ac0f69
DTSTART:20210920T131500Z
SEQUENCE:0
TRANSP:OPAQUE
DTEND:20210920T155000Z
LOCATION:VF2.02
SUMMARY:Projekt Mechatronik (PFMT1)
CLASS:PUBLIC
DESCRIPTION:Veranstaltung: Projekt Mechatronik (PFMT1) (BTA3151)\nDozierend
 e: Urwyler [ulj1]\nRäume: VF2.02\nCode: BTA3151b
X-ALT-DESC;FMTTYPE=text/html:Veranstaltung: Projekt Mechatronik (PFMT1) (BT
 A3151)<br>Dozierende: Urwyler [ulj1]<br>Räume: VF2.02<br>Code: BTA3151b
DTSTAMP:20260425T033802Z
END:VEVENT
BEGIN:VEVENT
UID:69ec371ac1027
DTSTART:20210927T131500Z
SEQUENCE:0
TRANSP:OPAQUE
DTEND:20210927T155000Z
LOCATION:VF2.02
SUMMARY:Projekt Mechatronik (PFMT1)
CLASS:PUBLIC
DESCRIPTION:Veranstaltung: Projekt Mechatronik (PFMT1) (BTA3151)\nDozierend
 e: Urwyler [ulj1]\nRäume: VF2.02\nCode: BTA3151b
X-ALT-DESC;FMTTYPE=text/html:Veranstaltung: Projekt Mechatronik (PFMT1) (BT
 A3151)<br>Dozierende: Urwyler [ulj1]<br>Räume: VF2.02<br>Code: BTA3151b
DTSTAMP:20260425T033802Z
END:VEVENT
BEGIN:VEVENT
UID:69ec371ac107c
DTSTART:20211004T131500Z
SEQUENCE:0
TRANSP:OPAQUE
DTEND:20211004T155000Z
LOCATION:VF2.02
SUMMARY:Projekt Mechatronik (PFMT1)
CLASS:PUBLIC
DESCRIPTION:Veranstaltung: Projekt Mechatronik (PFMT1) (BTA3151)\nDozierend
 e: Urwyler [ulj1]\nRäume: VF2.02\nCode: BTA3151b
X-ALT-DESC;FMTTYPE=text/html:Veranstaltung: Projekt Mechatronik (PFMT1) (BT
 A3151)<br>Dozierende: Urwyler [ulj1]<br>Räume: VF2.02<br>Code: BTA3151b
DTSTAMP:20260425T033802Z
END:VEVENT
BEGIN:VEVENT
UID:69ec371ac10a6
DTSTART:20211011T131500Z
SEQUENCE:0
TRANSP:OPAQUE
DTEND:20211011T155000Z
LOCATION:VF2.02
SUMMARY:Projekt Mechatronik (PFMT1)
CLASS:PUBLIC
DESCRIPTION:Veranstaltung: Projekt Mechatronik (PFMT1) (BTA3151)\nDozierend
 e: Urwyler [ulj1]\nRäume: VF2.02\nCode: BTA3151b
X-ALT-DESC;FMTTYPE=text/html:Veranstaltung: Projekt Mechatronik (PFMT1) (BT
 A3151)<br>Dozierende: Urwyler [ulj1]<br>Räume: VF2.02<br>Code: BTA3151b
DTSTAMP:20260425T033802Z
END:VEVENT
BEGIN:VEVENT
UID:69ec371ac10cd
DTSTART:20211018T131500Z
SEQUENCE:0
TRANSP:OPAQUE
DTEND:20211018T155000Z
LOCATION:VF2.02
SUMMARY:Projekt Mechatronik (PFMT1)
CLASS:PUBLIC
DESCRIPTION:Veranstaltung: Projekt Mechatronik (PFMT1) (BTA3151)\nDozierend
 e: Urwyler [ulj1]\nRäume: VF2.02\nCode: BTA3151b
X-ALT-DESC;FMTTYPE=text/html:Veranstaltung: Projekt Mechatronik (PFMT1) (BT
 A3151)<br>Dozierende: Urwyler [ulj1]<br>Räume: VF2.02<br>Code: BTA3151b
DTSTAMP:20260425T033802Z
END:VEVENT
BEGIN:VEVENT
UID:69ec371ac10f4
DTSTART:20211025T131500Z
SEQUENCE:0
TRANSP:OPAQUE
DTEND:20211025T155000Z
LOCATION:VF2.02
SUMMARY:Projekt Mechatronik (PFMT1)
CLASS:PUBLIC
DESCRIPTION:Veranstaltung: Projekt Mechatronik (PFMT1) (BTA3151)\nDozierend
 e: Urwyler [ulj1]\nRäume: VF2.02\nCode: BTA3151b
X-ALT-DESC;FMTTYPE=text/html:Veranstaltung: Projekt Mechatronik (PFMT1) (BT
 A3151)<br>Dozierende: Urwyler [ulj1]<br>Räume: VF2.02<br>Code: BTA3151b
DTSTAMP:20260425T033802Z
END:VEVENT
BEGIN:VEVENT
UID:69ec371ac111a
DTSTART:20211101T141500Z
SEQUENCE:0
TRANSP:OPAQUE
DTEND:20211101T165000Z
LOCATION:VF2.02
SUMMARY:Projekt Mechatronik (PFMT1)
CLASS:PUBLIC
DESCRIPTION:Veranstaltung: Projekt Mechatronik (PFMT1) (BTA3151)\nDozierend
 e: Urwyler [ulj1]\nRäume: VF2.02\nCode: BTA3151b
X-ALT-DESC;FMTTYPE=text/html:Veranstaltung: Projekt Mechatronik (PFMT1) (BT
 A3151)<br>Dozierende: Urwyler [ulj1]<br>Räume: VF2.02<br>Code: BTA3151b
DTSTAMP:20260425T033802Z
END:VEVENT
BEGIN:VEVENT
UID:69ec371ac113f
DTSTART:20211108T141500Z
SEQUENCE:0
TRANSP:OPAQUE
DTEND:20211108T165000Z
LOCATION:VF2.02
SUMMARY:Projekt Mechatronik (PFMT1)
CLASS:PUBLIC
DESCRIPTION:Veranstaltung: Projekt Mechatronik (PFMT1) (BTA3151)\nDozierend
 e: Urwyler [ulj1]\nRäume: VF2.02\nCode: BTA3151b
X-ALT-DESC;FMTTYPE=text/html:Veranstaltung: Projekt Mechatronik (PFMT1) (BT
 A3151)<br>Dozierende: Urwyler [ulj1]<br>Räume: VF2.02<br>Code: BTA3151b
DTSTAMP:20260425T033802Z
END:VEVENT
BEGIN:VEVENT
UID:69ec371ac1165
DTSTART:20211115T141500Z
SEQUENCE:0
TRANSP:OPAQUE
DTEND:20211115T165000Z
LOCATION:VF2.02
SUMMARY:Projekt Mechatronik (PFMT1)
CLASS:PUBLIC
DESCRIPTION:Veranstaltung: Projekt Mechatronik (PFMT1) (BTA3151)\nDozierend
 e: Urwyler [ulj1]\nRäume: VF2.02\nCode: BTA3151b
X-ALT-DESC;FMTTYPE=text/html:Veranstaltung: Projekt Mechatronik (PFMT1) (BT
 A3151)<br>Dozierende: Urwyler [ulj1]<br>Räume: VF2.02<br>Code: BTA3151b
DTSTAMP:20260425T033802Z
END:VEVENT
BEGIN:VEVENT
UID:69ec371ac118c
DTSTART:20211122T141500Z
SEQUENCE:0
TRANSP:OPAQUE
DTEND:20211122T165000Z
LOCATION:VF2.02
SUMMARY:Projekt Mechatronik (PFMT1)
CLASS:PUBLIC
DESCRIPTION:Veranstaltung: Projekt Mechatronik (PFMT1) (BTA3151)\nDozierend
 e: Urwyler [ulj1]\nRäume: VF2.02\nCode: BTA3151b
X-ALT-DESC;FMTTYPE=text/html:Veranstaltung: Projekt Mechatronik (PFMT1) (BT
 A3151)<br>Dozierende: Urwyler [ulj1]<br>Räume: VF2.02<br>Code: BTA3151b
DTSTAMP:20260425T033802Z
END:VEVENT
BEGIN:VEVENT
UID:69ec371ac11b2
DTSTART:20211129T141500Z
SEQUENCE:0
TRANSP:OPAQUE
DTEND:20211129T165000Z
LOCATION:VF2.02
SUMMARY:Projekt Mechatronik (PFMT1)
CLASS:PUBLIC
DESCRIPTION:Veranstaltung: Projekt Mechatronik (PFMT1) (BTA3151)\nDozierend
 e: Urwyler [ulj1]\nRäume: VF2.02\nCode: BTA3151b
X-ALT-DESC;FMTTYPE=text/html:Veranstaltung: Projekt Mechatronik (PFMT1) (BT
 A3151)<br>Dozierende: Urwyler [ulj1]<br>Räume: VF2.02<br>Code: BTA3151b
DTSTAMP:20260425T033802Z
END:VEVENT
BEGIN:VEVENT
UID:69ec371ac11d6
DTSTART:20211206T141500Z
SEQUENCE:0
TRANSP:OPAQUE
DTEND:20211206T165000Z
LOCATION:VF2.02
SUMMARY:Projekt Mechatronik (PFMT1)
CLASS:PUBLIC
DESCRIPTION:Veranstaltung: Projekt Mechatronik (PFMT1) (BTA3151)\nDozierend
 e: Urwyler [ulj1]\nRäume: VF2.02\nCode: BTA3151b
X-ALT-DESC;FMTTYPE=text/html:Veranstaltung: Projekt Mechatronik (PFMT1) (BT
 A3151)<br>Dozierende: Urwyler [ulj1]<br>Räume: VF2.02<br>Code: BTA3151b
DTSTAMP:20260425T033802Z
END:VEVENT
BEGIN:VEVENT
UID:69ec371ac11fc
DTSTART:20211213T141500Z
SEQUENCE:0
TRANSP:OPAQUE
DTEND:20211213T165000Z
LOCATION:VF2.02
SUMMARY:Projekt Mechatronik (PFMT1)
CLASS:PUBLIC
DESCRIPTION:Veranstaltung: Projekt Mechatronik (PFMT1) (BTA3151)\nDozierend
 e: Urwyler [ulj1]\nRäume: VF2.02\nCode: BTA3151b
X-ALT-DESC;FMTTYPE=text/html:Veranstaltung: Projekt Mechatronik (PFMT1) (BT
 A3151)<br>Dozierende: Urwyler [ulj1]<br>Räume: VF2.02<br>Code: BTA3151b
DTSTAMP:20260425T033802Z
END:VEVENT
BEGIN:VEVENT
UID:69ec371ac1220
DTSTART:20211220T141500Z
SEQUENCE:0
TRANSP:OPAQUE
DTEND:20211220T165000Z
LOCATION:VF2.02
SUMMARY:Projekt Mechatronik (PFMT1)
CLASS:PUBLIC
DESCRIPTION:Veranstaltung: Projekt Mechatronik (PFMT1) (BTA3151)\nDozierend
 e: Urwyler [ulj1]\nRäume: VF2.02\nCode: BTA3151b
X-ALT-DESC;FMTTYPE=text/html:Veranstaltung: Projekt Mechatronik (PFMT1) (BT
 A3151)<br>Dozierende: Urwyler [ulj1]<br>Räume: VF2.02<br>Code: BTA3151b
DTSTAMP:20260425T033802Z
END:VEVENT
BEGIN:VEVENT
UID:69ec371ac1246
DTSTART:20220110T141500Z
SEQUENCE:0
TRANSP:OPAQUE
DTEND:20220110T165000Z
LOCATION:VF2.02
SUMMARY:Projekt Mechatronik (PFMT1)
CLASS:PUBLIC
DESCRIPTION:Veranstaltung: Projekt Mechatronik (PFMT1) (BTA3151)\nDozierend
 e: Urwyler [ulj1]\nRäume: VF2.02\nCode: BTA3151b
X-ALT-DESC;FMTTYPE=text/html:Veranstaltung: Projekt Mechatronik (PFMT1) (BT
 A3151)<br>Dozierende: Urwyler [ulj1]<br>Räume: VF2.02<br>Code: BTA3151b
DTSTAMP:20260425T033802Z
END:VEVENT
BEGIN:VEVENT
UID:69ec371ac126b
DTSTART:20220117T141500Z
SEQUENCE:0
TRANSP:OPAQUE
DTEND:20220117T165000Z
LOCATION:VF2.02
SUMMARY:Projekt Mechatronik (PFMT1)
CLASS:PUBLIC
DESCRIPTION:Veranstaltung: Projekt Mechatronik (PFMT1) (BTA3151)\nDozierend
 e: Urwyler [ulj1]\nRäume: VF2.02\nCode: BTA3151b
X-ALT-DESC;FMTTYPE=text/html:Veranstaltung: Projekt Mechatronik (PFMT1) (BT
 A3151)<br>Dozierende: Urwyler [ulj1]<br>Räume: VF2.02<br>Code: BTA3151b
DTSTAMP:20260425T033802Z
END:VEVENT
END:VCALENDAR