BEGIN:VCALENDAR
VERSION:2.0
PRODID:www.bfh.ch
X-APPLE-CALENDAR-COLOR:Orange
X-OUTLOOK-COLOR:Orange
X-FUNAMBOL-COLOR:Orange
X-WR-CALNAME:Übersicht BTA3252
BEGIN:VEVENT
UID:69ec0bee9b077
DTSTART:20220223T072000Z
SEQUENCE:0
TRANSP:OPAQUE
DTEND:20220223T105500Z
LOCATION:VF1.04
SUMMARY:Projekt Mechatronik (PFMT2)
CLASS:PUBLIC
DESCRIPTION:Veranstaltung: Projekt Mechatronik (PFMT2) (BTA3252)\nDozierend
 e: Urwyler [ulj1]\nRäume: VF1.04\nCode: BTA3252b
X-ALT-DESC;FMTTYPE=text/html:Veranstaltung: Projekt Mechatronik (PFMT2) (BT
 A3252)<br>Dozierende: Urwyler [ulj1]<br>Räume: VF1.04<br>Code: BTA3252b
DTSTAMP:20260425T003350Z
END:VEVENT
BEGIN:VEVENT
UID:69ec0bee9b128
DTSTART:20220302T072000Z
SEQUENCE:0
TRANSP:OPAQUE
DTEND:20220302T105500Z
LOCATION:VF1.04
SUMMARY:Projekt Mechatronik (PFMT2)
CLASS:PUBLIC
DESCRIPTION:Veranstaltung: Projekt Mechatronik (PFMT2) (BTA3252)\nDozierend
 e: Urwyler [ulj1]\nRäume: VF1.04\nCode: BTA3252b
X-ALT-DESC;FMTTYPE=text/html:Veranstaltung: Projekt Mechatronik (PFMT2) (BT
 A3252)<br>Dozierende: Urwyler [ulj1]<br>Räume: VF1.04<br>Code: BTA3252b
DTSTAMP:20260425T003350Z
END:VEVENT
BEGIN:VEVENT
UID:69ec0bee9b15a
DTSTART:20220309T072000Z
SEQUENCE:0
TRANSP:OPAQUE
DTEND:20220309T105500Z
LOCATION:VF1.04
SUMMARY:Projekt Mechatronik (PFMT2)
CLASS:PUBLIC
DESCRIPTION:Veranstaltung: Projekt Mechatronik (PFMT2) (BTA3252)\nDozierend
 e: Urwyler [ulj1]\nRäume: VF1.04\nCode: BTA3252b
X-ALT-DESC;FMTTYPE=text/html:Veranstaltung: Projekt Mechatronik (PFMT2) (BT
 A3252)<br>Dozierende: Urwyler [ulj1]<br>Räume: VF1.04<br>Code: BTA3252b
DTSTAMP:20260425T003350Z
END:VEVENT
BEGIN:VEVENT
UID:69ec0bee9b182
DTSTART:20220316T072000Z
SEQUENCE:0
TRANSP:OPAQUE
DTEND:20220316T105500Z
LOCATION:VF1.04
SUMMARY:Projekt Mechatronik (PFMT2)
CLASS:PUBLIC
DESCRIPTION:Veranstaltung: Projekt Mechatronik (PFMT2) (BTA3252)\nDozierend
 e: Urwyler [ulj1]\nRäume: VF1.04\nCode: BTA3252b
X-ALT-DESC;FMTTYPE=text/html:Veranstaltung: Projekt Mechatronik (PFMT2) (BT
 A3252)<br>Dozierende: Urwyler [ulj1]<br>Räume: VF1.04<br>Code: BTA3252b
DTSTAMP:20260425T003350Z
END:VEVENT
BEGIN:VEVENT
UID:69ec0bee9b1aa
DTSTART:20220323T072000Z
SEQUENCE:0
TRANSP:OPAQUE
DTEND:20220323T105500Z
LOCATION:VF1.04
SUMMARY:Projekt Mechatronik (PFMT2)
CLASS:PUBLIC
DESCRIPTION:Veranstaltung: Projekt Mechatronik (PFMT2) (BTA3252)\nDozierend
 e: Urwyler [ulj1]\nRäume: VF1.04\nCode: BTA3252b
X-ALT-DESC;FMTTYPE=text/html:Veranstaltung: Projekt Mechatronik (PFMT2) (BT
 A3252)<br>Dozierende: Urwyler [ulj1]<br>Räume: VF1.04<br>Code: BTA3252b
DTSTAMP:20260425T003350Z
END:VEVENT
BEGIN:VEVENT
UID:69ec0bee9b1d0
DTSTART:20220330T062000Z
SEQUENCE:0
TRANSP:OPAQUE
DTEND:20220330T095500Z
LOCATION:VF1.04
SUMMARY:Projekt Mechatronik (PFMT2)
CLASS:PUBLIC
DESCRIPTION:Veranstaltung: Projekt Mechatronik (PFMT2) (BTA3252)\nDozierend
 e: Urwyler [ulj1]\nRäume: VF1.04\nCode: BTA3252b
X-ALT-DESC;FMTTYPE=text/html:Veranstaltung: Projekt Mechatronik (PFMT2) (BT
 A3252)<br>Dozierende: Urwyler [ulj1]<br>Räume: VF1.04<br>Code: BTA3252b
DTSTAMP:20260425T003350Z
END:VEVENT
BEGIN:VEVENT
UID:69ec0bee9b1f7
DTSTART:20220406T062000Z
SEQUENCE:0
TRANSP:OPAQUE
DTEND:20220406T095500Z
LOCATION:VF1.04
SUMMARY:Projekt Mechatronik (PFMT2)
CLASS:PUBLIC
DESCRIPTION:Veranstaltung: Projekt Mechatronik (PFMT2) (BTA3252)\nDozierend
 e: Urwyler [ulj1]\nRäume: VF1.04\nCode: BTA3252b
X-ALT-DESC;FMTTYPE=text/html:Veranstaltung: Projekt Mechatronik (PFMT2) (BT
 A3252)<br>Dozierende: Urwyler [ulj1]<br>Räume: VF1.04<br>Code: BTA3252b
DTSTAMP:20260425T003350Z
END:VEVENT
BEGIN:VEVENT
UID:69ec0bee9b21d
DTSTART:20220420T062000Z
SEQUENCE:0
TRANSP:OPAQUE
DTEND:20220420T095500Z
LOCATION:VF1.04
SUMMARY:Projekt Mechatronik (PFMT2)
CLASS:PUBLIC
DESCRIPTION:Veranstaltung: Projekt Mechatronik (PFMT2) (BTA3252)\nDozierend
 e: Urwyler [ulj1]\nRäume: VF1.04\nCode: BTA3252b
X-ALT-DESC;FMTTYPE=text/html:Veranstaltung: Projekt Mechatronik (PFMT2) (BT
 A3252)<br>Dozierende: Urwyler [ulj1]<br>Räume: VF1.04<br>Code: BTA3252b
DTSTAMP:20260425T003350Z
END:VEVENT
BEGIN:VEVENT
UID:69ec0bee9b243
DTSTART:20220427T062000Z
SEQUENCE:0
TRANSP:OPAQUE
DTEND:20220427T095500Z
LOCATION:VF1.04
SUMMARY:Projekt Mechatronik (PFMT2)
CLASS:PUBLIC
DESCRIPTION:Veranstaltung: Projekt Mechatronik (PFMT2) (BTA3252)\nDozierend
 e: Urwyler [ulj1]\nRäume: VF1.04\nCode: BTA3252b
X-ALT-DESC;FMTTYPE=text/html:Veranstaltung: Projekt Mechatronik (PFMT2) (BT
 A3252)<br>Dozierende: Urwyler [ulj1]<br>Räume: VF1.04<br>Code: BTA3252b
DTSTAMP:20260425T003350Z
END:VEVENT
BEGIN:VEVENT
UID:69ec0bee9b26a
DTSTART:20220504T062000Z
SEQUENCE:0
TRANSP:OPAQUE
DTEND:20220504T095500Z
LOCATION:VF1.04
SUMMARY:Projekt Mechatronik (PFMT2)
CLASS:PUBLIC
DESCRIPTION:Veranstaltung: Projekt Mechatronik (PFMT2) (BTA3252)\nDozierend
 e: Urwyler [ulj1]\nRäume: VF1.04\nCode: BTA3252b
X-ALT-DESC;FMTTYPE=text/html:Veranstaltung: Projekt Mechatronik (PFMT2) (BT
 A3252)<br>Dozierende: Urwyler [ulj1]<br>Räume: VF1.04<br>Code: BTA3252b
DTSTAMP:20260425T003350Z
END:VEVENT
BEGIN:VEVENT
UID:69ec0bee9b291
DTSTART:20220511T062000Z
SEQUENCE:0
TRANSP:OPAQUE
DTEND:20220511T095500Z
LOCATION:VF1.04
SUMMARY:Projekt Mechatronik (PFMT2)
CLASS:PUBLIC
DESCRIPTION:Veranstaltung: Projekt Mechatronik (PFMT2) (BTA3252)\nDozierend
 e: Urwyler [ulj1]\nRäume: VF1.04\nCode: BTA3252b
X-ALT-DESC;FMTTYPE=text/html:Veranstaltung: Projekt Mechatronik (PFMT2) (BT
 A3252)<br>Dozierende: Urwyler [ulj1]<br>Räume: VF1.04<br>Code: BTA3252b
DTSTAMP:20260425T003350Z
END:VEVENT
BEGIN:VEVENT
UID:69ec0bee9b2b6
DTSTART:20220525T062000Z
SEQUENCE:0
TRANSP:OPAQUE
DTEND:20220525T095500Z
LOCATION:VF1.04
SUMMARY:Projekt Mechatronik (PFMT2)
CLASS:PUBLIC
DESCRIPTION:Veranstaltung: Projekt Mechatronik (PFMT2) (BTA3252)\nDozierend
 e: Urwyler [ulj1]\nRäume: VF1.04\nCode: BTA3252b
X-ALT-DESC;FMTTYPE=text/html:Veranstaltung: Projekt Mechatronik (PFMT2) (BT
 A3252)<br>Dozierende: Urwyler [ulj1]<br>Räume: VF1.04<br>Code: BTA3252b
DTSTAMP:20260425T003350Z
END:VEVENT
BEGIN:VEVENT
UID:69ec0bee9b2db
DTSTART:20220601T062000Z
SEQUENCE:0
TRANSP:OPAQUE
DTEND:20220601T095500Z
LOCATION:VF1.04
SUMMARY:Projekt Mechatronik (PFMT2)
CLASS:PUBLIC
DESCRIPTION:Veranstaltung: Projekt Mechatronik (PFMT2) (BTA3252)\nDozierend
 e: Urwyler [ulj1]\nRäume: VF1.04\nCode: BTA3252b
X-ALT-DESC;FMTTYPE=text/html:Veranstaltung: Projekt Mechatronik (PFMT2) (BT
 A3252)<br>Dozierende: Urwyler [ulj1]<br>Räume: VF1.04<br>Code: BTA3252b
DTSTAMP:20260425T003350Z
END:VEVENT
BEGIN:VEVENT
UID:69ec0bee9b301
DTSTART:20220608T062000Z
SEQUENCE:0
TRANSP:OPAQUE
DTEND:20220608T095500Z
LOCATION:VF1.04
SUMMARY:Projekt Mechatronik (PFMT2)
CLASS:PUBLIC
DESCRIPTION:Veranstaltung: Projekt Mechatronik (PFMT2) (BTA3252)\nDozierend
 e: Urwyler [ulj1]\nRäume: VF1.04\nCode: BTA3252b
X-ALT-DESC;FMTTYPE=text/html:Veranstaltung: Projekt Mechatronik (PFMT2) (BT
 A3252)<br>Dozierende: Urwyler [ulj1]<br>Räume: VF1.04<br>Code: BTA3252b
DTSTAMP:20260425T003350Z
END:VEVENT
BEGIN:VEVENT
UID:69ec0bee9b329
DTSTART:20220615T062000Z
SEQUENCE:0
TRANSP:OPAQUE
DTEND:20220615T095500Z
LOCATION:VF1.04
SUMMARY:Projekt Mechatronik (PFMT2)
CLASS:PUBLIC
DESCRIPTION:Veranstaltung: Projekt Mechatronik (PFMT2) (BTA3252)\nDozierend
 e: Urwyler [ulj1]\nRäume: VF1.04\nCode: BTA3252b
X-ALT-DESC;FMTTYPE=text/html:Veranstaltung: Projekt Mechatronik (PFMT2) (BT
 A3252)<br>Dozierende: Urwyler [ulj1]<br>Räume: VF1.04<br>Code: BTA3252b
DTSTAMP:20260425T003350Z
END:VEVENT
END:VCALENDAR