BEGIN:VCALENDAR
VERSION:2.0
PRODID:www.bfh.ch
X-APPLE-CALENDAR-COLOR:Orange
X-OUTLOOK-COLOR:Orange
X-FUNAMBOL-COLOR:Orange
X-WR-CALNAME:Übersicht BTA3262
BEGIN:VEVENT
UID:69ec1f6cbb6a2
DTSTART:20220224T114500Z
SEQUENCE:0
TRANSP:OPAQUE
DTEND:20220224T150000Z
LOCATION:O26
SUMMARY:Projekt Fahrzeugbau (PFZBA2)
CLASS:PUBLIC
DESCRIPTION:Veranstaltung: Projekt Fahrzeugbau (PFZBA2) (BTA3262)\nDozieren
 de: Tobler [tls1]\nRäume: O26\nCode: BTA3262b
X-ALT-DESC;FMTTYPE=text/html:Veranstaltung: Projekt Fahrzeugbau (PFZBA2) (B
 TA3262)<br>Dozierende: Tobler [tls1]<br>Räume: O26<br>Code: BTA3262b
DTSTAMP:20260425T015700Z
END:VEVENT
BEGIN:VEVENT
UID:69ec1f6cbb7b2
DTSTART:20220303T114500Z
SEQUENCE:0
TRANSP:OPAQUE
DTEND:20220303T150000Z
LOCATION:O26
SUMMARY:Projekt Fahrzeugbau (PFZBA2)
CLASS:PUBLIC
DESCRIPTION:Veranstaltung: Projekt Fahrzeugbau (PFZBA2) (BTA3262)\nDozieren
 de: Tobler [tls1]\nRäume: O26\nCode: BTA3262b
X-ALT-DESC;FMTTYPE=text/html:Veranstaltung: Projekt Fahrzeugbau (PFZBA2) (B
 TA3262)<br>Dozierende: Tobler [tls1]<br>Räume: O26<br>Code: BTA3262b
DTSTAMP:20260425T015700Z
END:VEVENT
BEGIN:VEVENT
UID:69ec1f6cbb7e4
DTSTART:20220310T114500Z
SEQUENCE:0
TRANSP:OPAQUE
DTEND:20220310T150000Z
LOCATION:O26
SUMMARY:Projekt Fahrzeugbau (PFZBA2)
CLASS:PUBLIC
DESCRIPTION:Veranstaltung: Projekt Fahrzeugbau (PFZBA2) (BTA3262)\nDozieren
 de: Tobler [tls1]\nRäume: O26\nCode: BTA3262b
X-ALT-DESC;FMTTYPE=text/html:Veranstaltung: Projekt Fahrzeugbau (PFZBA2) (B
 TA3262)<br>Dozierende: Tobler [tls1]<br>Räume: O26<br>Code: BTA3262b
DTSTAMP:20260425T015700Z
END:VEVENT
BEGIN:VEVENT
UID:69ec1f6cbb80d
DTSTART:20220317T114500Z
SEQUENCE:0
TRANSP:OPAQUE
DTEND:20220317T150000Z
LOCATION:O26
SUMMARY:Projekt Fahrzeugbau (PFZBA2)
CLASS:PUBLIC
DESCRIPTION:Veranstaltung: Projekt Fahrzeugbau (PFZBA2) (BTA3262)\nDozieren
 de: Tobler [tls1]\nRäume: O26\nCode: BTA3262b
X-ALT-DESC;FMTTYPE=text/html:Veranstaltung: Projekt Fahrzeugbau (PFZBA2) (B
 TA3262)<br>Dozierende: Tobler [tls1]<br>Räume: O26<br>Code: BTA3262b
DTSTAMP:20260425T015700Z
END:VEVENT
BEGIN:VEVENT
UID:69ec1f6cbb834
DTSTART:20220324T114500Z
SEQUENCE:0
TRANSP:OPAQUE
DTEND:20220324T150000Z
LOCATION:O26
SUMMARY:Projekt Fahrzeugbau (PFZBA2)
CLASS:PUBLIC
DESCRIPTION:Veranstaltung: Projekt Fahrzeugbau (PFZBA2) (BTA3262)\nDozieren
 de: Tobler [tls1]\nRäume: O26\nCode: BTA3262b
X-ALT-DESC;FMTTYPE=text/html:Veranstaltung: Projekt Fahrzeugbau (PFZBA2) (B
 TA3262)<br>Dozierende: Tobler [tls1]<br>Räume: O26<br>Code: BTA3262b
DTSTAMP:20260425T015700Z
END:VEVENT
BEGIN:VEVENT
UID:69ec1f6cbb85b
DTSTART:20220331T104500Z
SEQUENCE:0
TRANSP:OPAQUE
DTEND:20220331T140000Z
LOCATION:O26
SUMMARY:Projekt Fahrzeugbau (PFZBA2)
CLASS:PUBLIC
DESCRIPTION:Veranstaltung: Projekt Fahrzeugbau (PFZBA2) (BTA3262)\nDozieren
 de: Tobler [tls1]\nRäume: O26\nCode: BTA3262b
X-ALT-DESC;FMTTYPE=text/html:Veranstaltung: Projekt Fahrzeugbau (PFZBA2) (B
 TA3262)<br>Dozierende: Tobler [tls1]<br>Räume: O26<br>Code: BTA3262b
DTSTAMP:20260425T015700Z
END:VEVENT
BEGIN:VEVENT
UID:69ec1f6cbb880
DTSTART:20220407T104500Z
SEQUENCE:0
TRANSP:OPAQUE
DTEND:20220407T140000Z
LOCATION:O26
SUMMARY:Projekt Fahrzeugbau (PFZBA2)
CLASS:PUBLIC
DESCRIPTION:Veranstaltung: Projekt Fahrzeugbau (PFZBA2) (BTA3262)\nDozieren
 de: Tobler [tls1]\nRäume: O26\nCode: BTA3262b
X-ALT-DESC;FMTTYPE=text/html:Veranstaltung: Projekt Fahrzeugbau (PFZBA2) (B
 TA3262)<br>Dozierende: Tobler [tls1]<br>Räume: O26<br>Code: BTA3262b
DTSTAMP:20260425T015700Z
END:VEVENT
BEGIN:VEVENT
UID:69ec1f6cbb8a4
DTSTART:20220421T104500Z
SEQUENCE:0
TRANSP:OPAQUE
DTEND:20220421T140000Z
LOCATION:O26
SUMMARY:Projekt Fahrzeugbau (PFZBA2)
CLASS:PUBLIC
DESCRIPTION:Veranstaltung: Projekt Fahrzeugbau (PFZBA2) (BTA3262)\nDozieren
 de: Tobler [tls1]\nRäume: O26\nCode: BTA3262b
X-ALT-DESC;FMTTYPE=text/html:Veranstaltung: Projekt Fahrzeugbau (PFZBA2) (B
 TA3262)<br>Dozierende: Tobler [tls1]<br>Räume: O26<br>Code: BTA3262b
DTSTAMP:20260425T015700Z
END:VEVENT
BEGIN:VEVENT
UID:69ec1f6cbb8c9
DTSTART:20220428T104500Z
SEQUENCE:0
TRANSP:OPAQUE
DTEND:20220428T140000Z
LOCATION:O26
SUMMARY:Projekt Fahrzeugbau (PFZBA2)
CLASS:PUBLIC
DESCRIPTION:Veranstaltung: Projekt Fahrzeugbau (PFZBA2) (BTA3262)\nDozieren
 de: Tobler [tls1]\nRäume: O26\nCode: BTA3262b
X-ALT-DESC;FMTTYPE=text/html:Veranstaltung: Projekt Fahrzeugbau (PFZBA2) (B
 TA3262)<br>Dozierende: Tobler [tls1]<br>Räume: O26<br>Code: BTA3262b
DTSTAMP:20260425T015700Z
END:VEVENT
BEGIN:VEVENT
UID:69ec1f6cbb8ef
DTSTART:20220505T104500Z
SEQUENCE:0
TRANSP:OPAQUE
DTEND:20220505T140000Z
LOCATION:O26
SUMMARY:Projekt Fahrzeugbau (PFZBA2)
CLASS:PUBLIC
DESCRIPTION:Veranstaltung: Projekt Fahrzeugbau (PFZBA2) (BTA3262)\nDozieren
 de: Tobler [tls1]\nRäume: O26\nCode: BTA3262b
X-ALT-DESC;FMTTYPE=text/html:Veranstaltung: Projekt Fahrzeugbau (PFZBA2) (B
 TA3262)<br>Dozierende: Tobler [tls1]<br>Räume: O26<br>Code: BTA3262b
DTSTAMP:20260425T015700Z
END:VEVENT
BEGIN:VEVENT
UID:69ec1f6cbb915
DTSTART:20220512T104500Z
SEQUENCE:0
TRANSP:OPAQUE
DTEND:20220512T140000Z
LOCATION:O26
SUMMARY:Projekt Fahrzeugbau (PFZBA2)
CLASS:PUBLIC
DESCRIPTION:Veranstaltung: Projekt Fahrzeugbau (PFZBA2) (BTA3262)\nDozieren
 de: Tobler [tls1]\nRäume: O26\nCode: BTA3262b
X-ALT-DESC;FMTTYPE=text/html:Veranstaltung: Projekt Fahrzeugbau (PFZBA2) (B
 TA3262)<br>Dozierende: Tobler [tls1]<br>Räume: O26<br>Code: BTA3262b
DTSTAMP:20260425T015700Z
END:VEVENT
BEGIN:VEVENT
UID:69ec1f6cbb939
DTSTART:20220519T104500Z
SEQUENCE:0
TRANSP:OPAQUE
DTEND:20220519T140000Z
LOCATION:O26
SUMMARY:Projekt Fahrzeugbau (PFZBA2)
CLASS:PUBLIC
DESCRIPTION:Veranstaltung: Projekt Fahrzeugbau (PFZBA2) (BTA3262)\nDozieren
 de: Tobler [tls1]\nRäume: O26\nCode: BTA3262b
X-ALT-DESC;FMTTYPE=text/html:Veranstaltung: Projekt Fahrzeugbau (PFZBA2) (B
 TA3262)<br>Dozierende: Tobler [tls1]<br>Räume: O26<br>Code: BTA3262b
DTSTAMP:20260425T015700Z
END:VEVENT
BEGIN:VEVENT
UID:69ec1f6cbb95e
DTSTART:20220602T104500Z
SEQUENCE:0
TRANSP:OPAQUE
DTEND:20220602T140000Z
LOCATION:O26
SUMMARY:Projekt Fahrzeugbau (PFZBA2)
CLASS:PUBLIC
DESCRIPTION:Veranstaltung: Projekt Fahrzeugbau (PFZBA2) (BTA3262)\nDozieren
 de: Tobler [tls1]\nRäume: O26\nCode: BTA3262b
X-ALT-DESC;FMTTYPE=text/html:Veranstaltung: Projekt Fahrzeugbau (PFZBA2) (B
 TA3262)<br>Dozierende: Tobler [tls1]<br>Räume: O26<br>Code: BTA3262b
DTSTAMP:20260425T015700Z
END:VEVENT
BEGIN:VEVENT
UID:69ec1f6cbb984
DTSTART:20220609T104500Z
SEQUENCE:0
TRANSP:OPAQUE
DTEND:20220609T140000Z
LOCATION:O26
SUMMARY:Projekt Fahrzeugbau (PFZBA2)
CLASS:PUBLIC
DESCRIPTION:Veranstaltung: Projekt Fahrzeugbau (PFZBA2) (BTA3262)\nDozieren
 de: Tobler [tls1]\nRäume: O26\nCode: BTA3262b
X-ALT-DESC;FMTTYPE=text/html:Veranstaltung: Projekt Fahrzeugbau (PFZBA2) (B
 TA3262)<br>Dozierende: Tobler [tls1]<br>Räume: O26<br>Code: BTA3262b
DTSTAMP:20260425T015700Z
END:VEVENT
BEGIN:VEVENT
UID:69ec1f6cbb9ab
DTSTART:20220616T104500Z
SEQUENCE:0
TRANSP:OPAQUE
DTEND:20220616T140000Z
LOCATION:O26
SUMMARY:Projekt Fahrzeugbau (PFZBA2)
CLASS:PUBLIC
DESCRIPTION:Veranstaltung: Projekt Fahrzeugbau (PFZBA2) (BTA3262)\nDozieren
 de: Tobler [tls1]\nRäume: O26\nCode: BTA3262b
X-ALT-DESC;FMTTYPE=text/html:Veranstaltung: Projekt Fahrzeugbau (PFZBA2) (B
 TA3262)<br>Dozierende: Tobler [tls1]<br>Räume: O26<br>Code: BTA3262b
DTSTAMP:20260425T015700Z
END:VEVENT
END:VCALENDAR