BEGIN:VCALENDAR
VERSION:2.0
PRODID:www.bfh.ch
X-APPLE-CALENDAR-COLOR:Orange
X-OUTLOOK-COLOR:Orange
X-FUNAMBOL-COLOR:Orange
X-WR-CALNAME:Übersicht BTE5446
BEGIN:VEVENT
UID:69ebdc04248b1
DTSTART:20210920T104500Z
SEQUENCE:0
TRANSP:OPAQUE
DTEND:20210920T122000Z
LOCATION:Q509
SUMMARY:Embedded Linux
CLASS:PUBLIC
DESCRIPTION:Veranstaltung: Embedded Linux (BTE5446)\nDozierende: Habegger [
 hga3]\nRäume: Q509\nCode: BTE5446d
X-ALT-DESC;FMTTYPE=text/html:Veranstaltung: Embedded Linux (BTE5446)<br>Doz
 ierende: Habegger [hga3]<br>Räume: Q509<br>Code: BTE5446d
DTSTAMP:20260424T210924Z
END:VEVENT
BEGIN:VEVENT
UID:69ebdc0424991
DTSTART:20210927T104500Z
SEQUENCE:0
TRANSP:OPAQUE
DTEND:20210927T122000Z
LOCATION:Q509
SUMMARY:Embedded Linux
CLASS:PUBLIC
DESCRIPTION:Veranstaltung: Embedded Linux (BTE5446)\nDozierende: Habegger [
 hga3]\nRäume: Q509\nCode: BTE5446d
X-ALT-DESC;FMTTYPE=text/html:Veranstaltung: Embedded Linux (BTE5446)<br>Doz
 ierende: Habegger [hga3]<br>Räume: Q509<br>Code: BTE5446d
DTSTAMP:20260424T210924Z
END:VEVENT
BEGIN:VEVENT
UID:69ebdc04249c1
DTSTART:20211004T104500Z
SEQUENCE:0
TRANSP:OPAQUE
DTEND:20211004T122000Z
LOCATION:Q509
SUMMARY:Embedded Linux
CLASS:PUBLIC
DESCRIPTION:Veranstaltung: Embedded Linux (BTE5446)\nDozierende: Habegger [
 hga3]\nRäume: Q509\nCode: BTE5446d
X-ALT-DESC;FMTTYPE=text/html:Veranstaltung: Embedded Linux (BTE5446)<br>Doz
 ierende: Habegger [hga3]<br>Räume: Q509<br>Code: BTE5446d
DTSTAMP:20260424T210924Z
END:VEVENT
BEGIN:VEVENT
UID:69ebdc04249ea
DTSTART:20211011T104500Z
SEQUENCE:0
TRANSP:OPAQUE
DTEND:20211011T122000Z
LOCATION:Q509
SUMMARY:Embedded Linux
CLASS:PUBLIC
DESCRIPTION:Veranstaltung: Embedded Linux (BTE5446)\nDozierende: Habegger [
 hga3]\nRäume: Q509\nCode: BTE5446d
X-ALT-DESC;FMTTYPE=text/html:Veranstaltung: Embedded Linux (BTE5446)<br>Doz
 ierende: Habegger [hga3]<br>Räume: Q509<br>Code: BTE5446d
DTSTAMP:20260424T210924Z
END:VEVENT
BEGIN:VEVENT
UID:69ebdc0424a10
DTSTART:20211018T104500Z
SEQUENCE:0
TRANSP:OPAQUE
DTEND:20211018T122000Z
LOCATION:Q509
SUMMARY:Embedded Linux
CLASS:PUBLIC
DESCRIPTION:Veranstaltung: Embedded Linux (BTE5446)\nDozierende: Habegger [
 hga3]\nRäume: Q509\nCode: BTE5446d
X-ALT-DESC;FMTTYPE=text/html:Veranstaltung: Embedded Linux (BTE5446)<br>Doz
 ierende: Habegger [hga3]<br>Räume: Q509<br>Code: BTE5446d
DTSTAMP:20260424T210924Z
END:VEVENT
BEGIN:VEVENT
UID:69ebdc0424a36
DTSTART:20211025T104500Z
SEQUENCE:0
TRANSP:OPAQUE
DTEND:20211025T122000Z
LOCATION:Q509
SUMMARY:Embedded Linux
CLASS:PUBLIC
DESCRIPTION:Veranstaltung: Embedded Linux (BTE5446)\nDozierende: Habegger [
 hga3]\nRäume: Q509\nCode: BTE5446d
X-ALT-DESC;FMTTYPE=text/html:Veranstaltung: Embedded Linux (BTE5446)<br>Doz
 ierende: Habegger [hga3]<br>Räume: Q509<br>Code: BTE5446d
DTSTAMP:20260424T210924Z
END:VEVENT
BEGIN:VEVENT
UID:69ebdc0424a5c
DTSTART:20211101T114500Z
SEQUENCE:0
TRANSP:OPAQUE
DTEND:20211101T132000Z
LOCATION:Q509
SUMMARY:Embedded Linux
CLASS:PUBLIC
DESCRIPTION:Veranstaltung: Embedded Linux (BTE5446)\nDozierende: Habegger [
 hga3]\nRäume: Q509\nCode: BTE5446d
X-ALT-DESC;FMTTYPE=text/html:Veranstaltung: Embedded Linux (BTE5446)<br>Doz
 ierende: Habegger [hga3]<br>Räume: Q509<br>Code: BTE5446d
DTSTAMP:20260424T210924Z
END:VEVENT
BEGIN:VEVENT
UID:69ebdc0424a81
DTSTART:20211108T114500Z
SEQUENCE:0
TRANSP:OPAQUE
DTEND:20211108T132000Z
LOCATION:Q509
SUMMARY:Embedded Linux
CLASS:PUBLIC
DESCRIPTION:Veranstaltung: Embedded Linux (BTE5446)\nDozierende: Habegger [
 hga3]\nRäume: Q509\nCode: BTE5446d
X-ALT-DESC;FMTTYPE=text/html:Veranstaltung: Embedded Linux (BTE5446)<br>Doz
 ierende: Habegger [hga3]<br>Räume: Q509<br>Code: BTE5446d
DTSTAMP:20260424T210924Z
END:VEVENT
BEGIN:VEVENT
UID:69ebdc0424aa7
DTSTART:20211115T114500Z
SEQUENCE:0
TRANSP:OPAQUE
DTEND:20211115T132000Z
LOCATION:Q509
SUMMARY:Embedded Linux
CLASS:PUBLIC
DESCRIPTION:Veranstaltung: Embedded Linux (BTE5446)\nDozierende: Habegger [
 hga3]\nRäume: Q509\nCode: BTE5446d
X-ALT-DESC;FMTTYPE=text/html:Veranstaltung: Embedded Linux (BTE5446)<br>Doz
 ierende: Habegger [hga3]<br>Räume: Q509<br>Code: BTE5446d
DTSTAMP:20260424T210924Z
END:VEVENT
BEGIN:VEVENT
UID:69ebdc0424acc
DTSTART:20211122T114500Z
SEQUENCE:0
TRANSP:OPAQUE
DTEND:20211122T132000Z
LOCATION:Q509
SUMMARY:Embedded Linux
CLASS:PUBLIC
DESCRIPTION:Veranstaltung: Embedded Linux (BTE5446)\nDozierende: Habegger [
 hga3]\nRäume: Q509\nCode: BTE5446d
X-ALT-DESC;FMTTYPE=text/html:Veranstaltung: Embedded Linux (BTE5446)<br>Doz
 ierende: Habegger [hga3]<br>Räume: Q509<br>Code: BTE5446d
DTSTAMP:20260424T210924Z
END:VEVENT
BEGIN:VEVENT
UID:69ebdc0424af1
DTSTART:20211129T114500Z
SEQUENCE:0
TRANSP:OPAQUE
DTEND:20211129T132000Z
LOCATION:Q509
SUMMARY:Embedded Linux
CLASS:PUBLIC
DESCRIPTION:Veranstaltung: Embedded Linux (BTE5446)\nDozierende: Habegger [
 hga3]\nRäume: Q509\nCode: BTE5446d
X-ALT-DESC;FMTTYPE=text/html:Veranstaltung: Embedded Linux (BTE5446)<br>Doz
 ierende: Habegger [hga3]<br>Räume: Q509<br>Code: BTE5446d
DTSTAMP:20260424T210924Z
END:VEVENT
BEGIN:VEVENT
UID:69ebdc0424b18
DTSTART:20211206T114500Z
SEQUENCE:0
TRANSP:OPAQUE
DTEND:20211206T132000Z
LOCATION:Q509
SUMMARY:Embedded Linux
CLASS:PUBLIC
DESCRIPTION:Veranstaltung: Embedded Linux (BTE5446)\nDozierende: Habegger [
 hga3]\nRäume: Q509\nCode: BTE5446d
X-ALT-DESC;FMTTYPE=text/html:Veranstaltung: Embedded Linux (BTE5446)<br>Doz
 ierende: Habegger [hga3]<br>Räume: Q509<br>Code: BTE5446d
DTSTAMP:20260424T210924Z
END:VEVENT
BEGIN:VEVENT
UID:69ebdc0424b3e
DTSTART:20211213T114500Z
SEQUENCE:0
TRANSP:OPAQUE
DTEND:20211213T132000Z
LOCATION:Q509
SUMMARY:Embedded Linux
CLASS:PUBLIC
DESCRIPTION:Veranstaltung: Embedded Linux (BTE5446)\nDozierende: Habegger [
 hga3]\nRäume: Q509\nCode: BTE5446d
X-ALT-DESC;FMTTYPE=text/html:Veranstaltung: Embedded Linux (BTE5446)<br>Doz
 ierende: Habegger [hga3]<br>Räume: Q509<br>Code: BTE5446d
DTSTAMP:20260424T210924Z
END:VEVENT
BEGIN:VEVENT
UID:69ebdc0424b63
DTSTART:20211220T114500Z
SEQUENCE:0
TRANSP:OPAQUE
DTEND:20211220T132000Z
LOCATION:Q509
SUMMARY:Embedded Linux
CLASS:PUBLIC
DESCRIPTION:Veranstaltung: Embedded Linux (BTE5446)\nDozierende: Habegger [
 hga3]\nRäume: Q509\nCode: BTE5446d
X-ALT-DESC;FMTTYPE=text/html:Veranstaltung: Embedded Linux (BTE5446)<br>Doz
 ierende: Habegger [hga3]<br>Räume: Q509<br>Code: BTE5446d
DTSTAMP:20260424T210924Z
END:VEVENT
BEGIN:VEVENT
UID:69ebdc0424b88
DTSTART:20220110T114500Z
SEQUENCE:0
TRANSP:OPAQUE
DTEND:20220110T132000Z
LOCATION:Q509
SUMMARY:Embedded Linux
CLASS:PUBLIC
DESCRIPTION:Veranstaltung: Embedded Linux (BTE5446)\nDozierende: Habegger [
 hga3]\nRäume: Q509\nCode: BTE5446d
X-ALT-DESC;FMTTYPE=text/html:Veranstaltung: Embedded Linux (BTE5446)<br>Doz
 ierende: Habegger [hga3]<br>Räume: Q509<br>Code: BTE5446d
DTSTAMP:20260424T210924Z
END:VEVENT
BEGIN:VEVENT
UID:69ebdc0424bad
DTSTART:20220117T114500Z
SEQUENCE:0
TRANSP:OPAQUE
DTEND:20220117T132000Z
LOCATION:Q509
SUMMARY:Embedded Linux
CLASS:PUBLIC
DESCRIPTION:Veranstaltung: Embedded Linux (BTE5446)\nDozierende: Habegger [
 hga3]\nRäume: Q509\nCode: BTE5446d
X-ALT-DESC;FMTTYPE=text/html:Veranstaltung: Embedded Linux (BTE5446)<br>Doz
 ierende: Habegger [hga3]<br>Räume: Q509<br>Code: BTE5446d
DTSTAMP:20260424T210924Z
END:VEVENT
BEGIN:VEVENT
UID:69ebdc0424bd2
DTSTART:20220920T141500Z
SEQUENCE:0
TRANSP:OPAQUE
DTEND:20220920T155000Z
LOCATION:Quell-Q406
SUMMARY:Embedded Linux
CLASS:PUBLIC
DESCRIPTION:Veranstaltung: Embedded Linux (BTE5446)\nDozierende:  [eit1]\nR
 äume: Quell-Q406\nCode: BTE5446d
X-ALT-DESC;FMTTYPE=text/html:Veranstaltung: Embedded Linux (BTE5446)<br>Doz
 ierende:  [eit1]<br>Räume: Quell-Q406<br>Code: BTE5446d
DTSTAMP:20260424T210924Z
END:VEVENT
BEGIN:VEVENT
UID:69ebdc0424bf9
DTSTART:20220927T141500Z
SEQUENCE:0
TRANSP:OPAQUE
DTEND:20220927T155000Z
LOCATION:Quell-Q406
SUMMARY:Embedded Linux
CLASS:PUBLIC
DESCRIPTION:Veranstaltung: Embedded Linux (BTE5446)\nDozierende:  [eit1]\nR
 äume: Quell-Q406\nCode: BTE5446d
X-ALT-DESC;FMTTYPE=text/html:Veranstaltung: Embedded Linux (BTE5446)<br>Doz
 ierende:  [eit1]<br>Räume: Quell-Q406<br>Code: BTE5446d
DTSTAMP:20260424T210924Z
END:VEVENT
BEGIN:VEVENT
UID:69ebdc0424c1d
DTSTART:20221004T141500Z
SEQUENCE:0
TRANSP:OPAQUE
DTEND:20221004T155000Z
LOCATION:Quell-Q406
SUMMARY:Embedded Linux
CLASS:PUBLIC
DESCRIPTION:Veranstaltung: Embedded Linux (BTE5446)\nDozierende:  [eit1]\nR
 äume: Quell-Q406\nCode: BTE5446d
X-ALT-DESC;FMTTYPE=text/html:Veranstaltung: Embedded Linux (BTE5446)<br>Doz
 ierende:  [eit1]<br>Räume: Quell-Q406<br>Code: BTE5446d
DTSTAMP:20260424T210924Z
END:VEVENT
BEGIN:VEVENT
UID:69ebdc0424c5d
DTSTART:20221011T141500Z
SEQUENCE:0
TRANSP:OPAQUE
DTEND:20221011T155000Z
LOCATION:Quell-Q406
SUMMARY:Embedded Linux
CLASS:PUBLIC
DESCRIPTION:Veranstaltung: Embedded Linux (BTE5446)\nDozierende:  [eit1]\nR
 äume: Quell-Q406\nCode: BTE5446d
X-ALT-DESC;FMTTYPE=text/html:Veranstaltung: Embedded Linux (BTE5446)<br>Doz
 ierende:  [eit1]<br>Räume: Quell-Q406<br>Code: BTE5446d
DTSTAMP:20260424T210924Z
END:VEVENT
BEGIN:VEVENT
UID:69ebdc0424c8d
DTSTART:20221018T141500Z
SEQUENCE:0
TRANSP:OPAQUE
DTEND:20221018T155000Z
LOCATION:Quell-Q406
SUMMARY:Embedded Linux
CLASS:PUBLIC
DESCRIPTION:Veranstaltung: Embedded Linux (BTE5446)\nDozierende:  [eit1]\nR
 äume: Quell-Q406\nCode: BTE5446d
X-ALT-DESC;FMTTYPE=text/html:Veranstaltung: Embedded Linux (BTE5446)<br>Doz
 ierende:  [eit1]<br>Räume: Quell-Q406<br>Code: BTE5446d
DTSTAMP:20260424T210924Z
END:VEVENT
BEGIN:VEVENT
UID:69ebdc0424cb1
DTSTART:20221025T141500Z
SEQUENCE:0
TRANSP:OPAQUE
DTEND:20221025T155000Z
LOCATION:Quell-Q406
SUMMARY:Embedded Linux
CLASS:PUBLIC
DESCRIPTION:Veranstaltung: Embedded Linux (BTE5446)\nDozierende:  [eit1]\nR
 äume: Quell-Q406\nCode: BTE5446d
X-ALT-DESC;FMTTYPE=text/html:Veranstaltung: Embedded Linux (BTE5446)<br>Doz
 ierende:  [eit1]<br>Räume: Quell-Q406<br>Code: BTE5446d
DTSTAMP:20260424T210924Z
END:VEVENT
BEGIN:VEVENT
UID:69ebdc0424cd6
DTSTART:20221101T151500Z
SEQUENCE:0
TRANSP:OPAQUE
DTEND:20221101T165000Z
LOCATION:Quell-Q406
SUMMARY:Embedded Linux
CLASS:PUBLIC
DESCRIPTION:Veranstaltung: Embedded Linux (BTE5446)\nDozierende:  [eit1]\nR
 äume: Quell-Q406\nCode: BTE5446d
X-ALT-DESC;FMTTYPE=text/html:Veranstaltung: Embedded Linux (BTE5446)<br>Doz
 ierende:  [eit1]<br>Räume: Quell-Q406<br>Code: BTE5446d
DTSTAMP:20260424T210924Z
END:VEVENT
BEGIN:VEVENT
UID:69ebdc0424cfc
DTSTART:20221108T151500Z
SEQUENCE:0
TRANSP:OPAQUE
DTEND:20221108T165000Z
LOCATION:Quell-Q406
SUMMARY:Embedded Linux
CLASS:PUBLIC
DESCRIPTION:Veranstaltung: Embedded Linux (BTE5446)\nDozierende:  [eit1]\nR
 äume: Quell-Q406\nCode: BTE5446d
X-ALT-DESC;FMTTYPE=text/html:Veranstaltung: Embedded Linux (BTE5446)<br>Doz
 ierende:  [eit1]<br>Räume: Quell-Q406<br>Code: BTE5446d
DTSTAMP:20260424T210924Z
END:VEVENT
BEGIN:VEVENT
UID:69ebdc0424d20
DTSTART:20221115T151500Z
SEQUENCE:0
TRANSP:OPAQUE
DTEND:20221115T165000Z
LOCATION:Quell-Q406
SUMMARY:Embedded Linux
CLASS:PUBLIC
DESCRIPTION:Veranstaltung: Embedded Linux (BTE5446)\nDozierende:  [eit1]\nR
 äume: Quell-Q406\nCode: BTE5446d
X-ALT-DESC;FMTTYPE=text/html:Veranstaltung: Embedded Linux (BTE5446)<br>Doz
 ierende:  [eit1]<br>Räume: Quell-Q406<br>Code: BTE5446d
DTSTAMP:20260424T210924Z
END:VEVENT
BEGIN:VEVENT
UID:69ebdc0424d44
DTSTART:20221116T072000Z
SEQUENCE:0
TRANSP:OPAQUE
DTEND:20221116T105500Z
LOCATION:Jlco-T131
SUMMARY:Embedded Linux
CLASS:PUBLIC
DESCRIPTION:Veranstaltung: Embedded Linux (BTE5446)\nDozierende: Aebersold 
 [aom1]\nRäume: Jlco-T131\nCode: BTE5446a
X-ALT-DESC;FMTTYPE=text/html:Veranstaltung: Embedded Linux (BTE5446)<br>Doz
 ierende: Aebersold [aom1]<br>Räume: Jlco-T131<br>Code: BTE5446a
DTSTAMP:20260424T210924Z
END:VEVENT
BEGIN:VEVENT
UID:69ebdc0424d6b
DTSTART:20221122T151500Z
SEQUENCE:0
TRANSP:OPAQUE
DTEND:20221122T165000Z
LOCATION:Quell-Q406
SUMMARY:Embedded Linux
CLASS:PUBLIC
DESCRIPTION:Veranstaltung: Embedded Linux (BTE5446)\nDozierende:  [eit1]\nR
 äume: Quell-Q406\nCode: BTE5446d
X-ALT-DESC;FMTTYPE=text/html:Veranstaltung: Embedded Linux (BTE5446)<br>Doz
 ierende:  [eit1]<br>Räume: Quell-Q406<br>Code: BTE5446d
DTSTAMP:20260424T210924Z
END:VEVENT
BEGIN:VEVENT
UID:69ebdc0424d90
DTSTART:20221123T072000Z
SEQUENCE:0
TRANSP:OPAQUE
DTEND:20221123T105500Z
LOCATION:Jlco-T131
SUMMARY:Embedded Linux
CLASS:PUBLIC
DESCRIPTION:Veranstaltung: Embedded Linux (BTE5446)\nDozierende: Aebersold 
 [aom1]\nRäume: Jlco-T131\nCode: BTE5446a
X-ALT-DESC;FMTTYPE=text/html:Veranstaltung: Embedded Linux (BTE5446)<br>Doz
 ierende: Aebersold [aom1]<br>Räume: Jlco-T131<br>Code: BTE5446a
DTSTAMP:20260424T210924Z
END:VEVENT
BEGIN:VEVENT
UID:69ebdc0424db4
DTSTART:20221129T151500Z
SEQUENCE:0
TRANSP:OPAQUE
DTEND:20221129T165000Z
LOCATION:Quell-Q406
SUMMARY:Embedded Linux
CLASS:PUBLIC
DESCRIPTION:Veranstaltung: Embedded Linux (BTE5446)\nDozierende:  [eit1]\nR
 äume: Quell-Q406\nCode: BTE5446d
X-ALT-DESC;FMTTYPE=text/html:Veranstaltung: Embedded Linux (BTE5446)<br>Doz
 ierende:  [eit1]<br>Räume: Quell-Q406<br>Code: BTE5446d
DTSTAMP:20260424T210924Z
END:VEVENT
BEGIN:VEVENT
UID:69ebdc0424dd8
DTSTART:20221130T072000Z
SEQUENCE:0
TRANSP:OPAQUE
DTEND:20221130T105500Z
LOCATION:Jlco-T131
SUMMARY:Embedded Linux
CLASS:PUBLIC
DESCRIPTION:Veranstaltung: Embedded Linux (BTE5446)\nDozierende: Aebersold 
 [aom1]\nRäume: Jlco-T131\nCode: BTE5446a
X-ALT-DESC;FMTTYPE=text/html:Veranstaltung: Embedded Linux (BTE5446)<br>Doz
 ierende: Aebersold [aom1]<br>Räume: Jlco-T131<br>Code: BTE5446a
DTSTAMP:20260424T210924Z
END:VEVENT
BEGIN:VEVENT
UID:69ebdc0424dfd
DTSTART:20221206T151500Z
SEQUENCE:0
TRANSP:OPAQUE
DTEND:20221206T165000Z
LOCATION:Quell-Q406
SUMMARY:Embedded Linux
CLASS:PUBLIC
DESCRIPTION:Veranstaltung: Embedded Linux (BTE5446)\nDozierende:  [eit1]\nR
 äume: Quell-Q406\nCode: BTE5446d
X-ALT-DESC;FMTTYPE=text/html:Veranstaltung: Embedded Linux (BTE5446)<br>Doz
 ierende:  [eit1]<br>Räume: Quell-Q406<br>Code: BTE5446d
DTSTAMP:20260424T210924Z
END:VEVENT
BEGIN:VEVENT
UID:69ebdc0424e23
DTSTART:20221207T072000Z
SEQUENCE:0
TRANSP:OPAQUE
DTEND:20221207T105500Z
LOCATION:Jlco-T131
SUMMARY:Embedded Linux
CLASS:PUBLIC
DESCRIPTION:Veranstaltung: Embedded Linux (BTE5446)\nDozierende: Aebersold 
 [aom1]\nRäume: Jlco-T131\nCode: BTE5446a
X-ALT-DESC;FMTTYPE=text/html:Veranstaltung: Embedded Linux (BTE5446)<br>Doz
 ierende: Aebersold [aom1]<br>Räume: Jlco-T131<br>Code: BTE5446a
DTSTAMP:20260424T210924Z
END:VEVENT
BEGIN:VEVENT
UID:69ebdc0424e49
DTSTART:20221213T151500Z
SEQUENCE:0
TRANSP:OPAQUE
DTEND:20221213T165000Z
LOCATION:Quell-Q406
SUMMARY:Embedded Linux
CLASS:PUBLIC
DESCRIPTION:Veranstaltung: Embedded Linux (BTE5446)\nDozierende:  [eit1]\nR
 äume: Quell-Q406\nCode: BTE5446d
X-ALT-DESC;FMTTYPE=text/html:Veranstaltung: Embedded Linux (BTE5446)<br>Doz
 ierende:  [eit1]<br>Räume: Quell-Q406<br>Code: BTE5446d
DTSTAMP:20260424T210924Z
END:VEVENT
BEGIN:VEVENT
UID:69ebdc0424e6e
DTSTART:20221214T072000Z
SEQUENCE:0
TRANSP:OPAQUE
DTEND:20221214T105500Z
LOCATION:Jlco-T131
SUMMARY:Embedded Linux
CLASS:PUBLIC
DESCRIPTION:Veranstaltung: Embedded Linux (BTE5446)\nDozierende: Aebersold 
 [aom1]\nRäume: Jlco-T131\nCode: BTE5446a
X-ALT-DESC;FMTTYPE=text/html:Veranstaltung: Embedded Linux (BTE5446)<br>Doz
 ierende: Aebersold [aom1]<br>Räume: Jlco-T131<br>Code: BTE5446a
DTSTAMP:20260424T210924Z
END:VEVENT
BEGIN:VEVENT
UID:69ebdc0424e92
DTSTART:20221220T151500Z
SEQUENCE:0
TRANSP:OPAQUE
DTEND:20221220T165000Z
LOCATION:Quell-Q406
SUMMARY:Embedded Linux
CLASS:PUBLIC
DESCRIPTION:Veranstaltung: Embedded Linux (BTE5446)\nDozierende:  [eit1]\nR
 äume: Quell-Q406\nCode: BTE5446d
X-ALT-DESC;FMTTYPE=text/html:Veranstaltung: Embedded Linux (BTE5446)<br>Doz
 ierende:  [eit1]<br>Räume: Quell-Q406<br>Code: BTE5446d
DTSTAMP:20260424T210924Z
END:VEVENT
BEGIN:VEVENT
UID:69ebdc0424eb6
DTSTART:20221221T072000Z
SEQUENCE:0
TRANSP:OPAQUE
DTEND:20221221T105500Z
LOCATION:Jlco-T131
SUMMARY:Embedded Linux
CLASS:PUBLIC
DESCRIPTION:Veranstaltung: Embedded Linux (BTE5446)\nDozierende: Aebersold 
 [aom1]\nRäume: Jlco-T131\nCode: BTE5446a
X-ALT-DESC;FMTTYPE=text/html:Veranstaltung: Embedded Linux (BTE5446)<br>Doz
 ierende: Aebersold [aom1]<br>Räume: Jlco-T131<br>Code: BTE5446a
DTSTAMP:20260424T210924Z
END:VEVENT
BEGIN:VEVENT
UID:69ebdc0424edc
DTSTART:20230110T151500Z
SEQUENCE:0
TRANSP:OPAQUE
DTEND:20230110T165000Z
LOCATION:Quell-Q406
SUMMARY:Embedded Linux
CLASS:PUBLIC
DESCRIPTION:Veranstaltung: Embedded Linux (BTE5446)\nDozierende:  [eit1]\nR
 äume: Quell-Q406\nCode: BTE5446d
X-ALT-DESC;FMTTYPE=text/html:Veranstaltung: Embedded Linux (BTE5446)<br>Doz
 ierende:  [eit1]<br>Räume: Quell-Q406<br>Code: BTE5446d
DTSTAMP:20260424T210924Z
END:VEVENT
BEGIN:VEVENT
UID:69ebdc0424eff
DTSTART:20230111T072000Z
SEQUENCE:0
TRANSP:OPAQUE
DTEND:20230111T105500Z
LOCATION:Jlco-T131
SUMMARY:Embedded Linux
CLASS:PUBLIC
DESCRIPTION:Veranstaltung: Embedded Linux (BTE5446)\nDozierende: Aebersold 
 [aom1]\nRäume: Jlco-T131\nCode: BTE5446a
X-ALT-DESC;FMTTYPE=text/html:Veranstaltung: Embedded Linux (BTE5446)<br>Doz
 ierende: Aebersold [aom1]<br>Räume: Jlco-T131<br>Code: BTE5446a
DTSTAMP:20260424T210924Z
END:VEVENT
BEGIN:VEVENT
UID:69ebdc0424f24
DTSTART:20230117T151500Z
SEQUENCE:0
TRANSP:OPAQUE
DTEND:20230117T165000Z
LOCATION:Quell-Q406
SUMMARY:Embedded Linux
CLASS:PUBLIC
DESCRIPTION:Veranstaltung: Embedded Linux (BTE5446)\nDozierende:  [eit1]\nR
 äume: Quell-Q406\nCode: BTE5446d
X-ALT-DESC;FMTTYPE=text/html:Veranstaltung: Embedded Linux (BTE5446)<br>Doz
 ierende:  [eit1]<br>Räume: Quell-Q406<br>Code: BTE5446d
DTSTAMP:20260424T210924Z
END:VEVENT
BEGIN:VEVENT
UID:69ebdc0424f48
DTSTART:20230118T072000Z
SEQUENCE:0
TRANSP:OPAQUE
DTEND:20230118T105500Z
LOCATION:Jlco-T131
SUMMARY:Embedded Linux
CLASS:PUBLIC
DESCRIPTION:Veranstaltung: Embedded Linux (BTE5446)\nDozierende: Aebersold 
 [aom1]\nRäume: Jlco-T131\nCode: BTE5446a
X-ALT-DESC;FMTTYPE=text/html:Veranstaltung: Embedded Linux (BTE5446)<br>Doz
 ierende: Aebersold [aom1]<br>Räume: Jlco-T131<br>Code: BTE5446a
DTSTAMP:20260424T210924Z
END:VEVENT
BEGIN:VEVENT
UID:69ebdc0424f6c
DTSTART:20280919T141500Z
SEQUENCE:0
TRANSP:OPAQUE
DTEND:20280919T155000Z
LOCATION:CBB-X406
SUMMARY:Embedded Linux
CLASS:PUBLIC
DESCRIPTION:Veranstaltung: Embedded Linux (BTE5446)\nDozierende:  [eit1]\nR
 äume: CBB-X406\nCode: BTE5446d
X-ALT-DESC;FMTTYPE=text/html:Veranstaltung: Embedded Linux (BTE5446)<br>Doz
 ierende:  [eit1]<br>Räume: CBB-X406<br>Code: BTE5446d
DTSTAMP:20260424T210924Z
END:VEVENT
END:VCALENDAR