BEGIN:VCALENDAR
VERSION:2.0
PRODID:www.bfh.ch
X-APPLE-CALENDAR-COLOR:Orange
X-OUTLOOK-COLOR:Orange
X-FUNAMBOL-COLOR:Orange
X-WR-CALNAME:Übersicht BTE5473
BEGIN:VEVENT
UID:69ebe146e7592
DTSTART:20220224T072000Z
SEQUENCE:0
TRANSP:OPAQUE
DTEND:20220224T105500Z
LOCATION:N721\, T006
SUMMARY:Wireless Communication Systems
CLASS:PUBLIC
DESCRIPTION:Veranstaltung: Wireless Communication Systems (BTE5473)\nDozier
 ende: Ridolfi [rla2]\nRäume: N721\, T006\nCode: BTE5473d\nKommentar: 25% 
 : 10-Wochen : BiBu
X-ALT-DESC;FMTTYPE=text/html:Veranstaltung: Wireless Communication Systems 
 (BTE5473)<br>Dozierende: Ridolfi [rla2]<br>Räume: N721\, T006<br>Code: BT
 E5473d<br>Kommentar: 25% : 10-Wochen : BiBu
DTSTAMP:20260424T213150Z
END:VEVENT
BEGIN:VEVENT
UID:69ebe146e7683
DTSTART:20220224T072000Z
SEQUENCE:0
TRANSP:OPAQUE
DTEND:20220224T105500Z
LOCATION:N721\, T006
SUMMARY:Wireless Communication Systems
CLASS:PUBLIC
DESCRIPTION:Veranstaltung: Wireless Communication Systems (BTE5473)\nDozier
 ende: Vogt [vor2]\nRäume: N721\, T006\nCode: BTE5473d\nKommentar: 75% : 1
 0-Wochen : BiBu
X-ALT-DESC;FMTTYPE=text/html:Veranstaltung: Wireless Communication Systems 
 (BTE5473)<br>Dozierende: Vogt [vor2]<br>Räume: N721\, T006<br>Code: BTE54
 73d<br>Kommentar: 75% : 10-Wochen : BiBu
DTSTAMP:20260424T213150Z
END:VEVENT
BEGIN:VEVENT
UID:69ebe146e76b1
DTSTART:20220224T114500Z
SEQUENCE:0
TRANSP:OPAQUE
DTEND:20220224T132000Z
LOCATION:N721\, T006
SUMMARY:Wireless Communication Systems
CLASS:PUBLIC
DESCRIPTION:Veranstaltung: Wireless Communication Systems (BTE5473)\nDozier
 ende: Ridolfi [rla2]\nRäume: N721\, T006\nCode: BTE5473d\nKommentar: 25% 
 : 10-Wochen : BiBu
X-ALT-DESC;FMTTYPE=text/html:Veranstaltung: Wireless Communication Systems 
 (BTE5473)<br>Dozierende: Ridolfi [rla2]<br>Räume: N721\, T006<br>Code: BT
 E5473d<br>Kommentar: 25% : 10-Wochen : BiBu
DTSTAMP:20260424T213150Z
END:VEVENT
BEGIN:VEVENT
UID:69ebe146e76d6
DTSTART:20220224T114500Z
SEQUENCE:0
TRANSP:OPAQUE
DTEND:20220224T132000Z
LOCATION:N721\, T006
SUMMARY:Wireless Communication Systems
CLASS:PUBLIC
DESCRIPTION:Veranstaltung: Wireless Communication Systems (BTE5473)\nDozier
 ende: Vogt [vor2]\nRäume: N721\, T006\nCode: BTE5473d\nKommentar: 75% : 1
 0-Wochen : BiBu
X-ALT-DESC;FMTTYPE=text/html:Veranstaltung: Wireless Communication Systems 
 (BTE5473)<br>Dozierende: Vogt [vor2]<br>Räume: N721\, T006<br>Code: BTE54
 73d<br>Kommentar: 75% : 10-Wochen : BiBu
DTSTAMP:20260424T213150Z
END:VEVENT
BEGIN:VEVENT
UID:69ebe146e76fc
DTSTART:20220303T072000Z
SEQUENCE:0
TRANSP:OPAQUE
DTEND:20220303T105500Z
LOCATION:N721\, T006
SUMMARY:Wireless Communication Systems
CLASS:PUBLIC
DESCRIPTION:Veranstaltung: Wireless Communication Systems (BTE5473)\nDozier
 ende: Ridolfi [rla2]\nRäume: N721\, T006\nCode: BTE5473d\nKommentar: 25% 
 : 10-Wochen : BiBu
X-ALT-DESC;FMTTYPE=text/html:Veranstaltung: Wireless Communication Systems 
 (BTE5473)<br>Dozierende: Ridolfi [rla2]<br>Räume: N721\, T006<br>Code: BT
 E5473d<br>Kommentar: 25% : 10-Wochen : BiBu
DTSTAMP:20260424T213150Z
END:VEVENT
BEGIN:VEVENT
UID:69ebe146e7720
DTSTART:20220303T072000Z
SEQUENCE:0
TRANSP:OPAQUE
DTEND:20220303T105500Z
LOCATION:N721\, T006
SUMMARY:Wireless Communication Systems
CLASS:PUBLIC
DESCRIPTION:Veranstaltung: Wireless Communication Systems (BTE5473)\nDozier
 ende: Vogt [vor2]\nRäume: N721\, T006\nCode: BTE5473d\nKommentar: 75% : 1
 0-Wochen : BiBu
X-ALT-DESC;FMTTYPE=text/html:Veranstaltung: Wireless Communication Systems 
 (BTE5473)<br>Dozierende: Vogt [vor2]<br>Räume: N721\, T006<br>Code: BTE54
 73d<br>Kommentar: 75% : 10-Wochen : BiBu
DTSTAMP:20260424T213150Z
END:VEVENT
BEGIN:VEVENT
UID:69ebe146e7744
DTSTART:20220303T114500Z
SEQUENCE:0
TRANSP:OPAQUE
DTEND:20220303T132000Z
LOCATION:N721\, T006
SUMMARY:Wireless Communication Systems
CLASS:PUBLIC
DESCRIPTION:Veranstaltung: Wireless Communication Systems (BTE5473)\nDozier
 ende: Ridolfi [rla2]\nRäume: N721\, T006\nCode: BTE5473d\nKommentar: 25% 
 : 10-Wochen : BiBu
X-ALT-DESC;FMTTYPE=text/html:Veranstaltung: Wireless Communication Systems 
 (BTE5473)<br>Dozierende: Ridolfi [rla2]<br>Räume: N721\, T006<br>Code: BT
 E5473d<br>Kommentar: 25% : 10-Wochen : BiBu
DTSTAMP:20260424T213150Z
END:VEVENT
BEGIN:VEVENT
UID:69ebe146e7767
DTSTART:20220303T114500Z
SEQUENCE:0
TRANSP:OPAQUE
DTEND:20220303T132000Z
LOCATION:N721\, T006
SUMMARY:Wireless Communication Systems
CLASS:PUBLIC
DESCRIPTION:Veranstaltung: Wireless Communication Systems (BTE5473)\nDozier
 ende: Vogt [vor2]\nRäume: N721\, T006\nCode: BTE5473d\nKommentar: 75% : 1
 0-Wochen : BiBu
X-ALT-DESC;FMTTYPE=text/html:Veranstaltung: Wireless Communication Systems 
 (BTE5473)<br>Dozierende: Vogt [vor2]<br>Räume: N721\, T006<br>Code: BTE54
 73d<br>Kommentar: 75% : 10-Wochen : BiBu
DTSTAMP:20260424T213150Z
END:VEVENT
BEGIN:VEVENT
UID:69ebe146e778b
DTSTART:20220310T072000Z
SEQUENCE:0
TRANSP:OPAQUE
DTEND:20220310T105500Z
LOCATION:N721\, T006
SUMMARY:Wireless Communication Systems
CLASS:PUBLIC
DESCRIPTION:Veranstaltung: Wireless Communication Systems (BTE5473)\nDozier
 ende: Ridolfi [rla2]\nRäume: N721\, T006\nCode: BTE5473d\nKommentar: 25% 
 : 10-Wochen : BiBu
X-ALT-DESC;FMTTYPE=text/html:Veranstaltung: Wireless Communication Systems 
 (BTE5473)<br>Dozierende: Ridolfi [rla2]<br>Räume: N721\, T006<br>Code: BT
 E5473d<br>Kommentar: 25% : 10-Wochen : BiBu
DTSTAMP:20260424T213150Z
END:VEVENT
BEGIN:VEVENT
UID:69ebe146e77b0
DTSTART:20220310T072000Z
SEQUENCE:0
TRANSP:OPAQUE
DTEND:20220310T105500Z
LOCATION:N721\, T006
SUMMARY:Wireless Communication Systems
CLASS:PUBLIC
DESCRIPTION:Veranstaltung: Wireless Communication Systems (BTE5473)\nDozier
 ende: Vogt [vor2]\nRäume: N721\, T006\nCode: BTE5473d\nKommentar: 75% : 1
 0-Wochen : BiBu
X-ALT-DESC;FMTTYPE=text/html:Veranstaltung: Wireless Communication Systems 
 (BTE5473)<br>Dozierende: Vogt [vor2]<br>Räume: N721\, T006<br>Code: BTE54
 73d<br>Kommentar: 75% : 10-Wochen : BiBu
DTSTAMP:20260424T213150Z
END:VEVENT
BEGIN:VEVENT
UID:69ebe146e77d3
DTSTART:20220310T114500Z
SEQUENCE:0
TRANSP:OPAQUE
DTEND:20220310T132000Z
LOCATION:N721\, T006
SUMMARY:Wireless Communication Systems
CLASS:PUBLIC
DESCRIPTION:Veranstaltung: Wireless Communication Systems (BTE5473)\nDozier
 ende: Ridolfi [rla2]\nRäume: N721\, T006\nCode: BTE5473d\nKommentar: 25% 
 : 10-Wochen : BiBu
X-ALT-DESC;FMTTYPE=text/html:Veranstaltung: Wireless Communication Systems 
 (BTE5473)<br>Dozierende: Ridolfi [rla2]<br>Räume: N721\, T006<br>Code: BT
 E5473d<br>Kommentar: 25% : 10-Wochen : BiBu
DTSTAMP:20260424T213150Z
END:VEVENT
BEGIN:VEVENT
UID:69ebe146e77f6
DTSTART:20220310T114500Z
SEQUENCE:0
TRANSP:OPAQUE
DTEND:20220310T132000Z
LOCATION:N721\, T006
SUMMARY:Wireless Communication Systems
CLASS:PUBLIC
DESCRIPTION:Veranstaltung: Wireless Communication Systems (BTE5473)\nDozier
 ende: Vogt [vor2]\nRäume: N721\, T006\nCode: BTE5473d\nKommentar: 75% : 1
 0-Wochen : BiBu
X-ALT-DESC;FMTTYPE=text/html:Veranstaltung: Wireless Communication Systems 
 (BTE5473)<br>Dozierende: Vogt [vor2]<br>Räume: N721\, T006<br>Code: BTE54
 73d<br>Kommentar: 75% : 10-Wochen : BiBu
DTSTAMP:20260424T213150Z
END:VEVENT
BEGIN:VEVENT
UID:69ebe146e7819
DTSTART:20220317T072000Z
SEQUENCE:0
TRANSP:OPAQUE
DTEND:20220317T105500Z
LOCATION:N721\, T006
SUMMARY:Wireless Communication Systems
CLASS:PUBLIC
DESCRIPTION:Veranstaltung: Wireless Communication Systems (BTE5473)\nDozier
 ende: Ridolfi [rla2]\nRäume: N721\, T006\nCode: BTE5473d\nKommentar: 25% 
 : 10-Wochen : BiBu
X-ALT-DESC;FMTTYPE=text/html:Veranstaltung: Wireless Communication Systems 
 (BTE5473)<br>Dozierende: Ridolfi [rla2]<br>Räume: N721\, T006<br>Code: BT
 E5473d<br>Kommentar: 25% : 10-Wochen : BiBu
DTSTAMP:20260424T213150Z
END:VEVENT
BEGIN:VEVENT
UID:69ebe146e783b
DTSTART:20220317T072000Z
SEQUENCE:0
TRANSP:OPAQUE
DTEND:20220317T105500Z
LOCATION:N721\, T006
SUMMARY:Wireless Communication Systems
CLASS:PUBLIC
DESCRIPTION:Veranstaltung: Wireless Communication Systems (BTE5473)\nDozier
 ende: Vogt [vor2]\nRäume: N721\, T006\nCode: BTE5473d\nKommentar: 75% : 1
 0-Wochen : BiBu
X-ALT-DESC;FMTTYPE=text/html:Veranstaltung: Wireless Communication Systems 
 (BTE5473)<br>Dozierende: Vogt [vor2]<br>Räume: N721\, T006<br>Code: BTE54
 73d<br>Kommentar: 75% : 10-Wochen : BiBu
DTSTAMP:20260424T213150Z
END:VEVENT
BEGIN:VEVENT
UID:69ebe146e785f
DTSTART:20220317T114500Z
SEQUENCE:0
TRANSP:OPAQUE
DTEND:20220317T132000Z
LOCATION:N721\, T006
SUMMARY:Wireless Communication Systems
CLASS:PUBLIC
DESCRIPTION:Veranstaltung: Wireless Communication Systems (BTE5473)\nDozier
 ende: Ridolfi [rla2]\nRäume: N721\, T006\nCode: BTE5473d\nKommentar: 25% 
 : 10-Wochen : BiBu
X-ALT-DESC;FMTTYPE=text/html:Veranstaltung: Wireless Communication Systems 
 (BTE5473)<br>Dozierende: Ridolfi [rla2]<br>Räume: N721\, T006<br>Code: BT
 E5473d<br>Kommentar: 25% : 10-Wochen : BiBu
DTSTAMP:20260424T213150Z
END:VEVENT
BEGIN:VEVENT
UID:69ebe146e7881
DTSTART:20220317T114500Z
SEQUENCE:0
TRANSP:OPAQUE
DTEND:20220317T132000Z
LOCATION:N721\, T006
SUMMARY:Wireless Communication Systems
CLASS:PUBLIC
DESCRIPTION:Veranstaltung: Wireless Communication Systems (BTE5473)\nDozier
 ende: Vogt [vor2]\nRäume: N721\, T006\nCode: BTE5473d\nKommentar: 75% : 1
 0-Wochen : BiBu
X-ALT-DESC;FMTTYPE=text/html:Veranstaltung: Wireless Communication Systems 
 (BTE5473)<br>Dozierende: Vogt [vor2]<br>Räume: N721\, T006<br>Code: BTE54
 73d<br>Kommentar: 75% : 10-Wochen : BiBu
DTSTAMP:20260424T213150Z
END:VEVENT
BEGIN:VEVENT
UID:69ebe146e78a4
DTSTART:20220324T072000Z
SEQUENCE:0
TRANSP:OPAQUE
DTEND:20220324T105500Z
LOCATION:N721\, T006
SUMMARY:Wireless Communication Systems
CLASS:PUBLIC
DESCRIPTION:Veranstaltung: Wireless Communication Systems (BTE5473)\nDozier
 ende: Ridolfi [rla2]\nRäume: N721\, T006\nCode: BTE5473d\nKommentar: 25% 
 : 10-Wochen : BiBu
X-ALT-DESC;FMTTYPE=text/html:Veranstaltung: Wireless Communication Systems 
 (BTE5473)<br>Dozierende: Ridolfi [rla2]<br>Räume: N721\, T006<br>Code: BT
 E5473d<br>Kommentar: 25% : 10-Wochen : BiBu
DTSTAMP:20260424T213150Z
END:VEVENT
BEGIN:VEVENT
UID:69ebe146e78c7
DTSTART:20220324T072000Z
SEQUENCE:0
TRANSP:OPAQUE
DTEND:20220324T105500Z
LOCATION:N721\, T006
SUMMARY:Wireless Communication Systems
CLASS:PUBLIC
DESCRIPTION:Veranstaltung: Wireless Communication Systems (BTE5473)\nDozier
 ende: Vogt [vor2]\nRäume: N721\, T006\nCode: BTE5473d\nKommentar: 75% : 1
 0-Wochen : BiBu
X-ALT-DESC;FMTTYPE=text/html:Veranstaltung: Wireless Communication Systems 
 (BTE5473)<br>Dozierende: Vogt [vor2]<br>Räume: N721\, T006<br>Code: BTE54
 73d<br>Kommentar: 75% : 10-Wochen : BiBu
DTSTAMP:20260424T213150Z
END:VEVENT
BEGIN:VEVENT
UID:69ebe146e78ea
DTSTART:20220324T114500Z
SEQUENCE:0
TRANSP:OPAQUE
DTEND:20220324T132000Z
LOCATION:N721\, T006
SUMMARY:Wireless Communication Systems
CLASS:PUBLIC
DESCRIPTION:Veranstaltung: Wireless Communication Systems (BTE5473)\nDozier
 ende: Ridolfi [rla2]\nRäume: N721\, T006\nCode: BTE5473d\nKommentar: 25% 
 : 10-Wochen : BiBu
X-ALT-DESC;FMTTYPE=text/html:Veranstaltung: Wireless Communication Systems 
 (BTE5473)<br>Dozierende: Ridolfi [rla2]<br>Räume: N721\, T006<br>Code: BT
 E5473d<br>Kommentar: 25% : 10-Wochen : BiBu
DTSTAMP:20260424T213150Z
END:VEVENT
BEGIN:VEVENT
UID:69ebe146e790c
DTSTART:20220324T114500Z
SEQUENCE:0
TRANSP:OPAQUE
DTEND:20220324T132000Z
LOCATION:N721\, T006
SUMMARY:Wireless Communication Systems
CLASS:PUBLIC
DESCRIPTION:Veranstaltung: Wireless Communication Systems (BTE5473)\nDozier
 ende: Vogt [vor2]\nRäume: N721\, T006\nCode: BTE5473d\nKommentar: 75% : 1
 0-Wochen : BiBu
X-ALT-DESC;FMTTYPE=text/html:Veranstaltung: Wireless Communication Systems 
 (BTE5473)<br>Dozierende: Vogt [vor2]<br>Räume: N721\, T006<br>Code: BTE54
 73d<br>Kommentar: 75% : 10-Wochen : BiBu
DTSTAMP:20260424T213150Z
END:VEVENT
BEGIN:VEVENT
UID:69ebe146e7930
DTSTART:20220331T062000Z
SEQUENCE:0
TRANSP:OPAQUE
DTEND:20220331T095500Z
LOCATION:N721\, T006
SUMMARY:Wireless Communication Systems
CLASS:PUBLIC
DESCRIPTION:Veranstaltung: Wireless Communication Systems (BTE5473)\nDozier
 ende: Ridolfi [rla2]\nRäume: N721\, T006\nCode: BTE5473d\nKommentar: 25% 
 : 10-Wochen : BiBu
X-ALT-DESC;FMTTYPE=text/html:Veranstaltung: Wireless Communication Systems 
 (BTE5473)<br>Dozierende: Ridolfi [rla2]<br>Räume: N721\, T006<br>Code: BT
 E5473d<br>Kommentar: 25% : 10-Wochen : BiBu
DTSTAMP:20260424T213150Z
END:VEVENT
BEGIN:VEVENT
UID:69ebe146e7953
DTSTART:20220331T062000Z
SEQUENCE:0
TRANSP:OPAQUE
DTEND:20220331T095500Z
LOCATION:N721\, T006
SUMMARY:Wireless Communication Systems
CLASS:PUBLIC
DESCRIPTION:Veranstaltung: Wireless Communication Systems (BTE5473)\nDozier
 ende: Vogt [vor2]\nRäume: N721\, T006\nCode: BTE5473d\nKommentar: 75% : 1
 0-Wochen : BiBu
X-ALT-DESC;FMTTYPE=text/html:Veranstaltung: Wireless Communication Systems 
 (BTE5473)<br>Dozierende: Vogt [vor2]<br>Räume: N721\, T006<br>Code: BTE54
 73d<br>Kommentar: 75% : 10-Wochen : BiBu
DTSTAMP:20260424T213150Z
END:VEVENT
BEGIN:VEVENT
UID:69ebe146e7977
DTSTART:20220331T104500Z
SEQUENCE:0
TRANSP:OPAQUE
DTEND:20220331T122000Z
LOCATION:N721\, T006
SUMMARY:Wireless Communication Systems
CLASS:PUBLIC
DESCRIPTION:Veranstaltung: Wireless Communication Systems (BTE5473)\nDozier
 ende: Ridolfi [rla2]\nRäume: N721\, T006\nCode: BTE5473d\nKommentar: 25% 
 : 10-Wochen : BiBu
X-ALT-DESC;FMTTYPE=text/html:Veranstaltung: Wireless Communication Systems 
 (BTE5473)<br>Dozierende: Ridolfi [rla2]<br>Räume: N721\, T006<br>Code: BT
 E5473d<br>Kommentar: 25% : 10-Wochen : BiBu
DTSTAMP:20260424T213150Z
END:VEVENT
BEGIN:VEVENT
UID:69ebe146e79a1
DTSTART:20220331T104500Z
SEQUENCE:0
TRANSP:OPAQUE
DTEND:20220331T122000Z
LOCATION:N721\, T006
SUMMARY:Wireless Communication Systems
CLASS:PUBLIC
DESCRIPTION:Veranstaltung: Wireless Communication Systems (BTE5473)\nDozier
 ende: Vogt [vor2]\nRäume: N721\, T006\nCode: BTE5473d\nKommentar: 75% : 1
 0-Wochen : BiBu
X-ALT-DESC;FMTTYPE=text/html:Veranstaltung: Wireless Communication Systems 
 (BTE5473)<br>Dozierende: Vogt [vor2]<br>Räume: N721\, T006<br>Code: BTE54
 73d<br>Kommentar: 75% : 10-Wochen : BiBu
DTSTAMP:20260424T213150Z
END:VEVENT
BEGIN:VEVENT
UID:69ebe146e79c4
DTSTART:20220407T062000Z
SEQUENCE:0
TRANSP:OPAQUE
DTEND:20220407T095500Z
LOCATION:N721\, T006
SUMMARY:Wireless Communication Systems
CLASS:PUBLIC
DESCRIPTION:Veranstaltung: Wireless Communication Systems (BTE5473)\nDozier
 ende: Ridolfi [rla2]\nRäume: N721\, T006\nCode: BTE5473d\nKommentar: 25% 
 : 10-Wochen : BiBu
X-ALT-DESC;FMTTYPE=text/html:Veranstaltung: Wireless Communication Systems 
 (BTE5473)<br>Dozierende: Ridolfi [rla2]<br>Räume: N721\, T006<br>Code: BT
 E5473d<br>Kommentar: 25% : 10-Wochen : BiBu
DTSTAMP:20260424T213150Z
END:VEVENT
BEGIN:VEVENT
UID:69ebe146e79e6
DTSTART:20220407T062000Z
SEQUENCE:0
TRANSP:OPAQUE
DTEND:20220407T095500Z
LOCATION:N721\, T006
SUMMARY:Wireless Communication Systems
CLASS:PUBLIC
DESCRIPTION:Veranstaltung: Wireless Communication Systems (BTE5473)\nDozier
 ende: Vogt [vor2]\nRäume: N721\, T006\nCode: BTE5473d\nKommentar: 75% : 1
 0-Wochen : BiBu
X-ALT-DESC;FMTTYPE=text/html:Veranstaltung: Wireless Communication Systems 
 (BTE5473)<br>Dozierende: Vogt [vor2]<br>Räume: N721\, T006<br>Code: BTE54
 73d<br>Kommentar: 75% : 10-Wochen : BiBu
DTSTAMP:20260424T213150Z
END:VEVENT
BEGIN:VEVENT
UID:69ebe146e7a08
DTSTART:20220407T104500Z
SEQUENCE:0
TRANSP:OPAQUE
DTEND:20220407T122000Z
LOCATION:N721\, T006
SUMMARY:Wireless Communication Systems
CLASS:PUBLIC
DESCRIPTION:Veranstaltung: Wireless Communication Systems (BTE5473)\nDozier
 ende: Ridolfi [rla2]\nRäume: N721\, T006\nCode: BTE5473d\nKommentar: 25% 
 : 10-Wochen : BiBu
X-ALT-DESC;FMTTYPE=text/html:Veranstaltung: Wireless Communication Systems 
 (BTE5473)<br>Dozierende: Ridolfi [rla2]<br>Räume: N721\, T006<br>Code: BT
 E5473d<br>Kommentar: 25% : 10-Wochen : BiBu
DTSTAMP:20260424T213150Z
END:VEVENT
BEGIN:VEVENT
UID:69ebe146e7a2a
DTSTART:20220407T104500Z
SEQUENCE:0
TRANSP:OPAQUE
DTEND:20220407T122000Z
LOCATION:N721\, T006
SUMMARY:Wireless Communication Systems
CLASS:PUBLIC
DESCRIPTION:Veranstaltung: Wireless Communication Systems (BTE5473)\nDozier
 ende: Vogt [vor2]\nRäume: N721\, T006\nCode: BTE5473d\nKommentar: 75% : 1
 0-Wochen : BiBu
X-ALT-DESC;FMTTYPE=text/html:Veranstaltung: Wireless Communication Systems 
 (BTE5473)<br>Dozierende: Vogt [vor2]<br>Räume: N721\, T006<br>Code: BTE54
 73d<br>Kommentar: 75% : 10-Wochen : BiBu
DTSTAMP:20260424T213150Z
END:VEVENT
BEGIN:VEVENT
UID:69ebe146e7a4c
DTSTART:20220421T062000Z
SEQUENCE:0
TRANSP:OPAQUE
DTEND:20220421T095500Z
LOCATION:N721\, T006
SUMMARY:Wireless Communication Systems
CLASS:PUBLIC
DESCRIPTION:Veranstaltung: Wireless Communication Systems (BTE5473)\nDozier
 ende: Ridolfi [rla2]\nRäume: N721\, T006\nCode: BTE5473d\nKommentar: 25% 
 : 10-Wochen : BiBu
X-ALT-DESC;FMTTYPE=text/html:Veranstaltung: Wireless Communication Systems 
 (BTE5473)<br>Dozierende: Ridolfi [rla2]<br>Räume: N721\, T006<br>Code: BT
 E5473d<br>Kommentar: 25% : 10-Wochen : BiBu
DTSTAMP:20260424T213150Z
END:VEVENT
BEGIN:VEVENT
UID:69ebe146e7a6c
DTSTART:20220421T062000Z
SEQUENCE:0
TRANSP:OPAQUE
DTEND:20220421T095500Z
LOCATION:N721\, T006
SUMMARY:Wireless Communication Systems
CLASS:PUBLIC
DESCRIPTION:Veranstaltung: Wireless Communication Systems (BTE5473)\nDozier
 ende: Vogt [vor2]\nRäume: N721\, T006\nCode: BTE5473d\nKommentar: 75% : 1
 0-Wochen : BiBu
X-ALT-DESC;FMTTYPE=text/html:Veranstaltung: Wireless Communication Systems 
 (BTE5473)<br>Dozierende: Vogt [vor2]<br>Räume: N721\, T006<br>Code: BTE54
 73d<br>Kommentar: 75% : 10-Wochen : BiBu
DTSTAMP:20260424T213150Z
END:VEVENT
BEGIN:VEVENT
UID:69ebe146e7a8f
DTSTART:20220421T104500Z
SEQUENCE:0
TRANSP:OPAQUE
DTEND:20220421T122000Z
LOCATION:N721\, T006
SUMMARY:Wireless Communication Systems
CLASS:PUBLIC
DESCRIPTION:Veranstaltung: Wireless Communication Systems (BTE5473)\nDozier
 ende: Ridolfi [rla2]\nRäume: N721\, T006\nCode: BTE5473d\nKommentar: 25% 
 : 10-Wochen : BiBu
X-ALT-DESC;FMTTYPE=text/html:Veranstaltung: Wireless Communication Systems 
 (BTE5473)<br>Dozierende: Ridolfi [rla2]<br>Räume: N721\, T006<br>Code: BT
 E5473d<br>Kommentar: 25% : 10-Wochen : BiBu
DTSTAMP:20260424T213150Z
END:VEVENT
BEGIN:VEVENT
UID:69ebe146e7aaf
DTSTART:20220421T104500Z
SEQUENCE:0
TRANSP:OPAQUE
DTEND:20220421T122000Z
LOCATION:N721\, T006
SUMMARY:Wireless Communication Systems
CLASS:PUBLIC
DESCRIPTION:Veranstaltung: Wireless Communication Systems (BTE5473)\nDozier
 ende: Vogt [vor2]\nRäume: N721\, T006\nCode: BTE5473d\nKommentar: 75% : 1
 0-Wochen : BiBu
X-ALT-DESC;FMTTYPE=text/html:Veranstaltung: Wireless Communication Systems 
 (BTE5473)<br>Dozierende: Vogt [vor2]<br>Räume: N721\, T006<br>Code: BTE54
 73d<br>Kommentar: 75% : 10-Wochen : BiBu
DTSTAMP:20260424T213150Z
END:VEVENT
BEGIN:VEVENT
UID:69ebe146e7ad1
DTSTART:20220428T062000Z
SEQUENCE:0
TRANSP:OPAQUE
DTEND:20220428T095500Z
LOCATION:N721\, T006
SUMMARY:Wireless Communication Systems
CLASS:PUBLIC
DESCRIPTION:Veranstaltung: Wireless Communication Systems (BTE5473)\nDozier
 ende: Ridolfi [rla2]\nRäume: N721\, T006\nCode: BTE5473d\nKommentar: 25% 
 : 10-Wochen : BiBu
X-ALT-DESC;FMTTYPE=text/html:Veranstaltung: Wireless Communication Systems 
 (BTE5473)<br>Dozierende: Ridolfi [rla2]<br>Räume: N721\, T006<br>Code: BT
 E5473d<br>Kommentar: 25% : 10-Wochen : BiBu
DTSTAMP:20260424T213150Z
END:VEVENT
BEGIN:VEVENT
UID:69ebe146e7af2
DTSTART:20220428T062000Z
SEQUENCE:0
TRANSP:OPAQUE
DTEND:20220428T095500Z
LOCATION:N721\, T006
SUMMARY:Wireless Communication Systems
CLASS:PUBLIC
DESCRIPTION:Veranstaltung: Wireless Communication Systems (BTE5473)\nDozier
 ende: Vogt [vor2]\nRäume: N721\, T006\nCode: BTE5473d\nKommentar: 75% : 1
 0-Wochen : BiBu
X-ALT-DESC;FMTTYPE=text/html:Veranstaltung: Wireless Communication Systems 
 (BTE5473)<br>Dozierende: Vogt [vor2]<br>Räume: N721\, T006<br>Code: BTE54
 73d<br>Kommentar: 75% : 10-Wochen : BiBu
DTSTAMP:20260424T213150Z
END:VEVENT
BEGIN:VEVENT
UID:69ebe146e7b13
DTSTART:20220428T104500Z
SEQUENCE:0
TRANSP:OPAQUE
DTEND:20220428T122000Z
LOCATION:N721\, T006
SUMMARY:Wireless Communication Systems
CLASS:PUBLIC
DESCRIPTION:Veranstaltung: Wireless Communication Systems (BTE5473)\nDozier
 ende: Ridolfi [rla2]\nRäume: N721\, T006\nCode: BTE5473d\nKommentar: 25% 
 : 10-Wochen : BiBu
X-ALT-DESC;FMTTYPE=text/html:Veranstaltung: Wireless Communication Systems 
 (BTE5473)<br>Dozierende: Ridolfi [rla2]<br>Räume: N721\, T006<br>Code: BT
 E5473d<br>Kommentar: 25% : 10-Wochen : BiBu
DTSTAMP:20260424T213150Z
END:VEVENT
BEGIN:VEVENT
UID:69ebe146e7b36
DTSTART:20220428T104500Z
SEQUENCE:0
TRANSP:OPAQUE
DTEND:20220428T122000Z
LOCATION:N721\, T006
SUMMARY:Wireless Communication Systems
CLASS:PUBLIC
DESCRIPTION:Veranstaltung: Wireless Communication Systems (BTE5473)\nDozier
 ende: Vogt [vor2]\nRäume: N721\, T006\nCode: BTE5473d\nKommentar: 75% : 1
 0-Wochen : BiBu
X-ALT-DESC;FMTTYPE=text/html:Veranstaltung: Wireless Communication Systems 
 (BTE5473)<br>Dozierende: Vogt [vor2]<br>Räume: N721\, T006<br>Code: BTE54
 73d<br>Kommentar: 75% : 10-Wochen : BiBu
DTSTAMP:20260424T213150Z
END:VEVENT
BEGIN:VEVENT
UID:69ebe146e7b58
DTSTART:20220505T062000Z
SEQUENCE:0
TRANSP:OPAQUE
DTEND:20220505T095500Z
LOCATION:N721\, T006
SUMMARY:Wireless Communication Systems
CLASS:PUBLIC
DESCRIPTION:Veranstaltung: Wireless Communication Systems (BTE5473)\nDozier
 ende: Ridolfi [rla2]\nRäume: N721\, T006\nCode: BTE5473d\nKommentar: 25% 
 : 10-Wochen : BiBu
X-ALT-DESC;FMTTYPE=text/html:Veranstaltung: Wireless Communication Systems 
 (BTE5473)<br>Dozierende: Ridolfi [rla2]<br>Räume: N721\, T006<br>Code: BT
 E5473d<br>Kommentar: 25% : 10-Wochen : BiBu
DTSTAMP:20260424T213150Z
END:VEVENT
BEGIN:VEVENT
UID:69ebe146e7b79
DTSTART:20220505T062000Z
SEQUENCE:0
TRANSP:OPAQUE
DTEND:20220505T095500Z
LOCATION:N721\, T006
SUMMARY:Wireless Communication Systems
CLASS:PUBLIC
DESCRIPTION:Veranstaltung: Wireless Communication Systems (BTE5473)\nDozier
 ende: Vogt [vor2]\nRäume: N721\, T006\nCode: BTE5473d\nKommentar: 75% : 1
 0-Wochen : BiBu
X-ALT-DESC;FMTTYPE=text/html:Veranstaltung: Wireless Communication Systems 
 (BTE5473)<br>Dozierende: Vogt [vor2]<br>Räume: N721\, T006<br>Code: BTE54
 73d<br>Kommentar: 75% : 10-Wochen : BiBu
DTSTAMP:20260424T213150Z
END:VEVENT
BEGIN:VEVENT
UID:69ebe146e7b9c
DTSTART:20220505T104500Z
SEQUENCE:0
TRANSP:OPAQUE
DTEND:20220505T122000Z
LOCATION:N721\, T006
SUMMARY:Wireless Communication Systems
CLASS:PUBLIC
DESCRIPTION:Veranstaltung: Wireless Communication Systems (BTE5473)\nDozier
 ende: Ridolfi [rla2]\nRäume: N721\, T006\nCode: BTE5473d\nKommentar: 25% 
 : 10-Wochen : BiBu
X-ALT-DESC;FMTTYPE=text/html:Veranstaltung: Wireless Communication Systems 
 (BTE5473)<br>Dozierende: Ridolfi [rla2]<br>Räume: N721\, T006<br>Code: BT
 E5473d<br>Kommentar: 25% : 10-Wochen : BiBu
DTSTAMP:20260424T213150Z
END:VEVENT
BEGIN:VEVENT
UID:69ebe146e7bbc
DTSTART:20220505T104500Z
SEQUENCE:0
TRANSP:OPAQUE
DTEND:20220505T122000Z
LOCATION:N721\, T006
SUMMARY:Wireless Communication Systems
CLASS:PUBLIC
DESCRIPTION:Veranstaltung: Wireless Communication Systems (BTE5473)\nDozier
 ende: Vogt [vor2]\nRäume: N721\, T006\nCode: BTE5473d\nKommentar: 75% : 1
 0-Wochen : BiBu
X-ALT-DESC;FMTTYPE=text/html:Veranstaltung: Wireless Communication Systems 
 (BTE5473)<br>Dozierende: Vogt [vor2]<br>Räume: N721\, T006<br>Code: BTE54
 73d<br>Kommentar: 75% : 10-Wochen : BiBu
DTSTAMP:20260424T213150Z
END:VEVENT
END:VCALENDAR