BEGIN:VCALENDAR
VERSION:2.0
PRODID:www.bfh.ch
X-APPLE-CALENDAR-COLOR:Orange
X-OUTLOOK-COLOR:Orange
X-FUNAMBOL-COLOR:Orange
X-WR-CALNAME:Übersicht BTE5483
BEGIN:VEVENT
UID:69eba87f7de50
DTSTART:20220221T072000Z
SEQUENCE:0
TRANSP:OPAQUE
DTEND:20220221T105500Z
LOCATION:Q403\, T131
SUMMARY:Echtzeitbetriebssysteme
CLASS:PUBLIC
DESCRIPTION:Veranstaltung: Echtzeitbetriebssysteme (BTE5483)\nDozierende: W
 eber [wbr1]\nRäume: Q403\, T131\nCode: BTE5483a\nKommentar: 100% : 10-Woc
 hen : BiBu
X-ALT-DESC;FMTTYPE=text/html:Veranstaltung: Echtzeitbetriebssysteme (BTE548
 3)<br>Dozierende: Weber [wbr1]<br>Räume: Q403\, T131<br>Code: BTE5483a<br
 >Kommentar: 100% : 10-Wochen : BiBu
DTSTAMP:20260424T172935Z
END:VEVENT
BEGIN:VEVENT
UID:69eba87f7df2f
DTSTART:20220221T114500Z
SEQUENCE:0
TRANSP:OPAQUE
DTEND:20220221T132000Z
LOCATION:Q403\, T131
SUMMARY:Echtzeitbetriebssysteme
CLASS:PUBLIC
DESCRIPTION:Veranstaltung: Echtzeitbetriebssysteme (BTE5483)\nDozierende: W
 eber [wbr1]\nRäume: Q403\, T131\nCode: BTE5483a\nKommentar: 100% : 10-Woc
 hen : BiBu
X-ALT-DESC;FMTTYPE=text/html:Veranstaltung: Echtzeitbetriebssysteme (BTE548
 3)<br>Dozierende: Weber [wbr1]<br>Räume: Q403\, T131<br>Code: BTE5483a<br
 >Kommentar: 100% : 10-Wochen : BiBu
DTSTAMP:20260424T172935Z
END:VEVENT
BEGIN:VEVENT
UID:69eba87f7df5f
DTSTART:20220228T072000Z
SEQUENCE:0
TRANSP:OPAQUE
DTEND:20220228T105500Z
LOCATION:Q403\, T131
SUMMARY:Echtzeitbetriebssysteme
CLASS:PUBLIC
DESCRIPTION:Veranstaltung: Echtzeitbetriebssysteme (BTE5483)\nDozierende: W
 eber [wbr1]\nRäume: Q403\, T131\nCode: BTE5483a\nKommentar: 100% : 10-Woc
 hen : BiBu
X-ALT-DESC;FMTTYPE=text/html:Veranstaltung: Echtzeitbetriebssysteme (BTE548
 3)<br>Dozierende: Weber [wbr1]<br>Räume: Q403\, T131<br>Code: BTE5483a<br
 >Kommentar: 100% : 10-Wochen : BiBu
DTSTAMP:20260424T172935Z
END:VEVENT
BEGIN:VEVENT
UID:69eba87f7df88
DTSTART:20220228T114500Z
SEQUENCE:0
TRANSP:OPAQUE
DTEND:20220228T132000Z
LOCATION:Q403\, T131
SUMMARY:Echtzeitbetriebssysteme
CLASS:PUBLIC
DESCRIPTION:Veranstaltung: Echtzeitbetriebssysteme (BTE5483)\nDozierende: W
 eber [wbr1]\nRäume: Q403\, T131\nCode: BTE5483a\nKommentar: 100% : 10-Woc
 hen : BiBu
X-ALT-DESC;FMTTYPE=text/html:Veranstaltung: Echtzeitbetriebssysteme (BTE548
 3)<br>Dozierende: Weber [wbr1]<br>Räume: Q403\, T131<br>Code: BTE5483a<br
 >Kommentar: 100% : 10-Wochen : BiBu
DTSTAMP:20260424T172935Z
END:VEVENT
BEGIN:VEVENT
UID:69eba87f7dfae
DTSTART:20220307T072000Z
SEQUENCE:0
TRANSP:OPAQUE
DTEND:20220307T105500Z
LOCATION:Q403\, T131
SUMMARY:Echtzeitbetriebssysteme
CLASS:PUBLIC
DESCRIPTION:Veranstaltung: Echtzeitbetriebssysteme (BTE5483)\nDozierende: W
 eber [wbr1]\nRäume: Q403\, T131\nCode: BTE5483a\nKommentar: 100% : 10-Woc
 hen : BiBu
X-ALT-DESC;FMTTYPE=text/html:Veranstaltung: Echtzeitbetriebssysteme (BTE548
 3)<br>Dozierende: Weber [wbr1]<br>Räume: Q403\, T131<br>Code: BTE5483a<br
 >Kommentar: 100% : 10-Wochen : BiBu
DTSTAMP:20260424T172935Z
END:VEVENT
BEGIN:VEVENT
UID:69eba87f7dfd5
DTSTART:20220307T114500Z
SEQUENCE:0
TRANSP:OPAQUE
DTEND:20220307T132000Z
LOCATION:Q403\, T131
SUMMARY:Echtzeitbetriebssysteme
CLASS:PUBLIC
DESCRIPTION:Veranstaltung: Echtzeitbetriebssysteme (BTE5483)\nDozierende: W
 eber [wbr1]\nRäume: Q403\, T131\nCode: BTE5483a\nKommentar: 100% : 10-Woc
 hen : BiBu
X-ALT-DESC;FMTTYPE=text/html:Veranstaltung: Echtzeitbetriebssysteme (BTE548
 3)<br>Dozierende: Weber [wbr1]<br>Räume: Q403\, T131<br>Code: BTE5483a<br
 >Kommentar: 100% : 10-Wochen : BiBu
DTSTAMP:20260424T172935Z
END:VEVENT
BEGIN:VEVENT
UID:69eba87f7dffb
DTSTART:20220314T072000Z
SEQUENCE:0
TRANSP:OPAQUE
DTEND:20220314T105500Z
LOCATION:Q403\, T131
SUMMARY:Echtzeitbetriebssysteme
CLASS:PUBLIC
DESCRIPTION:Veranstaltung: Echtzeitbetriebssysteme (BTE5483)\nDozierende: W
 eber [wbr1]\nRäume: Q403\, T131\nCode: BTE5483a\nKommentar: 100% : 10-Woc
 hen : BiBu
X-ALT-DESC;FMTTYPE=text/html:Veranstaltung: Echtzeitbetriebssysteme (BTE548
 3)<br>Dozierende: Weber [wbr1]<br>Räume: Q403\, T131<br>Code: BTE5483a<br
 >Kommentar: 100% : 10-Wochen : BiBu
DTSTAMP:20260424T172935Z
END:VEVENT
BEGIN:VEVENT
UID:69eba87f7e020
DTSTART:20220314T114500Z
SEQUENCE:0
TRANSP:OPAQUE
DTEND:20220314T132000Z
LOCATION:Q403\, T131
SUMMARY:Echtzeitbetriebssysteme
CLASS:PUBLIC
DESCRIPTION:Veranstaltung: Echtzeitbetriebssysteme (BTE5483)\nDozierende: W
 eber [wbr1]\nRäume: Q403\, T131\nCode: BTE5483a\nKommentar: 100% : 10-Woc
 hen : BiBu
X-ALT-DESC;FMTTYPE=text/html:Veranstaltung: Echtzeitbetriebssysteme (BTE548
 3)<br>Dozierende: Weber [wbr1]<br>Räume: Q403\, T131<br>Code: BTE5483a<br
 >Kommentar: 100% : 10-Wochen : BiBu
DTSTAMP:20260424T172935Z
END:VEVENT
BEGIN:VEVENT
UID:69eba87f7e046
DTSTART:20220321T072000Z
SEQUENCE:0
TRANSP:OPAQUE
DTEND:20220321T105500Z
LOCATION:Q403\, T131
SUMMARY:Echtzeitbetriebssysteme
CLASS:PUBLIC
DESCRIPTION:Veranstaltung: Echtzeitbetriebssysteme (BTE5483)\nDozierende: W
 eber [wbr1]\nRäume: Q403\, T131\nCode: BTE5483a\nKommentar: 100% : 10-Woc
 hen : BiBu
X-ALT-DESC;FMTTYPE=text/html:Veranstaltung: Echtzeitbetriebssysteme (BTE548
 3)<br>Dozierende: Weber [wbr1]<br>Räume: Q403\, T131<br>Code: BTE5483a<br
 >Kommentar: 100% : 10-Wochen : BiBu
DTSTAMP:20260424T172935Z
END:VEVENT
BEGIN:VEVENT
UID:69eba87f7e06c
DTSTART:20220321T114500Z
SEQUENCE:0
TRANSP:OPAQUE
DTEND:20220321T132000Z
LOCATION:Q403\, T131
SUMMARY:Echtzeitbetriebssysteme
CLASS:PUBLIC
DESCRIPTION:Veranstaltung: Echtzeitbetriebssysteme (BTE5483)\nDozierende: W
 eber [wbr1]\nRäume: Q403\, T131\nCode: BTE5483a\nKommentar: 100% : 10-Woc
 hen : BiBu
X-ALT-DESC;FMTTYPE=text/html:Veranstaltung: Echtzeitbetriebssysteme (BTE548
 3)<br>Dozierende: Weber [wbr1]<br>Räume: Q403\, T131<br>Code: BTE5483a<br
 >Kommentar: 100% : 10-Wochen : BiBu
DTSTAMP:20260424T172935Z
END:VEVENT
BEGIN:VEVENT
UID:69eba87f7e091
DTSTART:20220328T062000Z
SEQUENCE:0
TRANSP:OPAQUE
DTEND:20220328T095500Z
LOCATION:Q403\, T131
SUMMARY:Echtzeitbetriebssysteme
CLASS:PUBLIC
DESCRIPTION:Veranstaltung: Echtzeitbetriebssysteme (BTE5483)\nDozierende: W
 eber [wbr1]\nRäume: Q403\, T131\nCode: BTE5483a\nKommentar: 100% : 10-Woc
 hen : BiBu
X-ALT-DESC;FMTTYPE=text/html:Veranstaltung: Echtzeitbetriebssysteme (BTE548
 3)<br>Dozierende: Weber [wbr1]<br>Räume: Q403\, T131<br>Code: BTE5483a<br
 >Kommentar: 100% : 10-Wochen : BiBu
DTSTAMP:20260424T172935Z
END:VEVENT
BEGIN:VEVENT
UID:69eba87f7e0b7
DTSTART:20220328T104500Z
SEQUENCE:0
TRANSP:OPAQUE
DTEND:20220328T122000Z
LOCATION:Q403\, T131
SUMMARY:Echtzeitbetriebssysteme
CLASS:PUBLIC
DESCRIPTION:Veranstaltung: Echtzeitbetriebssysteme (BTE5483)\nDozierende: W
 eber [wbr1]\nRäume: Q403\, T131\nCode: BTE5483a\nKommentar: 100% : 10-Woc
 hen : BiBu
X-ALT-DESC;FMTTYPE=text/html:Veranstaltung: Echtzeitbetriebssysteme (BTE548
 3)<br>Dozierende: Weber [wbr1]<br>Räume: Q403\, T131<br>Code: BTE5483a<br
 >Kommentar: 100% : 10-Wochen : BiBu
DTSTAMP:20260424T172935Z
END:VEVENT
BEGIN:VEVENT
UID:69eba87f7e0de
DTSTART:20220404T062000Z
SEQUENCE:0
TRANSP:OPAQUE
DTEND:20220404T095500Z
LOCATION:Q403\, T131
SUMMARY:Echtzeitbetriebssysteme
CLASS:PUBLIC
DESCRIPTION:Veranstaltung: Echtzeitbetriebssysteme (BTE5483)\nDozierende: W
 eber [wbr1]\nRäume: Q403\, T131\nCode: BTE5483a\nKommentar: 100% : 10-Woc
 hen : BiBu
X-ALT-DESC;FMTTYPE=text/html:Veranstaltung: Echtzeitbetriebssysteme (BTE548
 3)<br>Dozierende: Weber [wbr1]<br>Räume: Q403\, T131<br>Code: BTE5483a<br
 >Kommentar: 100% : 10-Wochen : BiBu
DTSTAMP:20260424T172935Z
END:VEVENT
BEGIN:VEVENT
UID:69eba87f7e102
DTSTART:20220404T104500Z
SEQUENCE:0
TRANSP:OPAQUE
DTEND:20220404T122000Z
LOCATION:Q403\, T131
SUMMARY:Echtzeitbetriebssysteme
CLASS:PUBLIC
DESCRIPTION:Veranstaltung: Echtzeitbetriebssysteme (BTE5483)\nDozierende: W
 eber [wbr1]\nRäume: Q403\, T131\nCode: BTE5483a\nKommentar: 100% : 10-Woc
 hen : BiBu
X-ALT-DESC;FMTTYPE=text/html:Veranstaltung: Echtzeitbetriebssysteme (BTE548
 3)<br>Dozierende: Weber [wbr1]<br>Räume: Q403\, T131<br>Code: BTE5483a<br
 >Kommentar: 100% : 10-Wochen : BiBu
DTSTAMP:20260424T172935Z
END:VEVENT
BEGIN:VEVENT
UID:69eba87f7e128
DTSTART:20220425T062000Z
SEQUENCE:0
TRANSP:OPAQUE
DTEND:20220425T095500Z
LOCATION:Q403\, T131
SUMMARY:Echtzeitbetriebssysteme
CLASS:PUBLIC
DESCRIPTION:Veranstaltung: Echtzeitbetriebssysteme (BTE5483)\nDozierende: W
 eber [wbr1]\nRäume: Q403\, T131\nCode: BTE5483a\nKommentar: 100% : 10-Woc
 hen : BiBu
X-ALT-DESC;FMTTYPE=text/html:Veranstaltung: Echtzeitbetriebssysteme (BTE548
 3)<br>Dozierende: Weber [wbr1]<br>Räume: Q403\, T131<br>Code: BTE5483a<br
 >Kommentar: 100% : 10-Wochen : BiBu
DTSTAMP:20260424T172935Z
END:VEVENT
BEGIN:VEVENT
UID:69eba87f7e14d
DTSTART:20220425T104500Z
SEQUENCE:0
TRANSP:OPAQUE
DTEND:20220425T122000Z
LOCATION:Q403\, T131
SUMMARY:Echtzeitbetriebssysteme
CLASS:PUBLIC
DESCRIPTION:Veranstaltung: Echtzeitbetriebssysteme (BTE5483)\nDozierende: W
 eber [wbr1]\nRäume: Q403\, T131\nCode: BTE5483a\nKommentar: 100% : 10-Woc
 hen : BiBu
X-ALT-DESC;FMTTYPE=text/html:Veranstaltung: Echtzeitbetriebssysteme (BTE548
 3)<br>Dozierende: Weber [wbr1]<br>Räume: Q403\, T131<br>Code: BTE5483a<br
 >Kommentar: 100% : 10-Wochen : BiBu
DTSTAMP:20260424T172935Z
END:VEVENT
BEGIN:VEVENT
UID:69eba87f7e172
DTSTART:20220502T062000Z
SEQUENCE:0
TRANSP:OPAQUE
DTEND:20220502T095500Z
LOCATION:Q403\, T131
SUMMARY:Echtzeitbetriebssysteme
CLASS:PUBLIC
DESCRIPTION:Veranstaltung: Echtzeitbetriebssysteme (BTE5483)\nDozierende: W
 eber [wbr1]\nRäume: Q403\, T131\nCode: BTE5483a\nKommentar: 100% : 10-Woc
 hen : BiBu
X-ALT-DESC;FMTTYPE=text/html:Veranstaltung: Echtzeitbetriebssysteme (BTE548
 3)<br>Dozierende: Weber [wbr1]<br>Räume: Q403\, T131<br>Code: BTE5483a<br
 >Kommentar: 100% : 10-Wochen : BiBu
DTSTAMP:20260424T172935Z
END:VEVENT
BEGIN:VEVENT
UID:69eba87f7e198
DTSTART:20220502T104500Z
SEQUENCE:0
TRANSP:OPAQUE
DTEND:20220502T122000Z
LOCATION:Q403\, T131
SUMMARY:Echtzeitbetriebssysteme
CLASS:PUBLIC
DESCRIPTION:Veranstaltung: Echtzeitbetriebssysteme (BTE5483)\nDozierende: W
 eber [wbr1]\nRäume: Q403\, T131\nCode: BTE5483a\nKommentar: 100% : 10-Woc
 hen : BiBu
X-ALT-DESC;FMTTYPE=text/html:Veranstaltung: Echtzeitbetriebssysteme (BTE548
 3)<br>Dozierende: Weber [wbr1]<br>Räume: Q403\, T131<br>Code: BTE5483a<br
 >Kommentar: 100% : 10-Wochen : BiBu
DTSTAMP:20260424T172935Z
END:VEVENT
END:VCALENDAR