BEGIN:VCALENDAR
VERSION:2.0
PRODID:www.bfh.ch
X-APPLE-CALENDAR-COLOR:Orange
X-OUTLOOK-COLOR:Orange
X-FUNAMBOL-COLOR:Orange
X-WR-CALNAME:Übersicht BTF2232
BEGIN:VEVENT
UID:69ec0bee53ae2
DTSTART:20220222T114500Z
SEQUENCE:0
TRANSP:OPAQUE
DTEND:20220222T150000Z
LOCATION:Q509
SUMMARY:Informatik 2
CLASS:PUBLIC
DESCRIPTION:Veranstaltung: Informatik 2 (BTF2232)\nDozierende: Habegger [hg
 a3]\nRäume: Q509\nCode: BTF2232a\nKommentar: D -
X-ALT-DESC;FMTTYPE=text/html:Veranstaltung: Informatik 2 (BTF2232)<br>Dozie
 rende: Habegger [hga3]<br>Räume: Q509<br>Code: BTF2232a<br>Kommentar: D -
DTSTAMP:20260425T003350Z
END:VEVENT
BEGIN:VEVENT
UID:69ec0bee53d4d
DTSTART:20220222T114500Z
SEQUENCE:0
TRANSP:OPAQUE
DTEND:20220222T150000Z
SUMMARY:Informatik 2
CLASS:PUBLIC
DESCRIPTION:Veranstaltung: Informatik 2 (BTF2232)\nDozierende: Mainini Pasc
 al [mip3]\nRäume: \nCode: BTF2232a\nKommentar: D -
X-ALT-DESC;FMTTYPE=text/html:Veranstaltung: Informatik 2 (BTF2232)<br>Dozie
 rende: Mainini Pascal [mip3]<br>Räume: <br>Code: BTF2232a<br>Kommentar: D
  -
DTSTAMP:20260425T003350Z
END:VEVENT
BEGIN:VEVENT
UID:69ec0bee53dd5
DTSTART:20220224T114500Z
SEQUENCE:0
TRANSP:OPAQUE
DTEND:20220224T150000Z
LOCATION:Q509
SUMMARY:Informatik 2
CLASS:PUBLIC
DESCRIPTION:Veranstaltung: Informatik 2 (BTF2232)\nDozierende: Habegger [hg
 a3]\nRäume: Q509\nCode: BTF2232b\nKommentar: D -
X-ALT-DESC;FMTTYPE=text/html:Veranstaltung: Informatik 2 (BTF2232)<br>Dozie
 rende: Habegger [hga3]<br>Räume: Q509<br>Code: BTF2232b<br>Kommentar: D -
DTSTAMP:20260425T003350Z
END:VEVENT
BEGIN:VEVENT
UID:69ec0bee53e48
DTSTART:20220224T114500Z
SEQUENCE:0
TRANSP:OPAQUE
DTEND:20220224T150000Z
SUMMARY:Informatik 2
CLASS:PUBLIC
DESCRIPTION:Veranstaltung: Informatik 2 (BTF2232)\nDozierende: Mainini Pasc
 al [mip3]\nRäume: \nCode: BTF2232b\nKommentar: D -
X-ALT-DESC;FMTTYPE=text/html:Veranstaltung: Informatik 2 (BTF2232)<br>Dozie
 rende: Mainini Pascal [mip3]<br>Räume: <br>Code: BTF2232b<br>Kommentar: D
  -
DTSTAMP:20260425T003350Z
END:VEVENT
BEGIN:VEVENT
UID:69ec0bee53eb4
DTSTART:20220301T114500Z
SEQUENCE:0
TRANSP:OPAQUE
DTEND:20220301T150000Z
LOCATION:Q509
SUMMARY:Informatik 2
CLASS:PUBLIC
DESCRIPTION:Veranstaltung: Informatik 2 (BTF2232)\nDozierende: Habegger [hg
 a3]\nRäume: Q509\nCode: BTF2232a\nKommentar: D -
X-ALT-DESC;FMTTYPE=text/html:Veranstaltung: Informatik 2 (BTF2232)<br>Dozie
 rende: Habegger [hga3]<br>Räume: Q509<br>Code: BTF2232a<br>Kommentar: D -
DTSTAMP:20260425T003350Z
END:VEVENT
BEGIN:VEVENT
UID:69ec0bee53f21
DTSTART:20220301T114500Z
SEQUENCE:0
TRANSP:OPAQUE
DTEND:20220301T150000Z
SUMMARY:Informatik 2
CLASS:PUBLIC
DESCRIPTION:Veranstaltung: Informatik 2 (BTF2232)\nDozierende: Mainini Pasc
 al [mip3]\nRäume: \nCode: BTF2232a\nKommentar: D -
X-ALT-DESC;FMTTYPE=text/html:Veranstaltung: Informatik 2 (BTF2232)<br>Dozie
 rende: Mainini Pascal [mip3]<br>Räume: <br>Code: BTF2232a<br>Kommentar: D
  -
DTSTAMP:20260425T003350Z
END:VEVENT
BEGIN:VEVENT
UID:69ec0bee53f86
DTSTART:20220303T114500Z
SEQUENCE:0
TRANSP:OPAQUE
DTEND:20220303T150000Z
LOCATION:Q509
SUMMARY:Informatik 2
CLASS:PUBLIC
DESCRIPTION:Veranstaltung: Informatik 2 (BTF2232)\nDozierende: Habegger [hg
 a3]\nRäume: Q509\nCode: BTF2232b\nKommentar: D -
X-ALT-DESC;FMTTYPE=text/html:Veranstaltung: Informatik 2 (BTF2232)<br>Dozie
 rende: Habegger [hga3]<br>Räume: Q509<br>Code: BTF2232b<br>Kommentar: D -
DTSTAMP:20260425T003350Z
END:VEVENT
BEGIN:VEVENT
UID:69ec0bee53ff2
DTSTART:20220303T114500Z
SEQUENCE:0
TRANSP:OPAQUE
DTEND:20220303T150000Z
SUMMARY:Informatik 2
CLASS:PUBLIC
DESCRIPTION:Veranstaltung: Informatik 2 (BTF2232)\nDozierende: Mainini Pasc
 al [mip3]\nRäume: \nCode: BTF2232b\nKommentar: D -
X-ALT-DESC;FMTTYPE=text/html:Veranstaltung: Informatik 2 (BTF2232)<br>Dozie
 rende: Mainini Pascal [mip3]<br>Räume: <br>Code: BTF2232b<br>Kommentar: D
  -
DTSTAMP:20260425T003350Z
END:VEVENT
BEGIN:VEVENT
UID:69ec0bee54058
DTSTART:20220308T114500Z
SEQUENCE:0
TRANSP:OPAQUE
DTEND:20220308T150000Z
LOCATION:Q509
SUMMARY:Informatik 2
CLASS:PUBLIC
DESCRIPTION:Veranstaltung: Informatik 2 (BTF2232)\nDozierende: Habegger [hg
 a3]\nRäume: Q509\nCode: BTF2232a\nKommentar: D -
X-ALT-DESC;FMTTYPE=text/html:Veranstaltung: Informatik 2 (BTF2232)<br>Dozie
 rende: Habegger [hga3]<br>Räume: Q509<br>Code: BTF2232a<br>Kommentar: D -
DTSTAMP:20260425T003350Z
END:VEVENT
BEGIN:VEVENT
UID:69ec0bee540c3
DTSTART:20220308T114500Z
SEQUENCE:0
TRANSP:OPAQUE
DTEND:20220308T150000Z
SUMMARY:Informatik 2
CLASS:PUBLIC
DESCRIPTION:Veranstaltung: Informatik 2 (BTF2232)\nDozierende: Mainini Pasc
 al [mip3]\nRäume: \nCode: BTF2232a\nKommentar: D -
X-ALT-DESC;FMTTYPE=text/html:Veranstaltung: Informatik 2 (BTF2232)<br>Dozie
 rende: Mainini Pascal [mip3]<br>Räume: <br>Code: BTF2232a<br>Kommentar: D
  -
DTSTAMP:20260425T003350Z
END:VEVENT
BEGIN:VEVENT
UID:69ec0bee54125
DTSTART:20220310T114500Z
SEQUENCE:0
TRANSP:OPAQUE
DTEND:20220310T150000Z
LOCATION:Q509
SUMMARY:Informatik 2
CLASS:PUBLIC
DESCRIPTION:Veranstaltung: Informatik 2 (BTF2232)\nDozierende: Habegger [hg
 a3]\nRäume: Q509\nCode: BTF2232b\nKommentar: D -
X-ALT-DESC;FMTTYPE=text/html:Veranstaltung: Informatik 2 (BTF2232)<br>Dozie
 rende: Habegger [hga3]<br>Räume: Q509<br>Code: BTF2232b<br>Kommentar: D -
DTSTAMP:20260425T003350Z
END:VEVENT
BEGIN:VEVENT
UID:69ec0bee54188
DTSTART:20220310T114500Z
SEQUENCE:0
TRANSP:OPAQUE
DTEND:20220310T150000Z
SUMMARY:Informatik 2
CLASS:PUBLIC
DESCRIPTION:Veranstaltung: Informatik 2 (BTF2232)\nDozierende: Mainini Pasc
 al [mip3]\nRäume: \nCode: BTF2232b\nKommentar: D -
X-ALT-DESC;FMTTYPE=text/html:Veranstaltung: Informatik 2 (BTF2232)<br>Dozie
 rende: Mainini Pascal [mip3]<br>Räume: <br>Code: BTF2232b<br>Kommentar: D
  -
DTSTAMP:20260425T003350Z
END:VEVENT
BEGIN:VEVENT
UID:69ec0bee541e9
DTSTART:20220315T114500Z
SEQUENCE:0
TRANSP:OPAQUE
DTEND:20220315T150000Z
LOCATION:Q509
SUMMARY:Informatik 2
CLASS:PUBLIC
DESCRIPTION:Veranstaltung: Informatik 2 (BTF2232)\nDozierende: Habegger [hg
 a3]\nRäume: Q509\nCode: BTF2232a\nKommentar: D -
X-ALT-DESC;FMTTYPE=text/html:Veranstaltung: Informatik 2 (BTF2232)<br>Dozie
 rende: Habegger [hga3]<br>Räume: Q509<br>Code: BTF2232a<br>Kommentar: D -
DTSTAMP:20260425T003350Z
END:VEVENT
BEGIN:VEVENT
UID:69ec0bee5424f
DTSTART:20220315T114500Z
SEQUENCE:0
TRANSP:OPAQUE
DTEND:20220315T150000Z
SUMMARY:Informatik 2
CLASS:PUBLIC
DESCRIPTION:Veranstaltung: Informatik 2 (BTF2232)\nDozierende: Mainini Pasc
 al [mip3]\nRäume: \nCode: BTF2232a\nKommentar: D -
X-ALT-DESC;FMTTYPE=text/html:Veranstaltung: Informatik 2 (BTF2232)<br>Dozie
 rende: Mainini Pascal [mip3]<br>Räume: <br>Code: BTF2232a<br>Kommentar: D
  -
DTSTAMP:20260425T003350Z
END:VEVENT
BEGIN:VEVENT
UID:69ec0bee542b0
DTSTART:20220317T114500Z
SEQUENCE:0
TRANSP:OPAQUE
DTEND:20220317T150000Z
LOCATION:Q509
SUMMARY:Informatik 2
CLASS:PUBLIC
DESCRIPTION:Veranstaltung: Informatik 2 (BTF2232)\nDozierende: Habegger [hg
 a3]\nRäume: Q509\nCode: BTF2232b\nKommentar: D -
X-ALT-DESC;FMTTYPE=text/html:Veranstaltung: Informatik 2 (BTF2232)<br>Dozie
 rende: Habegger [hga3]<br>Räume: Q509<br>Code: BTF2232b<br>Kommentar: D -
DTSTAMP:20260425T003350Z
END:VEVENT
BEGIN:VEVENT
UID:69ec0bee54315
DTSTART:20220317T114500Z
SEQUENCE:0
TRANSP:OPAQUE
DTEND:20220317T150000Z
SUMMARY:Informatik 2
CLASS:PUBLIC
DESCRIPTION:Veranstaltung: Informatik 2 (BTF2232)\nDozierende: Mainini Pasc
 al [mip3]\nRäume: \nCode: BTF2232b\nKommentar: D -
X-ALT-DESC;FMTTYPE=text/html:Veranstaltung: Informatik 2 (BTF2232)<br>Dozie
 rende: Mainini Pascal [mip3]<br>Räume: <br>Code: BTF2232b<br>Kommentar: D
  -
DTSTAMP:20260425T003350Z
END:VEVENT
BEGIN:VEVENT
UID:69ec0bee54371
DTSTART:20220322T114500Z
SEQUENCE:0
TRANSP:OPAQUE
DTEND:20220322T150000Z
LOCATION:Q509
SUMMARY:Informatik 2
CLASS:PUBLIC
DESCRIPTION:Veranstaltung: Informatik 2 (BTF2232)\nDozierende: Habegger [hg
 a3]\nRäume: Q509\nCode: BTF2232a\nKommentar: D -
X-ALT-DESC;FMTTYPE=text/html:Veranstaltung: Informatik 2 (BTF2232)<br>Dozie
 rende: Habegger [hga3]<br>Räume: Q509<br>Code: BTF2232a<br>Kommentar: D -
DTSTAMP:20260425T003350Z
END:VEVENT
BEGIN:VEVENT
UID:69ec0bee543d8
DTSTART:20220322T114500Z
SEQUENCE:0
TRANSP:OPAQUE
DTEND:20220322T150000Z
SUMMARY:Informatik 2
CLASS:PUBLIC
DESCRIPTION:Veranstaltung: Informatik 2 (BTF2232)\nDozierende: Mainini Pasc
 al [mip3]\nRäume: \nCode: BTF2232a\nKommentar: D -
X-ALT-DESC;FMTTYPE=text/html:Veranstaltung: Informatik 2 (BTF2232)<br>Dozie
 rende: Mainini Pascal [mip3]<br>Räume: <br>Code: BTF2232a<br>Kommentar: D
  -
DTSTAMP:20260425T003350Z
END:VEVENT
BEGIN:VEVENT
UID:69ec0bee5443a
DTSTART:20220324T114500Z
SEQUENCE:0
TRANSP:OPAQUE
DTEND:20220324T150000Z
LOCATION:Q509
SUMMARY:Informatik 2
CLASS:PUBLIC
DESCRIPTION:Veranstaltung: Informatik 2 (BTF2232)\nDozierende: Habegger [hg
 a3]\nRäume: Q509\nCode: BTF2232b\nKommentar: D -
X-ALT-DESC;FMTTYPE=text/html:Veranstaltung: Informatik 2 (BTF2232)<br>Dozie
 rende: Habegger [hga3]<br>Räume: Q509<br>Code: BTF2232b<br>Kommentar: D -
DTSTAMP:20260425T003350Z
END:VEVENT
BEGIN:VEVENT
UID:69ec0bee5449c
DTSTART:20220324T114500Z
SEQUENCE:0
TRANSP:OPAQUE
DTEND:20220324T150000Z
SUMMARY:Informatik 2
CLASS:PUBLIC
DESCRIPTION:Veranstaltung: Informatik 2 (BTF2232)\nDozierende: Mainini Pasc
 al [mip3]\nRäume: \nCode: BTF2232b\nKommentar: D -
X-ALT-DESC;FMTTYPE=text/html:Veranstaltung: Informatik 2 (BTF2232)<br>Dozie
 rende: Mainini Pascal [mip3]<br>Räume: <br>Code: BTF2232b<br>Kommentar: D
  -
DTSTAMP:20260425T003350Z
END:VEVENT
BEGIN:VEVENT
UID:69ec0bee544fb
DTSTART:20220329T104500Z
SEQUENCE:0
TRANSP:OPAQUE
DTEND:20220329T140000Z
LOCATION:Q509
SUMMARY:Informatik 2
CLASS:PUBLIC
DESCRIPTION:Veranstaltung: Informatik 2 (BTF2232)\nDozierende: Habegger [hg
 a3]\nRäume: Q509\nCode: BTF2232a\nKommentar: D -
X-ALT-DESC;FMTTYPE=text/html:Veranstaltung: Informatik 2 (BTF2232)<br>Dozie
 rende: Habegger [hga3]<br>Räume: Q509<br>Code: BTF2232a<br>Kommentar: D -
DTSTAMP:20260425T003350Z
END:VEVENT
BEGIN:VEVENT
UID:69ec0bee5456c
DTSTART:20220329T104500Z
SEQUENCE:0
TRANSP:OPAQUE
DTEND:20220329T140000Z
SUMMARY:Informatik 2
CLASS:PUBLIC
DESCRIPTION:Veranstaltung: Informatik 2 (BTF2232)\nDozierende: Mainini Pasc
 al [mip3]\nRäume: \nCode: BTF2232a\nKommentar: D -
X-ALT-DESC;FMTTYPE=text/html:Veranstaltung: Informatik 2 (BTF2232)<br>Dozie
 rende: Mainini Pascal [mip3]<br>Räume: <br>Code: BTF2232a<br>Kommentar: D
  -
DTSTAMP:20260425T003350Z
END:VEVENT
BEGIN:VEVENT
UID:69ec0bee545ce
DTSTART:20220331T104500Z
SEQUENCE:0
TRANSP:OPAQUE
DTEND:20220331T140000Z
LOCATION:Q509
SUMMARY:Informatik 2
CLASS:PUBLIC
DESCRIPTION:Veranstaltung: Informatik 2 (BTF2232)\nDozierende: Habegger [hg
 a3]\nRäume: Q509\nCode: BTF2232b\nKommentar: D -
X-ALT-DESC;FMTTYPE=text/html:Veranstaltung: Informatik 2 (BTF2232)<br>Dozie
 rende: Habegger [hga3]<br>Räume: Q509<br>Code: BTF2232b<br>Kommentar: D -
DTSTAMP:20260425T003350Z
END:VEVENT
BEGIN:VEVENT
UID:69ec0bee54632
DTSTART:20220331T104500Z
SEQUENCE:0
TRANSP:OPAQUE
DTEND:20220331T140000Z
SUMMARY:Informatik 2
CLASS:PUBLIC
DESCRIPTION:Veranstaltung: Informatik 2 (BTF2232)\nDozierende: Mainini Pasc
 al [mip3]\nRäume: \nCode: BTF2232b\nKommentar: D -
X-ALT-DESC;FMTTYPE=text/html:Veranstaltung: Informatik 2 (BTF2232)<br>Dozie
 rende: Mainini Pascal [mip3]<br>Räume: <br>Code: BTF2232b<br>Kommentar: D
  -
DTSTAMP:20260425T003350Z
END:VEVENT
BEGIN:VEVENT
UID:69ec0bee54691
DTSTART:20220405T104500Z
SEQUENCE:0
TRANSP:OPAQUE
DTEND:20220405T140000Z
LOCATION:Q509
SUMMARY:Informatik 2
CLASS:PUBLIC
DESCRIPTION:Veranstaltung: Informatik 2 (BTF2232)\nDozierende: Habegger [hg
 a3]\nRäume: Q509\nCode: BTF2232a\nKommentar: D -
X-ALT-DESC;FMTTYPE=text/html:Veranstaltung: Informatik 2 (BTF2232)<br>Dozie
 rende: Habegger [hga3]<br>Räume: Q509<br>Code: BTF2232a<br>Kommentar: D -
DTSTAMP:20260425T003350Z
END:VEVENT
BEGIN:VEVENT
UID:69ec0bee546f9
DTSTART:20220405T104500Z
SEQUENCE:0
TRANSP:OPAQUE
DTEND:20220405T140000Z
SUMMARY:Informatik 2
CLASS:PUBLIC
DESCRIPTION:Veranstaltung: Informatik 2 (BTF2232)\nDozierende: Mainini Pasc
 al [mip3]\nRäume: \nCode: BTF2232a\nKommentar: D -
X-ALT-DESC;FMTTYPE=text/html:Veranstaltung: Informatik 2 (BTF2232)<br>Dozie
 rende: Mainini Pascal [mip3]<br>Räume: <br>Code: BTF2232a<br>Kommentar: D
  -
DTSTAMP:20260425T003350Z
END:VEVENT
BEGIN:VEVENT
UID:69ec0bee5475c
DTSTART:20220407T104500Z
SEQUENCE:0
TRANSP:OPAQUE
DTEND:20220407T140000Z
LOCATION:Q509
SUMMARY:Informatik 2
CLASS:PUBLIC
DESCRIPTION:Veranstaltung: Informatik 2 (BTF2232)\nDozierende: Habegger [hg
 a3]\nRäume: Q509\nCode: BTF2232b\nKommentar: D -
X-ALT-DESC;FMTTYPE=text/html:Veranstaltung: Informatik 2 (BTF2232)<br>Dozie
 rende: Habegger [hga3]<br>Räume: Q509<br>Code: BTF2232b<br>Kommentar: D -
DTSTAMP:20260425T003350Z
END:VEVENT
BEGIN:VEVENT
UID:69ec0bee547c1
DTSTART:20220407T104500Z
SEQUENCE:0
TRANSP:OPAQUE
DTEND:20220407T140000Z
SUMMARY:Informatik 2
CLASS:PUBLIC
DESCRIPTION:Veranstaltung: Informatik 2 (BTF2232)\nDozierende: Mainini Pasc
 al [mip3]\nRäume: \nCode: BTF2232b\nKommentar: D -
X-ALT-DESC;FMTTYPE=text/html:Veranstaltung: Informatik 2 (BTF2232)<br>Dozie
 rende: Mainini Pascal [mip3]<br>Räume: <br>Code: BTF2232b<br>Kommentar: D
  -
DTSTAMP:20260425T003350Z
END:VEVENT
BEGIN:VEVENT
UID:69ec0bee54821
DTSTART:20220419T104500Z
SEQUENCE:0
TRANSP:OPAQUE
DTEND:20220419T140000Z
LOCATION:Q509
SUMMARY:Informatik 2
CLASS:PUBLIC
DESCRIPTION:Veranstaltung: Informatik 2 (BTF2232)\nDozierende: Habegger [hg
 a3]\nRäume: Q509\nCode: BTF2232a\nKommentar: D -
X-ALT-DESC;FMTTYPE=text/html:Veranstaltung: Informatik 2 (BTF2232)<br>Dozie
 rende: Habegger [hga3]<br>Räume: Q509<br>Code: BTF2232a<br>Kommentar: D -
DTSTAMP:20260425T003350Z
END:VEVENT
BEGIN:VEVENT
UID:69ec0bee54884
DTSTART:20220419T104500Z
SEQUENCE:0
TRANSP:OPAQUE
DTEND:20220419T140000Z
SUMMARY:Informatik 2
CLASS:PUBLIC
DESCRIPTION:Veranstaltung: Informatik 2 (BTF2232)\nDozierende: Mainini Pasc
 al [mip3]\nRäume: \nCode: BTF2232a\nKommentar: D -
X-ALT-DESC;FMTTYPE=text/html:Veranstaltung: Informatik 2 (BTF2232)<br>Dozie
 rende: Mainini Pascal [mip3]<br>Räume: <br>Code: BTF2232a<br>Kommentar: D
  -
DTSTAMP:20260425T003350Z
END:VEVENT
BEGIN:VEVENT
UID:69ec0bee548e6
DTSTART:20220421T104500Z
SEQUENCE:0
TRANSP:OPAQUE
DTEND:20220421T140000Z
LOCATION:Q509
SUMMARY:Informatik 2
CLASS:PUBLIC
DESCRIPTION:Veranstaltung: Informatik 2 (BTF2232)\nDozierende: Habegger [hg
 a3]\nRäume: Q509\nCode: BTF2232b\nKommentar: D -
X-ALT-DESC;FMTTYPE=text/html:Veranstaltung: Informatik 2 (BTF2232)<br>Dozie
 rende: Habegger [hga3]<br>Räume: Q509<br>Code: BTF2232b<br>Kommentar: D -
DTSTAMP:20260425T003350Z
END:VEVENT
BEGIN:VEVENT
UID:69ec0bee5494c
DTSTART:20220421T104500Z
SEQUENCE:0
TRANSP:OPAQUE
DTEND:20220421T140000Z
SUMMARY:Informatik 2
CLASS:PUBLIC
DESCRIPTION:Veranstaltung: Informatik 2 (BTF2232)\nDozierende: Mainini Pasc
 al [mip3]\nRäume: \nCode: BTF2232b\nKommentar: D -
X-ALT-DESC;FMTTYPE=text/html:Veranstaltung: Informatik 2 (BTF2232)<br>Dozie
 rende: Mainini Pascal [mip3]<br>Räume: <br>Code: BTF2232b<br>Kommentar: D
  -
DTSTAMP:20260425T003350Z
END:VEVENT
BEGIN:VEVENT
UID:69ec0bee549aa
DTSTART:20220426T104500Z
SEQUENCE:0
TRANSP:OPAQUE
DTEND:20220426T140000Z
LOCATION:Q509
SUMMARY:Informatik 2
CLASS:PUBLIC
DESCRIPTION:Veranstaltung: Informatik 2 (BTF2232)\nDozierende: Habegger [hg
 a3]\nRäume: Q509\nCode: BTF2232a\nKommentar: D -
X-ALT-DESC;FMTTYPE=text/html:Veranstaltung: Informatik 2 (BTF2232)<br>Dozie
 rende: Habegger [hga3]<br>Räume: Q509<br>Code: BTF2232a<br>Kommentar: D -
DTSTAMP:20260425T003350Z
END:VEVENT
BEGIN:VEVENT
UID:69ec0bee54a50
DTSTART:20220426T104500Z
SEQUENCE:0
TRANSP:OPAQUE
DTEND:20220426T140000Z
SUMMARY:Informatik 2
CLASS:PUBLIC
DESCRIPTION:Veranstaltung: Informatik 2 (BTF2232)\nDozierende: Mainini Pasc
 al [mip3]\nRäume: \nCode: BTF2232a\nKommentar: D -
X-ALT-DESC;FMTTYPE=text/html:Veranstaltung: Informatik 2 (BTF2232)<br>Dozie
 rende: Mainini Pascal [mip3]<br>Räume: <br>Code: BTF2232a<br>Kommentar: D
  -
DTSTAMP:20260425T003350Z
END:VEVENT
BEGIN:VEVENT
UID:69ec0bee54ab3
DTSTART:20220428T104500Z
SEQUENCE:0
TRANSP:OPAQUE
DTEND:20220428T140000Z
LOCATION:Q509
SUMMARY:Informatik 2
CLASS:PUBLIC
DESCRIPTION:Veranstaltung: Informatik 2 (BTF2232)\nDozierende: Habegger [hg
 a3]\nRäume: Q509\nCode: BTF2232b\nKommentar: D -
X-ALT-DESC;FMTTYPE=text/html:Veranstaltung: Informatik 2 (BTF2232)<br>Dozie
 rende: Habegger [hga3]<br>Räume: Q509<br>Code: BTF2232b<br>Kommentar: D -
DTSTAMP:20260425T003350Z
END:VEVENT
BEGIN:VEVENT
UID:69ec0bee54b18
DTSTART:20220428T104500Z
SEQUENCE:0
TRANSP:OPAQUE
DTEND:20220428T140000Z
SUMMARY:Informatik 2
CLASS:PUBLIC
DESCRIPTION:Veranstaltung: Informatik 2 (BTF2232)\nDozierende: Mainini Pasc
 al [mip3]\nRäume: \nCode: BTF2232b\nKommentar: D -
X-ALT-DESC;FMTTYPE=text/html:Veranstaltung: Informatik 2 (BTF2232)<br>Dozie
 rende: Mainini Pascal [mip3]<br>Räume: <br>Code: BTF2232b<br>Kommentar: D
  -
DTSTAMP:20260425T003350Z
END:VEVENT
BEGIN:VEVENT
UID:69ec0bee54b7e
DTSTART:20220503T104500Z
SEQUENCE:0
TRANSP:OPAQUE
DTEND:20220503T140000Z
LOCATION:Q509
SUMMARY:Informatik 2
CLASS:PUBLIC
DESCRIPTION:Veranstaltung: Informatik 2 (BTF2232)\nDozierende: Habegger [hg
 a3]\nRäume: Q509\nCode: BTF2232a\nKommentar: D -
X-ALT-DESC;FMTTYPE=text/html:Veranstaltung: Informatik 2 (BTF2232)<br>Dozie
 rende: Habegger [hga3]<br>Räume: Q509<br>Code: BTF2232a<br>Kommentar: D -
DTSTAMP:20260425T003350Z
END:VEVENT
BEGIN:VEVENT
UID:69ec0bee54be3
DTSTART:20220503T104500Z
SEQUENCE:0
TRANSP:OPAQUE
DTEND:20220503T140000Z
SUMMARY:Informatik 2
CLASS:PUBLIC
DESCRIPTION:Veranstaltung: Informatik 2 (BTF2232)\nDozierende: Mainini Pasc
 al [mip3]\nRäume: \nCode: BTF2232a\nKommentar: D -
X-ALT-DESC;FMTTYPE=text/html:Veranstaltung: Informatik 2 (BTF2232)<br>Dozie
 rende: Mainini Pascal [mip3]<br>Räume: <br>Code: BTF2232a<br>Kommentar: D
  -
DTSTAMP:20260425T003350Z
END:VEVENT
BEGIN:VEVENT
UID:69ec0bee54c48
DTSTART:20220505T104500Z
SEQUENCE:0
TRANSP:OPAQUE
DTEND:20220505T140000Z
LOCATION:Q509
SUMMARY:Informatik 2
CLASS:PUBLIC
DESCRIPTION:Veranstaltung: Informatik 2 (BTF2232)\nDozierende: Habegger [hg
 a3]\nRäume: Q509\nCode: BTF2232b\nKommentar: D -
X-ALT-DESC;FMTTYPE=text/html:Veranstaltung: Informatik 2 (BTF2232)<br>Dozie
 rende: Habegger [hga3]<br>Räume: Q509<br>Code: BTF2232b<br>Kommentar: D -
DTSTAMP:20260425T003350Z
END:VEVENT
BEGIN:VEVENT
UID:69ec0bee54cb0
DTSTART:20220505T104500Z
SEQUENCE:0
TRANSP:OPAQUE
DTEND:20220505T140000Z
SUMMARY:Informatik 2
CLASS:PUBLIC
DESCRIPTION:Veranstaltung: Informatik 2 (BTF2232)\nDozierende: Mainini Pasc
 al [mip3]\nRäume: \nCode: BTF2232b\nKommentar: D -
X-ALT-DESC;FMTTYPE=text/html:Veranstaltung: Informatik 2 (BTF2232)<br>Dozie
 rende: Mainini Pascal [mip3]<br>Räume: <br>Code: BTF2232b<br>Kommentar: D
  -
DTSTAMP:20260425T003350Z
END:VEVENT
BEGIN:VEVENT
UID:69ec0bee54d12
DTSTART:20220510T104500Z
SEQUENCE:0
TRANSP:OPAQUE
DTEND:20220510T140000Z
LOCATION:Q509
SUMMARY:Informatik 2
CLASS:PUBLIC
DESCRIPTION:Veranstaltung: Informatik 2 (BTF2232)\nDozierende: Habegger [hg
 a3]\nRäume: Q509\nCode: BTF2232a\nKommentar: D -
X-ALT-DESC;FMTTYPE=text/html:Veranstaltung: Informatik 2 (BTF2232)<br>Dozie
 rende: Habegger [hga3]<br>Räume: Q509<br>Code: BTF2232a<br>Kommentar: D -
DTSTAMP:20260425T003350Z
END:VEVENT
BEGIN:VEVENT
UID:69ec0bee54d82
DTSTART:20220510T104500Z
SEQUENCE:0
TRANSP:OPAQUE
DTEND:20220510T140000Z
SUMMARY:Informatik 2
CLASS:PUBLIC
DESCRIPTION:Veranstaltung: Informatik 2 (BTF2232)\nDozierende: Mainini Pasc
 al [mip3]\nRäume: \nCode: BTF2232a\nKommentar: D -
X-ALT-DESC;FMTTYPE=text/html:Veranstaltung: Informatik 2 (BTF2232)<br>Dozie
 rende: Mainini Pascal [mip3]<br>Räume: <br>Code: BTF2232a<br>Kommentar: D
  -
DTSTAMP:20260425T003350Z
END:VEVENT
BEGIN:VEVENT
UID:69ec0bee54de1
DTSTART:20220512T104500Z
SEQUENCE:0
TRANSP:OPAQUE
DTEND:20220512T140000Z
LOCATION:Q509
SUMMARY:Informatik 2
CLASS:PUBLIC
DESCRIPTION:Veranstaltung: Informatik 2 (BTF2232)\nDozierende: Habegger [hg
 a3]\nRäume: Q509\nCode: BTF2232b\nKommentar: D -
X-ALT-DESC;FMTTYPE=text/html:Veranstaltung: Informatik 2 (BTF2232)<br>Dozie
 rende: Habegger [hga3]<br>Räume: Q509<br>Code: BTF2232b<br>Kommentar: D -
DTSTAMP:20260425T003350Z
END:VEVENT
BEGIN:VEVENT
UID:69ec0bee54e47
DTSTART:20220512T104500Z
SEQUENCE:0
TRANSP:OPAQUE
DTEND:20220512T140000Z
SUMMARY:Informatik 2
CLASS:PUBLIC
DESCRIPTION:Veranstaltung: Informatik 2 (BTF2232)\nDozierende: Mainini Pasc
 al [mip3]\nRäume: \nCode: BTF2232b\nKommentar: D -
X-ALT-DESC;FMTTYPE=text/html:Veranstaltung: Informatik 2 (BTF2232)<br>Dozie
 rende: Mainini Pascal [mip3]<br>Räume: <br>Code: BTF2232b<br>Kommentar: D
  -
DTSTAMP:20260425T003350Z
END:VEVENT
BEGIN:VEVENT
UID:69ec0bee54ea6
DTSTART:20220517T104500Z
SEQUENCE:0
TRANSP:OPAQUE
DTEND:20220517T140000Z
LOCATION:Q509
SUMMARY:Informatik 2
CLASS:PUBLIC
DESCRIPTION:Veranstaltung: Informatik 2 (BTF2232)\nDozierende: Habegger [hg
 a3]\nRäume: Q509\nCode: BTF2232a\nKommentar: D -
X-ALT-DESC;FMTTYPE=text/html:Veranstaltung: Informatik 2 (BTF2232)<br>Dozie
 rende: Habegger [hga3]<br>Räume: Q509<br>Code: BTF2232a<br>Kommentar: D -
DTSTAMP:20260425T003350Z
END:VEVENT
BEGIN:VEVENT
UID:69ec0bee54f09
DTSTART:20220517T104500Z
SEQUENCE:0
TRANSP:OPAQUE
DTEND:20220517T140000Z
SUMMARY:Informatik 2
CLASS:PUBLIC
DESCRIPTION:Veranstaltung: Informatik 2 (BTF2232)\nDozierende: Mainini Pasc
 al [mip3]\nRäume: \nCode: BTF2232a\nKommentar: D -
X-ALT-DESC;FMTTYPE=text/html:Veranstaltung: Informatik 2 (BTF2232)<br>Dozie
 rende: Mainini Pascal [mip3]<br>Räume: <br>Code: BTF2232a<br>Kommentar: D
  -
DTSTAMP:20260425T003350Z
END:VEVENT
BEGIN:VEVENT
UID:69ec0bee54f6d
DTSTART:20220519T104500Z
SEQUENCE:0
TRANSP:OPAQUE
DTEND:20220519T140000Z
LOCATION:Q509
SUMMARY:Informatik 2
CLASS:PUBLIC
DESCRIPTION:Veranstaltung: Informatik 2 (BTF2232)\nDozierende: Habegger [hg
 a3]\nRäume: Q509\nCode: BTF2232b\nKommentar: D -
X-ALT-DESC;FMTTYPE=text/html:Veranstaltung: Informatik 2 (BTF2232)<br>Dozie
 rende: Habegger [hga3]<br>Räume: Q509<br>Code: BTF2232b<br>Kommentar: D -
DTSTAMP:20260425T003350Z
END:VEVENT
BEGIN:VEVENT
UID:69ec0bee54fd1
DTSTART:20220519T104500Z
SEQUENCE:0
TRANSP:OPAQUE
DTEND:20220519T140000Z
SUMMARY:Informatik 2
CLASS:PUBLIC
DESCRIPTION:Veranstaltung: Informatik 2 (BTF2232)\nDozierende: Mainini Pasc
 al [mip3]\nRäume: \nCode: BTF2232b\nKommentar: D -
X-ALT-DESC;FMTTYPE=text/html:Veranstaltung: Informatik 2 (BTF2232)<br>Dozie
 rende: Mainini Pascal [mip3]<br>Räume: <br>Code: BTF2232b<br>Kommentar: D
  -
DTSTAMP:20260425T003350Z
END:VEVENT
BEGIN:VEVENT
UID:69ec0bee55036
DTSTART:20220524T104500Z
SEQUENCE:0
TRANSP:OPAQUE
DTEND:20220524T140000Z
LOCATION:Q509
SUMMARY:Informatik 2
CLASS:PUBLIC
DESCRIPTION:Veranstaltung: Informatik 2 (BTF2232)\nDozierende: Habegger [hg
 a3]\nRäume: Q509\nCode: BTF2232a\nKommentar: D -
X-ALT-DESC;FMTTYPE=text/html:Veranstaltung: Informatik 2 (BTF2232)<br>Dozie
 rende: Habegger [hga3]<br>Räume: Q509<br>Code: BTF2232a<br>Kommentar: D -
DTSTAMP:20260425T003350Z
END:VEVENT
BEGIN:VEVENT
UID:69ec0bee5509c
DTSTART:20220524T104500Z
SEQUENCE:0
TRANSP:OPAQUE
DTEND:20220524T140000Z
SUMMARY:Informatik 2
CLASS:PUBLIC
DESCRIPTION:Veranstaltung: Informatik 2 (BTF2232)\nDozierende: Mainini Pasc
 al [mip3]\nRäume: \nCode: BTF2232a\nKommentar: D -
X-ALT-DESC;FMTTYPE=text/html:Veranstaltung: Informatik 2 (BTF2232)<br>Dozie
 rende: Mainini Pascal [mip3]<br>Räume: <br>Code: BTF2232a<br>Kommentar: D
  -
DTSTAMP:20260425T003350Z
END:VEVENT
BEGIN:VEVENT
UID:69ec0bee550fb
DTSTART:20220531T104500Z
SEQUENCE:0
TRANSP:OPAQUE
DTEND:20220531T140000Z
SUMMARY:Informatik 2
CLASS:PUBLIC
DESCRIPTION:Veranstaltung: Informatik 2 (BTF2232)\nDozierende: Mainini Pasc
 al [mip3]\nRäume: \nCode: BTF2232a\nKommentar: D -
X-ALT-DESC;FMTTYPE=text/html:Veranstaltung: Informatik 2 (BTF2232)<br>Dozie
 rende: Mainini Pascal [mip3]<br>Räume: <br>Code: BTF2232a<br>Kommentar: D
  -
DTSTAMP:20260425T003350Z
END:VEVENT
BEGIN:VEVENT
UID:69ec0bee55159
DTSTART:20220531T104500Z
SEQUENCE:0
TRANSP:OPAQUE
DTEND:20220531T140000Z
LOCATION:Q509
SUMMARY:Informatik 2
CLASS:PUBLIC
DESCRIPTION:Veranstaltung: Informatik 2 (BTF2232)\nDozierende: Habegger [hg
 a3]\nRäume: Q509\nCode: BTF2232a\nKommentar: D -
X-ALT-DESC;FMTTYPE=text/html:Veranstaltung: Informatik 2 (BTF2232)<br>Dozie
 rende: Habegger [hga3]<br>Räume: Q509<br>Code: BTF2232a<br>Kommentar: D -
DTSTAMP:20260425T003350Z
END:VEVENT
BEGIN:VEVENT
UID:69ec0bee551c8
DTSTART:20220602T104500Z
SEQUENCE:0
TRANSP:OPAQUE
DTEND:20220602T140000Z
LOCATION:Q509
SUMMARY:Informatik 2
CLASS:PUBLIC
DESCRIPTION:Veranstaltung: Informatik 2 (BTF2232)\nDozierende: Habegger [hg
 a3]\nRäume: Q509\nCode: BTF2232b\nKommentar: D -
X-ALT-DESC;FMTTYPE=text/html:Veranstaltung: Informatik 2 (BTF2232)<br>Dozie
 rende: Habegger [hga3]<br>Räume: Q509<br>Code: BTF2232b<br>Kommentar: D -
DTSTAMP:20260425T003350Z
END:VEVENT
BEGIN:VEVENT
UID:69ec0bee5522b
DTSTART:20220602T104500Z
SEQUENCE:0
TRANSP:OPAQUE
DTEND:20220602T140000Z
SUMMARY:Informatik 2
CLASS:PUBLIC
DESCRIPTION:Veranstaltung: Informatik 2 (BTF2232)\nDozierende: Mainini Pasc
 al [mip3]\nRäume: \nCode: BTF2232b\nKommentar: D -
X-ALT-DESC;FMTTYPE=text/html:Veranstaltung: Informatik 2 (BTF2232)<br>Dozie
 rende: Mainini Pascal [mip3]<br>Räume: <br>Code: BTF2232b<br>Kommentar: D
  -
DTSTAMP:20260425T003350Z
END:VEVENT
BEGIN:VEVENT
UID:69ec0bee5528a
DTSTART:20220607T104500Z
SEQUENCE:0
TRANSP:OPAQUE
DTEND:20220607T140000Z
LOCATION:Q509
SUMMARY:Informatik 2
CLASS:PUBLIC
DESCRIPTION:Veranstaltung: Informatik 2 (BTF2232)\nDozierende: Habegger [hg
 a3]\nRäume: Q509\nCode: BTF2232a\nKommentar: D -
X-ALT-DESC;FMTTYPE=text/html:Veranstaltung: Informatik 2 (BTF2232)<br>Dozie
 rende: Habegger [hga3]<br>Räume: Q509<br>Code: BTF2232a<br>Kommentar: D -
DTSTAMP:20260425T003350Z
END:VEVENT
BEGIN:VEVENT
UID:69ec0bee552ee
DTSTART:20220607T104500Z
SEQUENCE:0
TRANSP:OPAQUE
DTEND:20220607T140000Z
SUMMARY:Informatik 2
CLASS:PUBLIC
DESCRIPTION:Veranstaltung: Informatik 2 (BTF2232)\nDozierende: Mainini Pasc
 al [mip3]\nRäume: \nCode: BTF2232a\nKommentar: D -
X-ALT-DESC;FMTTYPE=text/html:Veranstaltung: Informatik 2 (BTF2232)<br>Dozie
 rende: Mainini Pascal [mip3]<br>Räume: <br>Code: BTF2232a<br>Kommentar: D
  -
DTSTAMP:20260425T003350Z
END:VEVENT
BEGIN:VEVENT
UID:69ec0bee5534d
DTSTART:20220609T104500Z
SEQUENCE:0
TRANSP:OPAQUE
DTEND:20220609T140000Z
LOCATION:Q509
SUMMARY:Informatik 2
CLASS:PUBLIC
DESCRIPTION:Veranstaltung: Informatik 2 (BTF2232)\nDozierende: Habegger [hg
 a3]\nRäume: Q509\nCode: BTF2232b\nKommentar: D -
X-ALT-DESC;FMTTYPE=text/html:Veranstaltung: Informatik 2 (BTF2232)<br>Dozie
 rende: Habegger [hga3]<br>Räume: Q509<br>Code: BTF2232b<br>Kommentar: D -
DTSTAMP:20260425T003350Z
END:VEVENT
BEGIN:VEVENT
UID:69ec0bee553b2
DTSTART:20220609T104500Z
SEQUENCE:0
TRANSP:OPAQUE
DTEND:20220609T140000Z
SUMMARY:Informatik 2
CLASS:PUBLIC
DESCRIPTION:Veranstaltung: Informatik 2 (BTF2232)\nDozierende: Mainini Pasc
 al [mip3]\nRäume: \nCode: BTF2232b\nKommentar: D -
X-ALT-DESC;FMTTYPE=text/html:Veranstaltung: Informatik 2 (BTF2232)<br>Dozie
 rende: Mainini Pascal [mip3]<br>Räume: <br>Code: BTF2232b<br>Kommentar: D
  -
DTSTAMP:20260425T003350Z
END:VEVENT
BEGIN:VEVENT
UID:69ec0bee55413
DTSTART:20220614T104500Z
SEQUENCE:0
TRANSP:OPAQUE
DTEND:20220614T140000Z
LOCATION:Q509
SUMMARY:Informatik 2
CLASS:PUBLIC
DESCRIPTION:Veranstaltung: Informatik 2 (BTF2232)\nDozierende: Habegger [hg
 a3]\nRäume: Q509\nCode: BTF2232a\nKommentar: D -
X-ALT-DESC;FMTTYPE=text/html:Veranstaltung: Informatik 2 (BTF2232)<br>Dozie
 rende: Habegger [hga3]<br>Räume: Q509<br>Code: BTF2232a<br>Kommentar: D -
DTSTAMP:20260425T003350Z
END:VEVENT
BEGIN:VEVENT
UID:69ec0bee55476
DTSTART:20220614T104500Z
SEQUENCE:0
TRANSP:OPAQUE
DTEND:20220614T140000Z
SUMMARY:Informatik 2
CLASS:PUBLIC
DESCRIPTION:Veranstaltung: Informatik 2 (BTF2232)\nDozierende: Mainini Pasc
 al [mip3]\nRäume: \nCode: BTF2232a\nKommentar: D -
X-ALT-DESC;FMTTYPE=text/html:Veranstaltung: Informatik 2 (BTF2232)<br>Dozie
 rende: Mainini Pascal [mip3]<br>Räume: <br>Code: BTF2232a<br>Kommentar: D
  -
DTSTAMP:20260425T003350Z
END:VEVENT
BEGIN:VEVENT
UID:69ec0bee554d8
DTSTART:20220616T104500Z
SEQUENCE:0
TRANSP:OPAQUE
DTEND:20220616T140000Z
LOCATION:Q509
SUMMARY:Informatik 2
CLASS:PUBLIC
DESCRIPTION:Veranstaltung: Informatik 2 (BTF2232)\nDozierende: Habegger [hg
 a3]\nRäume: Q509\nCode: BTF2232b\nKommentar: D -
X-ALT-DESC;FMTTYPE=text/html:Veranstaltung: Informatik 2 (BTF2232)<br>Dozie
 rende: Habegger [hga3]<br>Räume: Q509<br>Code: BTF2232b<br>Kommentar: D -
DTSTAMP:20260425T003350Z
END:VEVENT
BEGIN:VEVENT
UID:69ec0bee5553c
DTSTART:20220616T104500Z
SEQUENCE:0
TRANSP:OPAQUE
DTEND:20220616T140000Z
SUMMARY:Informatik 2
CLASS:PUBLIC
DESCRIPTION:Veranstaltung: Informatik 2 (BTF2232)\nDozierende: Mainini Pasc
 al [mip3]\nRäume: \nCode: BTF2232b\nKommentar: D -
X-ALT-DESC;FMTTYPE=text/html:Veranstaltung: Informatik 2 (BTF2232)<br>Dozie
 rende: Mainini Pascal [mip3]<br>Räume: <br>Code: BTF2232b<br>Kommentar: D
  -
DTSTAMP:20260425T003350Z
END:VEVENT
END:VCALENDAR