BEGIN:VCALENDAR
VERSION:2.0
PRODID:www.bfh.ch
X-APPLE-CALENDAR-COLOR:Orange
X-OUTLOOK-COLOR:Orange
X-FUNAMBOL-COLOR:Orange
X-WR-CALNAME:Übersicht BTI2001
BEGIN:VEVENT
UID:69ebb22ed4ac4
DTSTART:20220225T151500Z
SEQUENCE:0
TRANSP:OPAQUE
DTEND:20220225T165000Z
LOCATION:N522
SUMMARY:Physics for IoT
CLASS:PUBLIC
DESCRIPTION:Veranstaltung: Physics for IoT (BTI2001)\nDozierende: Löwentha
 l [lhf1]\nRäume: N522\nCode: BTI2001a\nKommentar: freitags 16:15-17:50
X-ALT-DESC;FMTTYPE=text/html:Veranstaltung: Physics for IoT (BTI2001)<br>Do
 zierende: Löwenthal [lhf1]<br>Räume: N522<br>Code: BTI2001a<br>Kommentar
 : freitags 16:15-17:50
DTSTAMP:20260424T181054Z
END:VEVENT
BEGIN:VEVENT
UID:69ebb22ed4b9d
DTSTART:20220304T151500Z
SEQUENCE:0
TRANSP:OPAQUE
DTEND:20220304T165000Z
LOCATION:N522
SUMMARY:Physics for IoT
CLASS:PUBLIC
DESCRIPTION:Veranstaltung: Physics for IoT (BTI2001)\nDozierende: Löwentha
 l [lhf1]\nRäume: N522\nCode: BTI2001a\nKommentar: freitags 16:15-17:50
X-ALT-DESC;FMTTYPE=text/html:Veranstaltung: Physics for IoT (BTI2001)<br>Do
 zierende: Löwenthal [lhf1]<br>Räume: N522<br>Code: BTI2001a<br>Kommentar
 : freitags 16:15-17:50
DTSTAMP:20260424T181054Z
END:VEVENT
BEGIN:VEVENT
UID:69ebb22ed4bd1
DTSTART:20220311T151500Z
SEQUENCE:0
TRANSP:OPAQUE
DTEND:20220311T165000Z
LOCATION:N522
SUMMARY:Physics for IoT
CLASS:PUBLIC
DESCRIPTION:Veranstaltung: Physics for IoT (BTI2001)\nDozierende: Löwentha
 l [lhf1]\nRäume: N522\nCode: BTI2001a\nKommentar: freitags 16:15-17:50
X-ALT-DESC;FMTTYPE=text/html:Veranstaltung: Physics for IoT (BTI2001)<br>Do
 zierende: Löwenthal [lhf1]<br>Räume: N522<br>Code: BTI2001a<br>Kommentar
 : freitags 16:15-17:50
DTSTAMP:20260424T181054Z
END:VEVENT
BEGIN:VEVENT
UID:69ebb22ed4bfb
DTSTART:20220318T151500Z
SEQUENCE:0
TRANSP:OPAQUE
DTEND:20220318T165000Z
LOCATION:N522
SUMMARY:Physics for IoT
CLASS:PUBLIC
DESCRIPTION:Veranstaltung: Physics for IoT (BTI2001)\nDozierende: Löwentha
 l [lhf1]\nRäume: N522\nCode: BTI2001a\nKommentar: freitags 16:15-17:50
X-ALT-DESC;FMTTYPE=text/html:Veranstaltung: Physics for IoT (BTI2001)<br>Do
 zierende: Löwenthal [lhf1]<br>Räume: N522<br>Code: BTI2001a<br>Kommentar
 : freitags 16:15-17:50
DTSTAMP:20260424T181054Z
END:VEVENT
BEGIN:VEVENT
UID:69ebb22ed4c25
DTSTART:20220325T151500Z
SEQUENCE:0
TRANSP:OPAQUE
DTEND:20220325T165000Z
LOCATION:N522
SUMMARY:Physics for IoT
CLASS:PUBLIC
DESCRIPTION:Veranstaltung: Physics for IoT (BTI2001)\nDozierende: Löwentha
 l [lhf1]\nRäume: N522\nCode: BTI2001a\nKommentar: freitags 16:15-17:50
X-ALT-DESC;FMTTYPE=text/html:Veranstaltung: Physics for IoT (BTI2001)<br>Do
 zierende: Löwenthal [lhf1]<br>Räume: N522<br>Code: BTI2001a<br>Kommentar
 : freitags 16:15-17:50
DTSTAMP:20260424T181054Z
END:VEVENT
BEGIN:VEVENT
UID:69ebb22ed4c4d
DTSTART:20220401T141500Z
SEQUENCE:0
TRANSP:OPAQUE
DTEND:20220401T155000Z
LOCATION:N522
SUMMARY:Physics for IoT
CLASS:PUBLIC
DESCRIPTION:Veranstaltung: Physics for IoT (BTI2001)\nDozierende: Löwentha
 l [lhf1]\nRäume: N522\nCode: BTI2001a\nKommentar: freitags 16:15-17:50
X-ALT-DESC;FMTTYPE=text/html:Veranstaltung: Physics for IoT (BTI2001)<br>Do
 zierende: Löwenthal [lhf1]<br>Räume: N522<br>Code: BTI2001a<br>Kommentar
 : freitags 16:15-17:50
DTSTAMP:20260424T181054Z
END:VEVENT
BEGIN:VEVENT
UID:69ebb22ed4c77
DTSTART:20220408T141500Z
SEQUENCE:0
TRANSP:OPAQUE
DTEND:20220408T155000Z
LOCATION:N522
SUMMARY:Physics for IoT
CLASS:PUBLIC
DESCRIPTION:Veranstaltung: Physics for IoT (BTI2001)\nDozierende: Löwentha
 l [lhf1]\nRäume: N522\nCode: BTI2001a\nKommentar: freitags 16:15-17:50
X-ALT-DESC;FMTTYPE=text/html:Veranstaltung: Physics for IoT (BTI2001)<br>Do
 zierende: Löwenthal [lhf1]<br>Räume: N522<br>Code: BTI2001a<br>Kommentar
 : freitags 16:15-17:50
DTSTAMP:20260424T181054Z
END:VEVENT
BEGIN:VEVENT
UID:69ebb22ed4ca1
DTSTART:20220422T141500Z
SEQUENCE:0
TRANSP:OPAQUE
DTEND:20220422T155000Z
LOCATION:N522
SUMMARY:Physics for IoT
CLASS:PUBLIC
DESCRIPTION:Veranstaltung: Physics for IoT (BTI2001)\nDozierende: Löwentha
 l [lhf1]\nRäume: N522\nCode: BTI2001a\nKommentar: freitags 16:15-17:50
X-ALT-DESC;FMTTYPE=text/html:Veranstaltung: Physics for IoT (BTI2001)<br>Do
 zierende: Löwenthal [lhf1]<br>Räume: N522<br>Code: BTI2001a<br>Kommentar
 : freitags 16:15-17:50
DTSTAMP:20260424T181054Z
END:VEVENT
BEGIN:VEVENT
UID:69ebb22ed4cca
DTSTART:20220429T141500Z
SEQUENCE:0
TRANSP:OPAQUE
DTEND:20220429T155000Z
LOCATION:N522
SUMMARY:Physics for IoT
CLASS:PUBLIC
DESCRIPTION:Veranstaltung: Physics for IoT (BTI2001)\nDozierende: Löwentha
 l [lhf1]\nRäume: N522\nCode: BTI2001a\nKommentar: freitags 16:15-17:50
X-ALT-DESC;FMTTYPE=text/html:Veranstaltung: Physics for IoT (BTI2001)<br>Do
 zierende: Löwenthal [lhf1]<br>Räume: N522<br>Code: BTI2001a<br>Kommentar
 : freitags 16:15-17:50
DTSTAMP:20260424T181054Z
END:VEVENT
BEGIN:VEVENT
UID:69ebb22ed4cf3
DTSTART:20220506T141500Z
SEQUENCE:0
TRANSP:OPAQUE
DTEND:20220506T155000Z
LOCATION:N522
SUMMARY:Physics for IoT
CLASS:PUBLIC
DESCRIPTION:Veranstaltung: Physics for IoT (BTI2001)\nDozierende: Löwentha
 l [lhf1]\nRäume: N522\nCode: BTI2001a\nKommentar: freitags 16:15-17:50
X-ALT-DESC;FMTTYPE=text/html:Veranstaltung: Physics for IoT (BTI2001)<br>Do
 zierende: Löwenthal [lhf1]<br>Räume: N522<br>Code: BTI2001a<br>Kommentar
 : freitags 16:15-17:50
DTSTAMP:20260424T181054Z
END:VEVENT
BEGIN:VEVENT
UID:69ebb22ed4d1d
DTSTART:20220513T141500Z
SEQUENCE:0
TRANSP:OPAQUE
DTEND:20220513T155000Z
LOCATION:N522
SUMMARY:Physics for IoT
CLASS:PUBLIC
DESCRIPTION:Veranstaltung: Physics for IoT (BTI2001)\nDozierende: Löwentha
 l [lhf1]\nRäume: N522\nCode: BTI2001a\nKommentar: freitags 16:15-17:50
X-ALT-DESC;FMTTYPE=text/html:Veranstaltung: Physics for IoT (BTI2001)<br>Do
 zierende: Löwenthal [lhf1]<br>Räume: N522<br>Code: BTI2001a<br>Kommentar
 : freitags 16:15-17:50
DTSTAMP:20260424T181054Z
END:VEVENT
BEGIN:VEVENT
UID:69ebb22ed4d46
DTSTART:20220520T141500Z
SEQUENCE:0
TRANSP:OPAQUE
DTEND:20220520T155000Z
LOCATION:N522
SUMMARY:Physics for IoT
CLASS:PUBLIC
DESCRIPTION:Veranstaltung: Physics for IoT (BTI2001)\nDozierende: Löwentha
 l [lhf1]\nRäume: N522\nCode: BTI2001a\nKommentar: freitags 16:15-17:50
X-ALT-DESC;FMTTYPE=text/html:Veranstaltung: Physics for IoT (BTI2001)<br>Do
 zierende: Löwenthal [lhf1]<br>Räume: N522<br>Code: BTI2001a<br>Kommentar
 : freitags 16:15-17:50
DTSTAMP:20260424T181054Z
END:VEVENT
BEGIN:VEVENT
UID:69ebb22ed4d6e
DTSTART:20220603T141500Z
SEQUENCE:0
TRANSP:OPAQUE
DTEND:20220603T155000Z
LOCATION:N522
SUMMARY:Physics for IoT
CLASS:PUBLIC
DESCRIPTION:Veranstaltung: Physics for IoT (BTI2001)\nDozierende: Löwentha
 l [lhf1]\nRäume: N522\nCode: BTI2001a\nKommentar: freitags 16:15-17:50
X-ALT-DESC;FMTTYPE=text/html:Veranstaltung: Physics for IoT (BTI2001)<br>Do
 zierende: Löwenthal [lhf1]<br>Räume: N522<br>Code: BTI2001a<br>Kommentar
 : freitags 16:15-17:50
DTSTAMP:20260424T181054Z
END:VEVENT
BEGIN:VEVENT
UID:69ebb22ed4d98
DTSTART:20220610T141500Z
SEQUENCE:0
TRANSP:OPAQUE
DTEND:20220610T155000Z
LOCATION:N522
SUMMARY:Physics for IoT
CLASS:PUBLIC
DESCRIPTION:Veranstaltung: Physics for IoT (BTI2001)\nDozierende: Löwentha
 l [lhf1]\nRäume: N522\nCode: BTI2001a\nKommentar: freitags 16:15-17:50
X-ALT-DESC;FMTTYPE=text/html:Veranstaltung: Physics for IoT (BTI2001)<br>Do
 zierende: Löwenthal [lhf1]<br>Räume: N522<br>Code: BTI2001a<br>Kommentar
 : freitags 16:15-17:50
DTSTAMP:20260424T181054Z
END:VEVENT
BEGIN:VEVENT
UID:69ebb22ed4dc1
DTSTART:20220617T141500Z
SEQUENCE:0
TRANSP:OPAQUE
DTEND:20220617T155000Z
LOCATION:N522
SUMMARY:Physics for IoT
CLASS:PUBLIC
DESCRIPTION:Veranstaltung: Physics for IoT (BTI2001)\nDozierende: Löwentha
 l [lhf1]\nRäume: N522\nCode: BTI2001a\nKommentar: freitags 16:15-17:50
X-ALT-DESC;FMTTYPE=text/html:Veranstaltung: Physics for IoT (BTI2001)<br>Do
 zierende: Löwenthal [lhf1]<br>Räume: N522<br>Code: BTI2001a<br>Kommentar
 : freitags 16:15-17:50
DTSTAMP:20260424T181054Z
END:VEVENT
END:VCALENDAR