BEGIN:VCALENDAR
VERSION:2.0
PRODID:www.bfh.ch
X-APPLE-CALENDAR-COLOR:Orange
X-OUTLOOK-COLOR:Orange
X-FUNAMBOL-COLOR:Orange
X-WR-CALNAME:Übersicht BTI2013
BEGIN:VEVENT
UID:69ebf800d89aa
DTSTART:20220222T151500Z
SEQUENCE:0
TRANSP:OPAQUE
DTEND:20220222T165000Z
LOCATION:Q302
SUMMARY:Embedded Systems with Rust
CLASS:PUBLIC
DESCRIPTION:Veranstaltung: Embedded Systems with Rust (BTI2013)\nDozierende
 : Mainini Pascal [mip3]\nRäume: Q302\nCode: BTI2013a
X-ALT-DESC;FMTTYPE=text/html:Veranstaltung: Embedded Systems with Rust (BTI
 2013)<br>Dozierende: Mainini Pascal [mip3]<br>Räume: Q302<br>Code: BTI201
 3a
DTSTAMP:20260424T230848Z
END:VEVENT
BEGIN:VEVENT
UID:69ebf800d8a7b
DTSTART:20220301T151500Z
SEQUENCE:0
TRANSP:OPAQUE
DTEND:20220301T165000Z
LOCATION:N521
SUMMARY:Embedded Systems with Rust
CLASS:PUBLIC
DESCRIPTION:Veranstaltung: Embedded Systems with Rust (BTI2013)\nDozierende
 : Mainini Pascal [mip3]\nRäume: N521\nCode: BTI2013a
X-ALT-DESC;FMTTYPE=text/html:Veranstaltung: Embedded Systems with Rust (BTI
 2013)<br>Dozierende: Mainini Pascal [mip3]<br>Räume: N521<br>Code: BTI201
 3a
DTSTAMP:20260424T230848Z
END:VEVENT
BEGIN:VEVENT
UID:69ebf800d8aad
DTSTART:20220308T151500Z
SEQUENCE:0
TRANSP:OPAQUE
DTEND:20220308T165000Z
LOCATION:N521
SUMMARY:Embedded Systems with Rust
CLASS:PUBLIC
DESCRIPTION:Veranstaltung: Embedded Systems with Rust (BTI2013)\nDozierende
 : Mainini Pascal [mip3]\nRäume: N521\nCode: BTI2013a
X-ALT-DESC;FMTTYPE=text/html:Veranstaltung: Embedded Systems with Rust (BTI
 2013)<br>Dozierende: Mainini Pascal [mip3]<br>Räume: N521<br>Code: BTI201
 3a
DTSTAMP:20260424T230848Z
END:VEVENT
BEGIN:VEVENT
UID:69ebf800d8ad7
DTSTART:20220315T151500Z
SEQUENCE:0
TRANSP:OPAQUE
DTEND:20220315T165000Z
LOCATION:N521
SUMMARY:Embedded Systems with Rust
CLASS:PUBLIC
DESCRIPTION:Veranstaltung: Embedded Systems with Rust (BTI2013)\nDozierende
 : Mainini Pascal [mip3]\nRäume: N521\nCode: BTI2013a
X-ALT-DESC;FMTTYPE=text/html:Veranstaltung: Embedded Systems with Rust (BTI
 2013)<br>Dozierende: Mainini Pascal [mip3]<br>Räume: N521<br>Code: BTI201
 3a
DTSTAMP:20260424T230848Z
END:VEVENT
BEGIN:VEVENT
UID:69ebf800d8afe
DTSTART:20220322T151500Z
SEQUENCE:0
TRANSP:OPAQUE
DTEND:20220322T165000Z
LOCATION:N521
SUMMARY:Embedded Systems with Rust
CLASS:PUBLIC
DESCRIPTION:Veranstaltung: Embedded Systems with Rust (BTI2013)\nDozierende
 : Mainini Pascal [mip3]\nRäume: N521\nCode: BTI2013a
X-ALT-DESC;FMTTYPE=text/html:Veranstaltung: Embedded Systems with Rust (BTI
 2013)<br>Dozierende: Mainini Pascal [mip3]<br>Räume: N521<br>Code: BTI201
 3a
DTSTAMP:20260424T230848Z
END:VEVENT
BEGIN:VEVENT
UID:69ebf800d8b25
DTSTART:20220329T141500Z
SEQUENCE:0
TRANSP:OPAQUE
DTEND:20220329T155000Z
LOCATION:Q302
SUMMARY:Embedded Systems with Rust
CLASS:PUBLIC
DESCRIPTION:Veranstaltung: Embedded Systems with Rust (BTI2013)\nDozierende
 : Mainini Pascal [mip3]\nRäume: Q302\nCode: BTI2013a
X-ALT-DESC;FMTTYPE=text/html:Veranstaltung: Embedded Systems with Rust (BTI
 2013)<br>Dozierende: Mainini Pascal [mip3]<br>Räume: Q302<br>Code: BTI201
 3a
DTSTAMP:20260424T230848Z
END:VEVENT
BEGIN:VEVENT
UID:69ebf800d8b4c
DTSTART:20220405T141500Z
SEQUENCE:0
TRANSP:OPAQUE
DTEND:20220405T155000Z
LOCATION:Q302
SUMMARY:Embedded Systems with Rust
CLASS:PUBLIC
DESCRIPTION:Veranstaltung: Embedded Systems with Rust (BTI2013)\nDozierende
 : Mainini Pascal [mip3]\nRäume: Q302\nCode: BTI2013a
X-ALT-DESC;FMTTYPE=text/html:Veranstaltung: Embedded Systems with Rust (BTI
 2013)<br>Dozierende: Mainini Pascal [mip3]<br>Räume: Q302<br>Code: BTI201
 3a
DTSTAMP:20260424T230848Z
END:VEVENT
BEGIN:VEVENT
UID:69ebf800d8b73
DTSTART:20220419T141500Z
SEQUENCE:0
TRANSP:OPAQUE
DTEND:20220419T155000Z
LOCATION:Q302
SUMMARY:Embedded Systems with Rust
CLASS:PUBLIC
DESCRIPTION:Veranstaltung: Embedded Systems with Rust (BTI2013)\nDozierende
 : Mainini Pascal [mip3]\nRäume: Q302\nCode: BTI2013a
X-ALT-DESC;FMTTYPE=text/html:Veranstaltung: Embedded Systems with Rust (BTI
 2013)<br>Dozierende: Mainini Pascal [mip3]<br>Räume: Q302<br>Code: BTI201
 3a
DTSTAMP:20260424T230848Z
END:VEVENT
BEGIN:VEVENT
UID:69ebf800d8b98
DTSTART:20220426T141500Z
SEQUENCE:0
TRANSP:OPAQUE
DTEND:20220426T155000Z
LOCATION:Q302
SUMMARY:Embedded Systems with Rust
CLASS:PUBLIC
DESCRIPTION:Veranstaltung: Embedded Systems with Rust (BTI2013)\nDozierende
 : Mainini Pascal [mip3]\nRäume: Q302\nCode: BTI2013a
X-ALT-DESC;FMTTYPE=text/html:Veranstaltung: Embedded Systems with Rust (BTI
 2013)<br>Dozierende: Mainini Pascal [mip3]<br>Räume: Q302<br>Code: BTI201
 3a
DTSTAMP:20260424T230848Z
END:VEVENT
BEGIN:VEVENT
UID:69ebf800d8bbf
DTSTART:20220503T141500Z
SEQUENCE:0
TRANSP:OPAQUE
DTEND:20220503T155000Z
LOCATION:Q302
SUMMARY:Embedded Systems with Rust
CLASS:PUBLIC
DESCRIPTION:Veranstaltung: Embedded Systems with Rust (BTI2013)\nDozierende
 : Mainini Pascal [mip3]\nRäume: Q302\nCode: BTI2013a
X-ALT-DESC;FMTTYPE=text/html:Veranstaltung: Embedded Systems with Rust (BTI
 2013)<br>Dozierende: Mainini Pascal [mip3]<br>Räume: Q302<br>Code: BTI201
 3a
DTSTAMP:20260424T230848Z
END:VEVENT
BEGIN:VEVENT
UID:69ebf800d8be5
DTSTART:20220510T141500Z
SEQUENCE:0
TRANSP:OPAQUE
DTEND:20220510T155000Z
LOCATION:Q302
SUMMARY:Embedded Systems with Rust
CLASS:PUBLIC
DESCRIPTION:Veranstaltung: Embedded Systems with Rust (BTI2013)\nDozierende
 : Mainini Pascal [mip3]\nRäume: Q302\nCode: BTI2013a
X-ALT-DESC;FMTTYPE=text/html:Veranstaltung: Embedded Systems with Rust (BTI
 2013)<br>Dozierende: Mainini Pascal [mip3]<br>Räume: Q302<br>Code: BTI201
 3a
DTSTAMP:20260424T230848Z
END:VEVENT
BEGIN:VEVENT
UID:69ebf800d8c0b
DTSTART:20220517T141500Z
SEQUENCE:0
TRANSP:OPAQUE
DTEND:20220517T155000Z
LOCATION:Q302
SUMMARY:Embedded Systems with Rust
CLASS:PUBLIC
DESCRIPTION:Veranstaltung: Embedded Systems with Rust (BTI2013)\nDozierende
 : Mainini Pascal [mip3]\nRäume: Q302\nCode: BTI2013a
X-ALT-DESC;FMTTYPE=text/html:Veranstaltung: Embedded Systems with Rust (BTI
 2013)<br>Dozierende: Mainini Pascal [mip3]<br>Räume: Q302<br>Code: BTI201
 3a
DTSTAMP:20260424T230848Z
END:VEVENT
BEGIN:VEVENT
UID:69ebf800d8c32
DTSTART:20220524T141500Z
SEQUENCE:0
TRANSP:OPAQUE
DTEND:20220524T155000Z
LOCATION:Q302
SUMMARY:Embedded Systems with Rust
CLASS:PUBLIC
DESCRIPTION:Veranstaltung: Embedded Systems with Rust (BTI2013)\nDozierende
 : Mainini Pascal [mip3]\nRäume: Q302\nCode: BTI2013a
X-ALT-DESC;FMTTYPE=text/html:Veranstaltung: Embedded Systems with Rust (BTI
 2013)<br>Dozierende: Mainini Pascal [mip3]<br>Räume: Q302<br>Code: BTI201
 3a
DTSTAMP:20260424T230848Z
END:VEVENT
BEGIN:VEVENT
UID:69ebf800d8c58
DTSTART:20220531T141500Z
SEQUENCE:0
TRANSP:OPAQUE
DTEND:20220531T155000Z
LOCATION:Q302
SUMMARY:Embedded Systems with Rust
CLASS:PUBLIC
DESCRIPTION:Veranstaltung: Embedded Systems with Rust (BTI2013)\nDozierende
 : Mainini Pascal [mip3]\nRäume: Q302\nCode: BTI2013a
X-ALT-DESC;FMTTYPE=text/html:Veranstaltung: Embedded Systems with Rust (BTI
 2013)<br>Dozierende: Mainini Pascal [mip3]<br>Räume: Q302<br>Code: BTI201
 3a
DTSTAMP:20260424T230848Z
END:VEVENT
BEGIN:VEVENT
UID:69ebf800d8c81
DTSTART:20220607T141500Z
SEQUENCE:0
TRANSP:OPAQUE
DTEND:20220607T155000Z
LOCATION:Q302
SUMMARY:Embedded Systems with Rust
CLASS:PUBLIC
DESCRIPTION:Veranstaltung: Embedded Systems with Rust (BTI2013)\nDozierende
 : Mainini Pascal [mip3]\nRäume: Q302\nCode: BTI2013a
X-ALT-DESC;FMTTYPE=text/html:Veranstaltung: Embedded Systems with Rust (BTI
 2013)<br>Dozierende: Mainini Pascal [mip3]<br>Räume: Q302<br>Code: BTI201
 3a
DTSTAMP:20260424T230848Z
END:VEVENT
BEGIN:VEVENT
UID:69ebf800d8ca7
DTSTART:20220614T141500Z
SEQUENCE:0
TRANSP:OPAQUE
DTEND:20220614T155000Z
LOCATION:Q302
SUMMARY:Embedded Systems with Rust
CLASS:PUBLIC
DESCRIPTION:Veranstaltung: Embedded Systems with Rust (BTI2013)\nDozierende
 : Mainini Pascal [mip3]\nRäume: Q302\nCode: BTI2013a
X-ALT-DESC;FMTTYPE=text/html:Veranstaltung: Embedded Systems with Rust (BTI
 2013)<br>Dozierende: Mainini Pascal [mip3]<br>Räume: Q302<br>Code: BTI201
 3a
DTSTAMP:20260424T230848Z
END:VEVENT
END:VCALENDAR