BEGIN:VCALENDAR
VERSION:2.0
PRODID:www.bfh.ch
X-APPLE-CALENDAR-COLOR:Orange
X-OUTLOOK-COLOR:Orange
X-FUNAMBOL-COLOR:Orange
X-WR-CALNAME:Übersicht BTI2016
BEGIN:VEVENT
UID:69ec093d4eab4
DTSTART:20220222T171000Z
SEQUENCE:0
TRANSP:OPAQUE
DTEND:20220222T184500Z
LOCATION:WD202
SUMMARY:Android Programming
CLASS:PUBLIC
DESCRIPTION:Veranstaltung: Android Programming (BTI2016)\nDozierende: Fehre
 nsen [fsb2]\nRäume: WD202\nCode: BTI2016p
X-ALT-DESC;FMTTYPE=text/html:Veranstaltung: Android Programming (BTI2016)<b
 r>Dozierende: Fehrensen [fsb2]<br>Räume: WD202<br>Code: BTI2016p
DTSTAMP:20260425T002221Z
END:VEVENT
BEGIN:VEVENT
UID:69ec093d4ec96
DTSTART:20220224T171000Z
SEQUENCE:0
TRANSP:OPAQUE
DTEND:20220224T184500Z
LOCATION:WD207
SUMMARY:Android Programming
CLASS:PUBLIC
DESCRIPTION:Veranstaltung: Android Programming (BTI2016)\nDozierende: Fehre
 nsen [fsb2]\nRäume: WD207\nCode: BTI2016q
X-ALT-DESC;FMTTYPE=text/html:Veranstaltung: Android Programming (BTI2016)<b
 r>Dozierende: Fehrensen [fsb2]<br>Räume: WD207<br>Code: BTI2016q
DTSTAMP:20260425T002221Z
END:VEVENT
BEGIN:VEVENT
UID:69ec093d4ed18
DTSTART:20220301T171000Z
SEQUENCE:0
TRANSP:OPAQUE
DTEND:20220301T184500Z
LOCATION:WD202
SUMMARY:Android Programming
CLASS:PUBLIC
DESCRIPTION:Veranstaltung: Android Programming (BTI2016)\nDozierende: Fehre
 nsen [fsb2]\nRäume: WD202\nCode: BTI2016p
X-ALT-DESC;FMTTYPE=text/html:Veranstaltung: Android Programming (BTI2016)<b
 r>Dozierende: Fehrensen [fsb2]<br>Räume: WD202<br>Code: BTI2016p
DTSTAMP:20260425T002221Z
END:VEVENT
BEGIN:VEVENT
UID:69ec093d4ed80
DTSTART:20220303T171000Z
SEQUENCE:0
TRANSP:OPAQUE
DTEND:20220303T184500Z
LOCATION:WD207
SUMMARY:Android Programming
CLASS:PUBLIC
DESCRIPTION:Veranstaltung: Android Programming (BTI2016)\nDozierende: Fehre
 nsen [fsb2]\nRäume: WD207\nCode: BTI2016q
X-ALT-DESC;FMTTYPE=text/html:Veranstaltung: Android Programming (BTI2016)<b
 r>Dozierende: Fehrensen [fsb2]<br>Räume: WD207<br>Code: BTI2016q
DTSTAMP:20260425T002221Z
END:VEVENT
BEGIN:VEVENT
UID:69ec093d4ede3
DTSTART:20220308T171000Z
SEQUENCE:0
TRANSP:OPAQUE
DTEND:20220308T184500Z
LOCATION:WD202
SUMMARY:Android Programming
CLASS:PUBLIC
DESCRIPTION:Veranstaltung: Android Programming (BTI2016)\nDozierende: Fehre
 nsen [fsb2]\nRäume: WD202\nCode: BTI2016p
X-ALT-DESC;FMTTYPE=text/html:Veranstaltung: Android Programming (BTI2016)<b
 r>Dozierende: Fehrensen [fsb2]<br>Räume: WD202<br>Code: BTI2016p
DTSTAMP:20260425T002221Z
END:VEVENT
BEGIN:VEVENT
UID:69ec093d4ee47
DTSTART:20220310T171000Z
SEQUENCE:0
TRANSP:OPAQUE
DTEND:20220310T184500Z
LOCATION:WD207
SUMMARY:Android Programming
CLASS:PUBLIC
DESCRIPTION:Veranstaltung: Android Programming (BTI2016)\nDozierende: Fehre
 nsen [fsb2]\nRäume: WD207\nCode: BTI2016q
X-ALT-DESC;FMTTYPE=text/html:Veranstaltung: Android Programming (BTI2016)<b
 r>Dozierende: Fehrensen [fsb2]<br>Räume: WD207<br>Code: BTI2016q
DTSTAMP:20260425T002221Z
END:VEVENT
BEGIN:VEVENT
UID:69ec093d4eea9
DTSTART:20220315T171000Z
SEQUENCE:0
TRANSP:OPAQUE
DTEND:20220315T184500Z
LOCATION:WD202
SUMMARY:Android Programming
CLASS:PUBLIC
DESCRIPTION:Veranstaltung: Android Programming (BTI2016)\nDozierende: Fehre
 nsen [fsb2]\nRäume: WD202\nCode: BTI2016p
X-ALT-DESC;FMTTYPE=text/html:Veranstaltung: Android Programming (BTI2016)<b
 r>Dozierende: Fehrensen [fsb2]<br>Räume: WD202<br>Code: BTI2016p
DTSTAMP:20260425T002221Z
END:VEVENT
BEGIN:VEVENT
UID:69ec093d4ef0e
DTSTART:20220317T171000Z
SEQUENCE:0
TRANSP:OPAQUE
DTEND:20220317T184500Z
LOCATION:WD207
SUMMARY:Android Programming
CLASS:PUBLIC
DESCRIPTION:Veranstaltung: Android Programming (BTI2016)\nDozierende: Fehre
 nsen [fsb2]\nRäume: WD207\nCode: BTI2016q
X-ALT-DESC;FMTTYPE=text/html:Veranstaltung: Android Programming (BTI2016)<b
 r>Dozierende: Fehrensen [fsb2]<br>Räume: WD207<br>Code: BTI2016q
DTSTAMP:20260425T002221Z
END:VEVENT
BEGIN:VEVENT
UID:69ec093d4ef75
DTSTART:20220322T171000Z
SEQUENCE:0
TRANSP:OPAQUE
DTEND:20220322T184500Z
LOCATION:WD202
SUMMARY:Android Programming
CLASS:PUBLIC
DESCRIPTION:Veranstaltung: Android Programming (BTI2016)\nDozierende: Fehre
 nsen [fsb2]\nRäume: WD202\nCode: BTI2016p
X-ALT-DESC;FMTTYPE=text/html:Veranstaltung: Android Programming (BTI2016)<b
 r>Dozierende: Fehrensen [fsb2]<br>Räume: WD202<br>Code: BTI2016p
DTSTAMP:20260425T002221Z
END:VEVENT
BEGIN:VEVENT
UID:69ec093d4efd9
DTSTART:20220324T171000Z
SEQUENCE:0
TRANSP:OPAQUE
DTEND:20220324T184500Z
LOCATION:WD207
SUMMARY:Android Programming
CLASS:PUBLIC
DESCRIPTION:Veranstaltung: Android Programming (BTI2016)\nDozierende: Fehre
 nsen [fsb2]\nRäume: WD207\nCode: BTI2016q
X-ALT-DESC;FMTTYPE=text/html:Veranstaltung: Android Programming (BTI2016)<b
 r>Dozierende: Fehrensen [fsb2]<br>Räume: WD207<br>Code: BTI2016q
DTSTAMP:20260425T002221Z
END:VEVENT
BEGIN:VEVENT
UID:69ec093d4f03a
DTSTART:20220329T161000Z
SEQUENCE:0
TRANSP:OPAQUE
DTEND:20220329T174500Z
LOCATION:WD202
SUMMARY:Android Programming
CLASS:PUBLIC
DESCRIPTION:Veranstaltung: Android Programming (BTI2016)\nDozierende: Fehre
 nsen [fsb2]\nRäume: WD202\nCode: BTI2016p
X-ALT-DESC;FMTTYPE=text/html:Veranstaltung: Android Programming (BTI2016)<b
 r>Dozierende: Fehrensen [fsb2]<br>Räume: WD202<br>Code: BTI2016p
DTSTAMP:20260425T002221Z
END:VEVENT
BEGIN:VEVENT
UID:69ec093d4f096
DTSTART:20220331T161000Z
SEQUENCE:0
TRANSP:OPAQUE
DTEND:20220331T174500Z
LOCATION:WD207
SUMMARY:Android Programming
CLASS:PUBLIC
DESCRIPTION:Veranstaltung: Android Programming (BTI2016)\nDozierende: Fehre
 nsen [fsb2]\nRäume: WD207\nCode: BTI2016q
X-ALT-DESC;FMTTYPE=text/html:Veranstaltung: Android Programming (BTI2016)<b
 r>Dozierende: Fehrensen [fsb2]<br>Räume: WD207<br>Code: BTI2016q
DTSTAMP:20260425T002221Z
END:VEVENT
BEGIN:VEVENT
UID:69ec093d4f0f8
DTSTART:20220405T161000Z
SEQUENCE:0
TRANSP:OPAQUE
DTEND:20220405T174500Z
LOCATION:WD202
SUMMARY:Android Programming
CLASS:PUBLIC
DESCRIPTION:Veranstaltung: Android Programming (BTI2016)\nDozierende: Fehre
 nsen [fsb2]\nRäume: WD202\nCode: BTI2016p
X-ALT-DESC;FMTTYPE=text/html:Veranstaltung: Android Programming (BTI2016)<b
 r>Dozierende: Fehrensen [fsb2]<br>Räume: WD202<br>Code: BTI2016p
DTSTAMP:20260425T002221Z
END:VEVENT
BEGIN:VEVENT
UID:69ec093d4f157
DTSTART:20220407T161000Z
SEQUENCE:0
TRANSP:OPAQUE
DTEND:20220407T174500Z
LOCATION:WD207
SUMMARY:Android Programming
CLASS:PUBLIC
DESCRIPTION:Veranstaltung: Android Programming (BTI2016)\nDozierende: Fehre
 nsen [fsb2]\nRäume: WD207\nCode: BTI2016q
X-ALT-DESC;FMTTYPE=text/html:Veranstaltung: Android Programming (BTI2016)<b
 r>Dozierende: Fehrensen [fsb2]<br>Räume: WD207<br>Code: BTI2016q
DTSTAMP:20260425T002221Z
END:VEVENT
BEGIN:VEVENT
UID:69ec093d4f1b9
DTSTART:20220419T161000Z
SEQUENCE:0
TRANSP:OPAQUE
DTEND:20220419T174500Z
LOCATION:WD202
SUMMARY:Android Programming
CLASS:PUBLIC
DESCRIPTION:Veranstaltung: Android Programming (BTI2016)\nDozierende: Fehre
 nsen [fsb2]\nRäume: WD202\nCode: BTI2016p
X-ALT-DESC;FMTTYPE=text/html:Veranstaltung: Android Programming (BTI2016)<b
 r>Dozierende: Fehrensen [fsb2]<br>Räume: WD202<br>Code: BTI2016p
DTSTAMP:20260425T002221Z
END:VEVENT
BEGIN:VEVENT
UID:69ec093d4f218
DTSTART:20220421T161000Z
SEQUENCE:0
TRANSP:OPAQUE
DTEND:20220421T174500Z
LOCATION:WD207
SUMMARY:Android Programming
CLASS:PUBLIC
DESCRIPTION:Veranstaltung: Android Programming (BTI2016)\nDozierende: Fehre
 nsen [fsb2]\nRäume: WD207\nCode: BTI2016q
X-ALT-DESC;FMTTYPE=text/html:Veranstaltung: Android Programming (BTI2016)<b
 r>Dozierende: Fehrensen [fsb2]<br>Räume: WD207<br>Code: BTI2016q
DTSTAMP:20260425T002221Z
END:VEVENT
BEGIN:VEVENT
UID:69ec093d4f277
DTSTART:20220426T161000Z
SEQUENCE:0
TRANSP:OPAQUE
DTEND:20220426T174500Z
LOCATION:WD202
SUMMARY:Android Programming
CLASS:PUBLIC
DESCRIPTION:Veranstaltung: Android Programming (BTI2016)\nDozierende: Fehre
 nsen [fsb2]\nRäume: WD202\nCode: BTI2016p
X-ALT-DESC;FMTTYPE=text/html:Veranstaltung: Android Programming (BTI2016)<b
 r>Dozierende: Fehrensen [fsb2]<br>Räume: WD202<br>Code: BTI2016p
DTSTAMP:20260425T002221Z
END:VEVENT
BEGIN:VEVENT
UID:69ec093d4f2d7
DTSTART:20220428T161000Z
SEQUENCE:0
TRANSP:OPAQUE
DTEND:20220428T174500Z
LOCATION:WD207
SUMMARY:Android Programming
CLASS:PUBLIC
DESCRIPTION:Veranstaltung: Android Programming (BTI2016)\nDozierende: Fehre
 nsen [fsb2]\nRäume: WD207\nCode: BTI2016q
X-ALT-DESC;FMTTYPE=text/html:Veranstaltung: Android Programming (BTI2016)<b
 r>Dozierende: Fehrensen [fsb2]<br>Räume: WD207<br>Code: BTI2016q
DTSTAMP:20260425T002221Z
END:VEVENT
BEGIN:VEVENT
UID:69ec093d4f338
DTSTART:20220503T161000Z
SEQUENCE:0
TRANSP:OPAQUE
DTEND:20220503T174500Z
LOCATION:WD202
SUMMARY:Android Programming
CLASS:PUBLIC
DESCRIPTION:Veranstaltung: Android Programming (BTI2016)\nDozierende: Fehre
 nsen [fsb2]\nRäume: WD202\nCode: BTI2016p
X-ALT-DESC;FMTTYPE=text/html:Veranstaltung: Android Programming (BTI2016)<b
 r>Dozierende: Fehrensen [fsb2]<br>Räume: WD202<br>Code: BTI2016p
DTSTAMP:20260425T002221Z
END:VEVENT
BEGIN:VEVENT
UID:69ec093d4f396
DTSTART:20220505T161000Z
SEQUENCE:0
TRANSP:OPAQUE
DTEND:20220505T174500Z
LOCATION:WD207
SUMMARY:Android Programming
CLASS:PUBLIC
DESCRIPTION:Veranstaltung: Android Programming (BTI2016)\nDozierende: Fehre
 nsen [fsb2]\nRäume: WD207\nCode: BTI2016q
X-ALT-DESC;FMTTYPE=text/html:Veranstaltung: Android Programming (BTI2016)<b
 r>Dozierende: Fehrensen [fsb2]<br>Räume: WD207<br>Code: BTI2016q
DTSTAMP:20260425T002221Z
END:VEVENT
BEGIN:VEVENT
UID:69ec093d4f400
DTSTART:20220510T161000Z
SEQUENCE:0
TRANSP:OPAQUE
DTEND:20220510T174500Z
LOCATION:WD202
SUMMARY:Android Programming
CLASS:PUBLIC
DESCRIPTION:Veranstaltung: Android Programming (BTI2016)\nDozierende: Fehre
 nsen [fsb2]\nRäume: WD202\nCode: BTI2016p
X-ALT-DESC;FMTTYPE=text/html:Veranstaltung: Android Programming (BTI2016)<b
 r>Dozierende: Fehrensen [fsb2]<br>Räume: WD202<br>Code: BTI2016p
DTSTAMP:20260425T002221Z
END:VEVENT
BEGIN:VEVENT
UID:69ec093d4f461
DTSTART:20220512T161000Z
SEQUENCE:0
TRANSP:OPAQUE
DTEND:20220512T174500Z
LOCATION:WD207
SUMMARY:Android Programming
CLASS:PUBLIC
DESCRIPTION:Veranstaltung: Android Programming (BTI2016)\nDozierende: Fehre
 nsen [fsb2]\nRäume: WD207\nCode: BTI2016q
X-ALT-DESC;FMTTYPE=text/html:Veranstaltung: Android Programming (BTI2016)<b
 r>Dozierende: Fehrensen [fsb2]<br>Räume: WD207<br>Code: BTI2016q
DTSTAMP:20260425T002221Z
END:VEVENT
BEGIN:VEVENT
UID:69ec093d4f4c4
DTSTART:20220517T161000Z
SEQUENCE:0
TRANSP:OPAQUE
DTEND:20220517T174500Z
LOCATION:WD202
SUMMARY:Android Programming
CLASS:PUBLIC
DESCRIPTION:Veranstaltung: Android Programming (BTI2016)\nDozierende: Fehre
 nsen [fsb2]\nRäume: WD202\nCode: BTI2016p
X-ALT-DESC;FMTTYPE=text/html:Veranstaltung: Android Programming (BTI2016)<b
 r>Dozierende: Fehrensen [fsb2]<br>Räume: WD202<br>Code: BTI2016p
DTSTAMP:20260425T002221Z
END:VEVENT
BEGIN:VEVENT
UID:69ec093d4f525
DTSTART:20220519T161000Z
SEQUENCE:0
TRANSP:OPAQUE
DTEND:20220519T174500Z
LOCATION:WD207
SUMMARY:Android Programming
CLASS:PUBLIC
DESCRIPTION:Veranstaltung: Android Programming (BTI2016)\nDozierende: Fehre
 nsen [fsb2]\nRäume: WD207\nCode: BTI2016q
X-ALT-DESC;FMTTYPE=text/html:Veranstaltung: Android Programming (BTI2016)<b
 r>Dozierende: Fehrensen [fsb2]<br>Räume: WD207<br>Code: BTI2016q
DTSTAMP:20260425T002221Z
END:VEVENT
BEGIN:VEVENT
UID:69ec093d4f583
DTSTART:20220524T161000Z
SEQUENCE:0
TRANSP:OPAQUE
DTEND:20220524T174500Z
LOCATION:WD202
SUMMARY:Android Programming
CLASS:PUBLIC
DESCRIPTION:Veranstaltung: Android Programming (BTI2016)\nDozierende: Fehre
 nsen [fsb2]\nRäume: WD202\nCode: BTI2016p
X-ALT-DESC;FMTTYPE=text/html:Veranstaltung: Android Programming (BTI2016)<b
 r>Dozierende: Fehrensen [fsb2]<br>Räume: WD202<br>Code: BTI2016p
DTSTAMP:20260425T002221Z
END:VEVENT
BEGIN:VEVENT
UID:69ec093d4f5fd
DTSTART:20220531T161000Z
SEQUENCE:0
TRANSP:OPAQUE
DTEND:20220531T174500Z
LOCATION:WD202
SUMMARY:Android Programming
CLASS:PUBLIC
DESCRIPTION:Veranstaltung: Android Programming (BTI2016)\nDozierende: Fehre
 nsen [fsb2]\nRäume: WD202\nCode: BTI2016p
X-ALT-DESC;FMTTYPE=text/html:Veranstaltung: Android Programming (BTI2016)<b
 r>Dozierende: Fehrensen [fsb2]<br>Räume: WD202<br>Code: BTI2016p
DTSTAMP:20260425T002221Z
END:VEVENT
BEGIN:VEVENT
UID:69ec093d4f661
DTSTART:20220602T161000Z
SEQUENCE:0
TRANSP:OPAQUE
DTEND:20220602T174500Z
LOCATION:WD207
SUMMARY:Android Programming
CLASS:PUBLIC
DESCRIPTION:Veranstaltung: Android Programming (BTI2016)\nDozierende: Fehre
 nsen [fsb2]\nRäume: WD207\nCode: BTI2016q
X-ALT-DESC;FMTTYPE=text/html:Veranstaltung: Android Programming (BTI2016)<b
 r>Dozierende: Fehrensen [fsb2]<br>Räume: WD207<br>Code: BTI2016q
DTSTAMP:20260425T002221Z
END:VEVENT
BEGIN:VEVENT
UID:69ec093d4f6c1
DTSTART:20220607T161000Z
SEQUENCE:0
TRANSP:OPAQUE
DTEND:20220607T174500Z
LOCATION:WD202
SUMMARY:Android Programming
CLASS:PUBLIC
DESCRIPTION:Veranstaltung: Android Programming (BTI2016)\nDozierende: Fehre
 nsen [fsb2]\nRäume: WD202\nCode: BTI2016p
X-ALT-DESC;FMTTYPE=text/html:Veranstaltung: Android Programming (BTI2016)<b
 r>Dozierende: Fehrensen [fsb2]<br>Räume: WD202<br>Code: BTI2016p
DTSTAMP:20260425T002221Z
END:VEVENT
BEGIN:VEVENT
UID:69ec093d4f720
DTSTART:20220609T161000Z
SEQUENCE:0
TRANSP:OPAQUE
DTEND:20220609T174500Z
LOCATION:WD207
SUMMARY:Android Programming
CLASS:PUBLIC
DESCRIPTION:Veranstaltung: Android Programming (BTI2016)\nDozierende: Fehre
 nsen [fsb2]\nRäume: WD207\nCode: BTI2016q
X-ALT-DESC;FMTTYPE=text/html:Veranstaltung: Android Programming (BTI2016)<b
 r>Dozierende: Fehrensen [fsb2]<br>Räume: WD207<br>Code: BTI2016q
DTSTAMP:20260425T002221Z
END:VEVENT
BEGIN:VEVENT
UID:69ec093d4f781
DTSTART:20220614T161000Z
SEQUENCE:0
TRANSP:OPAQUE
DTEND:20220614T174500Z
LOCATION:WD202
SUMMARY:Android Programming
CLASS:PUBLIC
DESCRIPTION:Veranstaltung: Android Programming (BTI2016)\nDozierende: Fehre
 nsen [fsb2]\nRäume: WD202\nCode: BTI2016p
X-ALT-DESC;FMTTYPE=text/html:Veranstaltung: Android Programming (BTI2016)<b
 r>Dozierende: Fehrensen [fsb2]<br>Räume: WD202<br>Code: BTI2016p
DTSTAMP:20260425T002221Z
END:VEVENT
BEGIN:VEVENT
UID:69ec093d4f7e1
DTSTART:20220616T161000Z
SEQUENCE:0
TRANSP:OPAQUE
DTEND:20220616T174500Z
LOCATION:WD207
SUMMARY:Android Programming
CLASS:PUBLIC
DESCRIPTION:Veranstaltung: Android Programming (BTI2016)\nDozierende: Fehre
 nsen [fsb2]\nRäume: WD207\nCode: BTI2016q
X-ALT-DESC;FMTTYPE=text/html:Veranstaltung: Android Programming (BTI2016)<b
 r>Dozierende: Fehrensen [fsb2]<br>Räume: WD207<br>Code: BTI2016q
DTSTAMP:20260425T002221Z
END:VEVENT
END:VCALENDAR