BEGIN:VCALENDAR
VERSION:2.0
PRODID:www.bfh.ch
X-APPLE-CALENDAR-COLOR:Orange
X-OUTLOOK-COLOR:Orange
X-FUNAMBOL-COLOR:Orange
X-WR-CALNAME:Übersicht BTI4305
BEGIN:VEVENT
UID:69ec0a2a6e7cc
DTSTART:20220225T072000Z
SEQUENCE:0
TRANSP:OPAQUE
DTEND:20220225T105500Z
LOCATION:N522
SUMMARY:Customer Driven IT and Business Innovation
CLASS:PUBLIC
DESCRIPTION:Veranstaltung: Customer Driven IT and Business Innovation (BTI4
 305)\nDozierende: Ritley [rlk2]\nRäume: N522\nCode: BTI4305a
X-ALT-DESC;FMTTYPE=text/html:Veranstaltung: Customer Driven IT and Business
  Innovation (BTI4305)<br>Dozierende: Ritley [rlk2]<br>Räume: N522<br>Code
 : BTI4305a
DTSTAMP:20260425T002618Z
END:VEVENT
BEGIN:VEVENT
UID:69ec0a2a6e980
DTSTART:20220225T072000Z
SEQUENCE:0
TRANSP:OPAQUE
DTEND:20220225T105500Z
SUMMARY:Customer Driven IT and Business Innovation
CLASS:PUBLIC
DESCRIPTION:Veranstaltung: Customer Driven IT and Business Innovation (BTI4
 305)\nDozierende: Schaller [slc4]\nRäume: \nCode: BTI4305a
X-ALT-DESC;FMTTYPE=text/html:Veranstaltung: Customer Driven IT and Business
  Innovation (BTI4305)<br>Dozierende: Schaller [slc4]<br>Räume: <br>Code: 
 BTI4305a
DTSTAMP:20260425T002618Z
END:VEVENT
BEGIN:VEVENT
UID:69ec0a2a6e9e4
DTSTART:20220304T072000Z
SEQUENCE:0
TRANSP:OPAQUE
DTEND:20220304T105500Z
LOCATION:(online)
SUMMARY:Customer Driven IT and Business Innovation
CLASS:PUBLIC
DESCRIPTION:Veranstaltung: Customer Driven IT and Business Innovation (BTI4
 305)\nDozierende: Ritley [rlk2]\nRäume: (online)\nCode: BTI4305a
X-ALT-DESC;FMTTYPE=text/html:Veranstaltung: Customer Driven IT and Business
  Innovation (BTI4305)<br>Dozierende: Ritley [rlk2]<br>Räume: (online)<br>
 Code: BTI4305a
DTSTAMP:20260425T002618Z
END:VEVENT
BEGIN:VEVENT
UID:69ec0a2a6ea36
DTSTART:20220304T072000Z
SEQUENCE:0
TRANSP:OPAQUE
DTEND:20220304T105500Z
SUMMARY:Customer Driven IT and Business Innovation
CLASS:PUBLIC
DESCRIPTION:Veranstaltung: Customer Driven IT and Business Innovation (BTI4
 305)\nDozierende: Schaller [slc4]\nRäume: \nCode: BTI4305a
X-ALT-DESC;FMTTYPE=text/html:Veranstaltung: Customer Driven IT and Business
  Innovation (BTI4305)<br>Dozierende: Schaller [slc4]<br>Räume: <br>Code: 
 BTI4305a
DTSTAMP:20260425T002618Z
END:VEVENT
BEGIN:VEVENT
UID:69ec0a2a6ea85
DTSTART:20220311T072000Z
SEQUENCE:0
TRANSP:OPAQUE
DTEND:20220311T105500Z
LOCATION:(online)
SUMMARY:Customer Driven IT and Business Innovation
CLASS:PUBLIC
DESCRIPTION:Veranstaltung: Customer Driven IT and Business Innovation (BTI4
 305)\nDozierende: Ritley [rlk2]\nRäume: (online)\nCode: BTI4305a
X-ALT-DESC;FMTTYPE=text/html:Veranstaltung: Customer Driven IT and Business
  Innovation (BTI4305)<br>Dozierende: Ritley [rlk2]<br>Räume: (online)<br>
 Code: BTI4305a
DTSTAMP:20260425T002618Z
END:VEVENT
BEGIN:VEVENT
UID:69ec0a2a6ead6
DTSTART:20220311T072000Z
SEQUENCE:0
TRANSP:OPAQUE
DTEND:20220311T105500Z
SUMMARY:Customer Driven IT and Business Innovation
CLASS:PUBLIC
DESCRIPTION:Veranstaltung: Customer Driven IT and Business Innovation (BTI4
 305)\nDozierende: Schaller [slc4]\nRäume: \nCode: BTI4305a
X-ALT-DESC;FMTTYPE=text/html:Veranstaltung: Customer Driven IT and Business
  Innovation (BTI4305)<br>Dozierende: Schaller [slc4]<br>Räume: <br>Code: 
 BTI4305a
DTSTAMP:20260425T002618Z
END:VEVENT
BEGIN:VEVENT
UID:69ec0a2a6eb23
DTSTART:20220318T072000Z
SEQUENCE:0
TRANSP:OPAQUE
DTEND:20220318T105500Z
LOCATION:(online)
SUMMARY:Customer Driven IT and Business Innovation
CLASS:PUBLIC
DESCRIPTION:Veranstaltung: Customer Driven IT and Business Innovation (BTI4
 305)\nDozierende: Ritley [rlk2]\nRäume: (online)\nCode: BTI4305a
X-ALT-DESC;FMTTYPE=text/html:Veranstaltung: Customer Driven IT and Business
  Innovation (BTI4305)<br>Dozierende: Ritley [rlk2]<br>Räume: (online)<br>
 Code: BTI4305a
DTSTAMP:20260425T002618Z
END:VEVENT
BEGIN:VEVENT
UID:69ec0a2a6eb74
DTSTART:20220318T072000Z
SEQUENCE:0
TRANSP:OPAQUE
DTEND:20220318T105500Z
SUMMARY:Customer Driven IT and Business Innovation
CLASS:PUBLIC
DESCRIPTION:Veranstaltung: Customer Driven IT and Business Innovation (BTI4
 305)\nDozierende: Schaller [slc4]\nRäume: \nCode: BTI4305a
X-ALT-DESC;FMTTYPE=text/html:Veranstaltung: Customer Driven IT and Business
  Innovation (BTI4305)<br>Dozierende: Schaller [slc4]<br>Räume: <br>Code: 
 BTI4305a
DTSTAMP:20260425T002618Z
END:VEVENT
BEGIN:VEVENT
UID:69ec0a2a6ebbf
DTSTART:20220325T072000Z
SEQUENCE:0
TRANSP:OPAQUE
DTEND:20220325T105500Z
LOCATION:(online)
SUMMARY:Customer Driven IT and Business Innovation
CLASS:PUBLIC
DESCRIPTION:Veranstaltung: Customer Driven IT and Business Innovation (BTI4
 305)\nDozierende: Ritley [rlk2]\nRäume: (online)\nCode: BTI4305a
X-ALT-DESC;FMTTYPE=text/html:Veranstaltung: Customer Driven IT and Business
  Innovation (BTI4305)<br>Dozierende: Ritley [rlk2]<br>Räume: (online)<br>
 Code: BTI4305a
DTSTAMP:20260425T002618Z
END:VEVENT
BEGIN:VEVENT
UID:69ec0a2a6ec0f
DTSTART:20220325T072000Z
SEQUENCE:0
TRANSP:OPAQUE
DTEND:20220325T105500Z
SUMMARY:Customer Driven IT and Business Innovation
CLASS:PUBLIC
DESCRIPTION:Veranstaltung: Customer Driven IT and Business Innovation (BTI4
 305)\nDozierende: Schaller [slc4]\nRäume: \nCode: BTI4305a
X-ALT-DESC;FMTTYPE=text/html:Veranstaltung: Customer Driven IT and Business
  Innovation (BTI4305)<br>Dozierende: Schaller [slc4]<br>Räume: <br>Code: 
 BTI4305a
DTSTAMP:20260425T002618Z
END:VEVENT
BEGIN:VEVENT
UID:69ec0a2a6ec59
DTSTART:20220401T062000Z
SEQUENCE:0
TRANSP:OPAQUE
DTEND:20220401T095500Z
LOCATION:N522
SUMMARY:Customer Driven IT and Business Innovation
CLASS:PUBLIC
DESCRIPTION:Veranstaltung: Customer Driven IT and Business Innovation (BTI4
 305)\nDozierende: Ritley [rlk2]\nRäume: N522\nCode: BTI4305a
X-ALT-DESC;FMTTYPE=text/html:Veranstaltung: Customer Driven IT and Business
  Innovation (BTI4305)<br>Dozierende: Ritley [rlk2]<br>Räume: N522<br>Code
 : BTI4305a
DTSTAMP:20260425T002618Z
END:VEVENT
BEGIN:VEVENT
UID:69ec0a2a6eca5
DTSTART:20220401T062000Z
SEQUENCE:0
TRANSP:OPAQUE
DTEND:20220401T095500Z
SUMMARY:Customer Driven IT and Business Innovation
CLASS:PUBLIC
DESCRIPTION:Veranstaltung: Customer Driven IT and Business Innovation (BTI4
 305)\nDozierende: Schaller [slc4]\nRäume: \nCode: BTI4305a
X-ALT-DESC;FMTTYPE=text/html:Veranstaltung: Customer Driven IT and Business
  Innovation (BTI4305)<br>Dozierende: Schaller [slc4]<br>Räume: <br>Code: 
 BTI4305a
DTSTAMP:20260425T002618Z
END:VEVENT
BEGIN:VEVENT
UID:69ec0a2a6ecf1
DTSTART:20220408T062000Z
SEQUENCE:0
TRANSP:OPAQUE
DTEND:20220408T095500Z
LOCATION:N522
SUMMARY:Customer Driven IT and Business Innovation
CLASS:PUBLIC
DESCRIPTION:Veranstaltung: Customer Driven IT and Business Innovation (BTI4
 305)\nDozierende: Ritley [rlk2]\nRäume: N522\nCode: BTI4305a
X-ALT-DESC;FMTTYPE=text/html:Veranstaltung: Customer Driven IT and Business
  Innovation (BTI4305)<br>Dozierende: Ritley [rlk2]<br>Räume: N522<br>Code
 : BTI4305a
DTSTAMP:20260425T002618Z
END:VEVENT
BEGIN:VEVENT
UID:69ec0a2a6ed40
DTSTART:20220408T062000Z
SEQUENCE:0
TRANSP:OPAQUE
DTEND:20220408T095500Z
SUMMARY:Customer Driven IT and Business Innovation
CLASS:PUBLIC
DESCRIPTION:Veranstaltung: Customer Driven IT and Business Innovation (BTI4
 305)\nDozierende: Schaller [slc4]\nRäume: \nCode: BTI4305a
X-ALT-DESC;FMTTYPE=text/html:Veranstaltung: Customer Driven IT and Business
  Innovation (BTI4305)<br>Dozierende: Schaller [slc4]<br>Räume: <br>Code: 
 BTI4305a
DTSTAMP:20260425T002618Z
END:VEVENT
BEGIN:VEVENT
UID:69ec0a2a6ed8c
DTSTART:20220422T062000Z
SEQUENCE:0
TRANSP:OPAQUE
DTEND:20220422T095500Z
LOCATION:N522
SUMMARY:Customer Driven IT and Business Innovation
CLASS:PUBLIC
DESCRIPTION:Veranstaltung: Customer Driven IT and Business Innovation (BTI4
 305)\nDozierende: Ritley [rlk2]\nRäume: N522\nCode: BTI4305a
X-ALT-DESC;FMTTYPE=text/html:Veranstaltung: Customer Driven IT and Business
  Innovation (BTI4305)<br>Dozierende: Ritley [rlk2]<br>Räume: N522<br>Code
 : BTI4305a
DTSTAMP:20260425T002618Z
END:VEVENT
BEGIN:VEVENT
UID:69ec0a2a6edda
DTSTART:20220422T062000Z
SEQUENCE:0
TRANSP:OPAQUE
DTEND:20220422T095500Z
SUMMARY:Customer Driven IT and Business Innovation
CLASS:PUBLIC
DESCRIPTION:Veranstaltung: Customer Driven IT and Business Innovation (BTI4
 305)\nDozierende: Schaller [slc4]\nRäume: \nCode: BTI4305a
X-ALT-DESC;FMTTYPE=text/html:Veranstaltung: Customer Driven IT and Business
  Innovation (BTI4305)<br>Dozierende: Schaller [slc4]<br>Räume: <br>Code: 
 BTI4305a
DTSTAMP:20260425T002618Z
END:VEVENT
BEGIN:VEVENT
UID:69ec0a2a6ee24
DTSTART:20220429T062000Z
SEQUENCE:0
TRANSP:OPAQUE
DTEND:20220429T095500Z
LOCATION:N522
SUMMARY:Customer Driven IT and Business Innovation
CLASS:PUBLIC
DESCRIPTION:Veranstaltung: Customer Driven IT and Business Innovation (BTI4
 305)\nDozierende: Ritley [rlk2]\nRäume: N522\nCode: BTI4305a
X-ALT-DESC;FMTTYPE=text/html:Veranstaltung: Customer Driven IT and Business
  Innovation (BTI4305)<br>Dozierende: Ritley [rlk2]<br>Räume: N522<br>Code
 : BTI4305a
DTSTAMP:20260425T002618Z
END:VEVENT
BEGIN:VEVENT
UID:69ec0a2a6ee74
DTSTART:20220429T062000Z
SEQUENCE:0
TRANSP:OPAQUE
DTEND:20220429T095500Z
SUMMARY:Customer Driven IT and Business Innovation
CLASS:PUBLIC
DESCRIPTION:Veranstaltung: Customer Driven IT and Business Innovation (BTI4
 305)\nDozierende: Schaller [slc4]\nRäume: \nCode: BTI4305a
X-ALT-DESC;FMTTYPE=text/html:Veranstaltung: Customer Driven IT and Business
  Innovation (BTI4305)<br>Dozierende: Schaller [slc4]<br>Räume: <br>Code: 
 BTI4305a
DTSTAMP:20260425T002618Z
END:VEVENT
BEGIN:VEVENT
UID:69ec0a2a6eebd
DTSTART:20220506T062000Z
SEQUENCE:0
TRANSP:OPAQUE
DTEND:20220506T095500Z
LOCATION:N522
SUMMARY:Customer Driven IT and Business Innovation
CLASS:PUBLIC
DESCRIPTION:Veranstaltung: Customer Driven IT and Business Innovation (BTI4
 305)\nDozierende: Ritley [rlk2]\nRäume: N522\nCode: BTI4305a
X-ALT-DESC;FMTTYPE=text/html:Veranstaltung: Customer Driven IT and Business
  Innovation (BTI4305)<br>Dozierende: Ritley [rlk2]<br>Räume: N522<br>Code
 : BTI4305a
DTSTAMP:20260425T002618Z
END:VEVENT
BEGIN:VEVENT
UID:69ec0a2a6ef0a
DTSTART:20220506T062000Z
SEQUENCE:0
TRANSP:OPAQUE
DTEND:20220506T095500Z
SUMMARY:Customer Driven IT and Business Innovation
CLASS:PUBLIC
DESCRIPTION:Veranstaltung: Customer Driven IT and Business Innovation (BTI4
 305)\nDozierende: Schaller [slc4]\nRäume: \nCode: BTI4305a
X-ALT-DESC;FMTTYPE=text/html:Veranstaltung: Customer Driven IT and Business
  Innovation (BTI4305)<br>Dozierende: Schaller [slc4]<br>Räume: <br>Code: 
 BTI4305a
DTSTAMP:20260425T002618Z
END:VEVENT
BEGIN:VEVENT
UID:69ec0a2a6ef57
DTSTART:20220513T062000Z
SEQUENCE:0
TRANSP:OPAQUE
DTEND:20220513T095500Z
LOCATION:N522
SUMMARY:Customer Driven IT and Business Innovation
CLASS:PUBLIC
DESCRIPTION:Veranstaltung: Customer Driven IT and Business Innovation (BTI4
 305)\nDozierende: Ritley [rlk2]\nRäume: N522\nCode: BTI4305a
X-ALT-DESC;FMTTYPE=text/html:Veranstaltung: Customer Driven IT and Business
  Innovation (BTI4305)<br>Dozierende: Ritley [rlk2]<br>Räume: N522<br>Code
 : BTI4305a
DTSTAMP:20260425T002618Z
END:VEVENT
BEGIN:VEVENT
UID:69ec0a2a6efa5
DTSTART:20220513T062000Z
SEQUENCE:0
TRANSP:OPAQUE
DTEND:20220513T095500Z
SUMMARY:Customer Driven IT and Business Innovation
CLASS:PUBLIC
DESCRIPTION:Veranstaltung: Customer Driven IT and Business Innovation (BTI4
 305)\nDozierende: Schaller [slc4]\nRäume: \nCode: BTI4305a
X-ALT-DESC;FMTTYPE=text/html:Veranstaltung: Customer Driven IT and Business
  Innovation (BTI4305)<br>Dozierende: Schaller [slc4]<br>Räume: <br>Code: 
 BTI4305a
DTSTAMP:20260425T002618Z
END:VEVENT
BEGIN:VEVENT
UID:69ec0a2a6f041
DTSTART:20220520T062000Z
SEQUENCE:0
TRANSP:OPAQUE
DTEND:20220520T095500Z
LOCATION:N522
SUMMARY:Customer Driven IT and Business Innovation
CLASS:PUBLIC
DESCRIPTION:Veranstaltung: Customer Driven IT and Business Innovation (BTI4
 305)\nDozierende: Ritley [rlk2]\nRäume: N522\nCode: BTI4305a
X-ALT-DESC;FMTTYPE=text/html:Veranstaltung: Customer Driven IT and Business
  Innovation (BTI4305)<br>Dozierende: Ritley [rlk2]<br>Räume: N522<br>Code
 : BTI4305a
DTSTAMP:20260425T002618Z
END:VEVENT
BEGIN:VEVENT
UID:69ec0a2a6f093
DTSTART:20220520T062000Z
SEQUENCE:0
TRANSP:OPAQUE
DTEND:20220520T095500Z
SUMMARY:Customer Driven IT and Business Innovation
CLASS:PUBLIC
DESCRIPTION:Veranstaltung: Customer Driven IT and Business Innovation (BTI4
 305)\nDozierende: Schaller [slc4]\nRäume: \nCode: BTI4305a
X-ALT-DESC;FMTTYPE=text/html:Veranstaltung: Customer Driven IT and Business
  Innovation (BTI4305)<br>Dozierende: Schaller [slc4]<br>Räume: <br>Code: 
 BTI4305a
DTSTAMP:20260425T002618Z
END:VEVENT
BEGIN:VEVENT
UID:69ec0a2a6f0dc
DTSTART:20220603T062000Z
SEQUENCE:0
TRANSP:OPAQUE
DTEND:20220603T095500Z
LOCATION:N522
SUMMARY:Customer Driven IT and Business Innovation
CLASS:PUBLIC
DESCRIPTION:Veranstaltung: Customer Driven IT and Business Innovation (BTI4
 305)\nDozierende: Ritley [rlk2]\nRäume: N522\nCode: BTI4305a
X-ALT-DESC;FMTTYPE=text/html:Veranstaltung: Customer Driven IT and Business
  Innovation (BTI4305)<br>Dozierende: Ritley [rlk2]<br>Räume: N522<br>Code
 : BTI4305a
DTSTAMP:20260425T002618Z
END:VEVENT
BEGIN:VEVENT
UID:69ec0a2a6f12b
DTSTART:20220603T062000Z
SEQUENCE:0
TRANSP:OPAQUE
DTEND:20220603T095500Z
SUMMARY:Customer Driven IT and Business Innovation
CLASS:PUBLIC
DESCRIPTION:Veranstaltung: Customer Driven IT and Business Innovation (BTI4
 305)\nDozierende: Schaller [slc4]\nRäume: \nCode: BTI4305a
X-ALT-DESC;FMTTYPE=text/html:Veranstaltung: Customer Driven IT and Business
  Innovation (BTI4305)<br>Dozierende: Schaller [slc4]<br>Räume: <br>Code: 
 BTI4305a
DTSTAMP:20260425T002618Z
END:VEVENT
BEGIN:VEVENT
UID:69ec0a2a6f172
DTSTART:20220610T062000Z
SEQUENCE:0
TRANSP:OPAQUE
DTEND:20220610T095500Z
LOCATION:N522
SUMMARY:Customer Driven IT and Business Innovation
CLASS:PUBLIC
DESCRIPTION:Veranstaltung: Customer Driven IT and Business Innovation (BTI4
 305)\nDozierende: Ritley [rlk2]\nRäume: N522\nCode: BTI4305a
X-ALT-DESC;FMTTYPE=text/html:Veranstaltung: Customer Driven IT and Business
  Innovation (BTI4305)<br>Dozierende: Ritley [rlk2]<br>Räume: N522<br>Code
 : BTI4305a
DTSTAMP:20260425T002618Z
END:VEVENT
BEGIN:VEVENT
UID:69ec0a2a6f1c0
DTSTART:20220610T062000Z
SEQUENCE:0
TRANSP:OPAQUE
DTEND:20220610T095500Z
SUMMARY:Customer Driven IT and Business Innovation
CLASS:PUBLIC
DESCRIPTION:Veranstaltung: Customer Driven IT and Business Innovation (BTI4
 305)\nDozierende: Schaller [slc4]\nRäume: \nCode: BTI4305a
X-ALT-DESC;FMTTYPE=text/html:Veranstaltung: Customer Driven IT and Business
  Innovation (BTI4305)<br>Dozierende: Schaller [slc4]<br>Räume: <br>Code: 
 BTI4305a
DTSTAMP:20260425T002618Z
END:VEVENT
BEGIN:VEVENT
UID:69ec0a2a6f20a
DTSTART:20220617T062000Z
SEQUENCE:0
TRANSP:OPAQUE
DTEND:20220617T095500Z
LOCATION:N522
SUMMARY:Customer Driven IT and Business Innovation
CLASS:PUBLIC
DESCRIPTION:Veranstaltung: Customer Driven IT and Business Innovation (BTI4
 305)\nDozierende: Ritley [rlk2]\nRäume: N522\nCode: BTI4305a
X-ALT-DESC;FMTTYPE=text/html:Veranstaltung: Customer Driven IT and Business
  Innovation (BTI4305)<br>Dozierende: Ritley [rlk2]<br>Räume: N522<br>Code
 : BTI4305a
DTSTAMP:20260425T002618Z
END:VEVENT
BEGIN:VEVENT
UID:69ec0a2a6f257
DTSTART:20220617T062000Z
SEQUENCE:0
TRANSP:OPAQUE
DTEND:20220617T095500Z
SUMMARY:Customer Driven IT and Business Innovation
CLASS:PUBLIC
DESCRIPTION:Veranstaltung: Customer Driven IT and Business Innovation (BTI4
 305)\nDozierende: Schaller [slc4]\nRäume: \nCode: BTI4305a
X-ALT-DESC;FMTTYPE=text/html:Veranstaltung: Customer Driven IT and Business
  Innovation (BTI4305)<br>Dozierende: Schaller [slc4]<br>Räume: <br>Code: 
 BTI4305a
DTSTAMP:20260425T002618Z
END:VEVENT
END:VCALENDAR