BEGIN:VCALENDAR
VERSION:2.0
PRODID:www.bfh.ch
X-APPLE-CALENDAR-COLOR:Orange
X-OUTLOOK-COLOR:Orange
X-FUNAMBOL-COLOR:Orange
X-WR-CALNAME:Übersicht BTI4405
BEGIN:VEVENT
UID:69ebe639cae4c
DTSTART:20220225T114500Z
SEQUENCE:0
TRANSP:OPAQUE
DTEND:20220225T150000Z
LOCATION:N311
SUMMARY:Special Topics in Computer Graphics and Virtual Reality
CLASS:PUBLIC
DESCRIPTION:Veranstaltung: Special Topics in Computer Graphics and Virtual 
 Reality (BTI4405)\nDozierende: Fuhrer [frc1]\nRäume: N311\nCode: BTI4405a
X-ALT-DESC;FMTTYPE=text/html:Veranstaltung: Special Topics in Computer Grap
 hics and Virtual Reality (BTI4405)<br>Dozierende: Fuhrer [frc1]<br>Räume:
  N311<br>Code: BTI4405a
DTSTAMP:20260424T215257Z
END:VEVENT
BEGIN:VEVENT
UID:69ebe639caf48
DTSTART:20220225T114500Z
SEQUENCE:0
TRANSP:OPAQUE
DTEND:20220225T150000Z
SUMMARY:Special Topics in Computer Graphics and Virtual Reality
CLASS:PUBLIC
DESCRIPTION:Veranstaltung: Special Topics in Computer Graphics and Virtual 
 Reality (BTI4405)\nDozierende: Hudritsch [hsm4]\, Künzler [klu1]\nRäume:
  \nCode: BTI4405a
X-ALT-DESC;FMTTYPE=text/html:Veranstaltung: Special Topics in Computer Grap
 hics and Virtual Reality (BTI4405)<br>Dozierende: Hudritsch [hsm4]\, Künz
 ler [klu1]<br>Räume: <br>Code: BTI4405a
DTSTAMP:20260424T215257Z
END:VEVENT
BEGIN:VEVENT
UID:69ebe639caf7c
DTSTART:20220304T114500Z
SEQUENCE:0
TRANSP:OPAQUE
DTEND:20220304T150000Z
LOCATION:(online)
SUMMARY:Special Topics in Computer Graphics and Virtual Reality
CLASS:PUBLIC
DESCRIPTION:Veranstaltung: Special Topics in Computer Graphics and Virtual 
 Reality (BTI4405)\nDozierende: Fuhrer [frc1]\nRäume: (online)\nCode: BTI4
 405a
X-ALT-DESC;FMTTYPE=text/html:Veranstaltung: Special Topics in Computer Grap
 hics and Virtual Reality (BTI4405)<br>Dozierende: Fuhrer [frc1]<br>Räume:
  (online)<br>Code: BTI4405a
DTSTAMP:20260424T215257Z
END:VEVENT
BEGIN:VEVENT
UID:69ebe639cafa7
DTSTART:20220304T114500Z
SEQUENCE:0
TRANSP:OPAQUE
DTEND:20220304T150000Z
SUMMARY:Special Topics in Computer Graphics and Virtual Reality
CLASS:PUBLIC
DESCRIPTION:Veranstaltung: Special Topics in Computer Graphics and Virtual 
 Reality (BTI4405)\nDozierende: Hudritsch [hsm4]\, Künzler [klu1]\nRäume:
  \nCode: BTI4405a
X-ALT-DESC;FMTTYPE=text/html:Veranstaltung: Special Topics in Computer Grap
 hics and Virtual Reality (BTI4405)<br>Dozierende: Hudritsch [hsm4]\, Künz
 ler [klu1]<br>Räume: <br>Code: BTI4405a
DTSTAMP:20260424T215257Z
END:VEVENT
BEGIN:VEVENT
UID:69ebe639cafce
DTSTART:20220311T114500Z
SEQUENCE:0
TRANSP:OPAQUE
DTEND:20220311T150000Z
LOCATION:(online)
SUMMARY:Special Topics in Computer Graphics and Virtual Reality
CLASS:PUBLIC
DESCRIPTION:Veranstaltung: Special Topics in Computer Graphics and Virtual 
 Reality (BTI4405)\nDozierende: Fuhrer [frc1]\nRäume: (online)\nCode: BTI4
 405a
X-ALT-DESC;FMTTYPE=text/html:Veranstaltung: Special Topics in Computer Grap
 hics and Virtual Reality (BTI4405)<br>Dozierende: Fuhrer [frc1]<br>Räume:
  (online)<br>Code: BTI4405a
DTSTAMP:20260424T215257Z
END:VEVENT
BEGIN:VEVENT
UID:69ebe639caff5
DTSTART:20220311T114500Z
SEQUENCE:0
TRANSP:OPAQUE
DTEND:20220311T150000Z
SUMMARY:Special Topics in Computer Graphics and Virtual Reality
CLASS:PUBLIC
DESCRIPTION:Veranstaltung: Special Topics in Computer Graphics and Virtual 
 Reality (BTI4405)\nDozierende: Hudritsch [hsm4]\, Künzler [klu1]\nRäume:
  \nCode: BTI4405a
X-ALT-DESC;FMTTYPE=text/html:Veranstaltung: Special Topics in Computer Grap
 hics and Virtual Reality (BTI4405)<br>Dozierende: Hudritsch [hsm4]\, Künz
 ler [klu1]<br>Räume: <br>Code: BTI4405a
DTSTAMP:20260424T215257Z
END:VEVENT
BEGIN:VEVENT
UID:69ebe639cb019
DTSTART:20220318T114500Z
SEQUENCE:0
TRANSP:OPAQUE
DTEND:20220318T150000Z
LOCATION:(online)
SUMMARY:Special Topics in Computer Graphics and Virtual Reality
CLASS:PUBLIC
DESCRIPTION:Veranstaltung: Special Topics in Computer Graphics and Virtual 
 Reality (BTI4405)\nDozierende: Fuhrer [frc1]\nRäume: (online)\nCode: BTI4
 405a
X-ALT-DESC;FMTTYPE=text/html:Veranstaltung: Special Topics in Computer Grap
 hics and Virtual Reality (BTI4405)<br>Dozierende: Fuhrer [frc1]<br>Räume:
  (online)<br>Code: BTI4405a
DTSTAMP:20260424T215257Z
END:VEVENT
BEGIN:VEVENT
UID:69ebe639cb041
DTSTART:20220318T114500Z
SEQUENCE:0
TRANSP:OPAQUE
DTEND:20220318T150000Z
SUMMARY:Special Topics in Computer Graphics and Virtual Reality
CLASS:PUBLIC
DESCRIPTION:Veranstaltung: Special Topics in Computer Graphics and Virtual 
 Reality (BTI4405)\nDozierende: Hudritsch [hsm4]\, Künzler [klu1]\nRäume:
  \nCode: BTI4405a
X-ALT-DESC;FMTTYPE=text/html:Veranstaltung: Special Topics in Computer Grap
 hics and Virtual Reality (BTI4405)<br>Dozierende: Hudritsch [hsm4]\, Künz
 ler [klu1]<br>Räume: <br>Code: BTI4405a
DTSTAMP:20260424T215257Z
END:VEVENT
BEGIN:VEVENT
UID:69ebe639cb067
DTSTART:20220325T114500Z
SEQUENCE:0
TRANSP:OPAQUE
DTEND:20220325T150000Z
LOCATION:(online)
SUMMARY:Special Topics in Computer Graphics and Virtual Reality
CLASS:PUBLIC
DESCRIPTION:Veranstaltung: Special Topics in Computer Graphics and Virtual 
 Reality (BTI4405)\nDozierende: Fuhrer [frc1]\nRäume: (online)\nCode: BTI4
 405a
X-ALT-DESC;FMTTYPE=text/html:Veranstaltung: Special Topics in Computer Grap
 hics and Virtual Reality (BTI4405)<br>Dozierende: Fuhrer [frc1]<br>Räume:
  (online)<br>Code: BTI4405a
DTSTAMP:20260424T215257Z
END:VEVENT
BEGIN:VEVENT
UID:69ebe639cb08e
DTSTART:20220325T114500Z
SEQUENCE:0
TRANSP:OPAQUE
DTEND:20220325T150000Z
SUMMARY:Special Topics in Computer Graphics and Virtual Reality
CLASS:PUBLIC
DESCRIPTION:Veranstaltung: Special Topics in Computer Graphics and Virtual 
 Reality (BTI4405)\nDozierende: Hudritsch [hsm4]\, Künzler [klu1]\nRäume:
  \nCode: BTI4405a
X-ALT-DESC;FMTTYPE=text/html:Veranstaltung: Special Topics in Computer Grap
 hics and Virtual Reality (BTI4405)<br>Dozierende: Hudritsch [hsm4]\, Künz
 ler [klu1]<br>Räume: <br>Code: BTI4405a
DTSTAMP:20260424T215257Z
END:VEVENT
BEGIN:VEVENT
UID:69ebe639cb0b2
DTSTART:20220401T104500Z
SEQUENCE:0
TRANSP:OPAQUE
DTEND:20220401T140000Z
LOCATION:N311
SUMMARY:Special Topics in Computer Graphics and Virtual Reality
CLASS:PUBLIC
DESCRIPTION:Veranstaltung: Special Topics in Computer Graphics and Virtual 
 Reality (BTI4405)\nDozierende: Fuhrer [frc1]\nRäume: N311\nCode: BTI4405a
X-ALT-DESC;FMTTYPE=text/html:Veranstaltung: Special Topics in Computer Grap
 hics and Virtual Reality (BTI4405)<br>Dozierende: Fuhrer [frc1]<br>Räume:
  N311<br>Code: BTI4405a
DTSTAMP:20260424T215257Z
END:VEVENT
BEGIN:VEVENT
UID:69ebe639cb0da
DTSTART:20220401T104500Z
SEQUENCE:0
TRANSP:OPAQUE
DTEND:20220401T140000Z
SUMMARY:Special Topics in Computer Graphics and Virtual Reality
CLASS:PUBLIC
DESCRIPTION:Veranstaltung: Special Topics in Computer Graphics and Virtual 
 Reality (BTI4405)\nDozierende: Hudritsch [hsm4]\, Künzler [klu1]\nRäume:
  \nCode: BTI4405a
X-ALT-DESC;FMTTYPE=text/html:Veranstaltung: Special Topics in Computer Grap
 hics and Virtual Reality (BTI4405)<br>Dozierende: Hudritsch [hsm4]\, Künz
 ler [klu1]<br>Räume: <br>Code: BTI4405a
DTSTAMP:20260424T215257Z
END:VEVENT
BEGIN:VEVENT
UID:69ebe639cb0ff
DTSTART:20220408T104500Z
SEQUENCE:0
TRANSP:OPAQUE
DTEND:20220408T140000Z
LOCATION:N311
SUMMARY:Special Topics in Computer Graphics and Virtual Reality
CLASS:PUBLIC
DESCRIPTION:Veranstaltung: Special Topics in Computer Graphics and Virtual 
 Reality (BTI4405)\nDozierende: Fuhrer [frc1]\nRäume: N311\nCode: BTI4405a
X-ALT-DESC;FMTTYPE=text/html:Veranstaltung: Special Topics in Computer Grap
 hics and Virtual Reality (BTI4405)<br>Dozierende: Fuhrer [frc1]<br>Räume:
  N311<br>Code: BTI4405a
DTSTAMP:20260424T215257Z
END:VEVENT
BEGIN:VEVENT
UID:69ebe639cb126
DTSTART:20220408T104500Z
SEQUENCE:0
TRANSP:OPAQUE
DTEND:20220408T140000Z
SUMMARY:Special Topics in Computer Graphics and Virtual Reality
CLASS:PUBLIC
DESCRIPTION:Veranstaltung: Special Topics in Computer Graphics and Virtual 
 Reality (BTI4405)\nDozierende: Hudritsch [hsm4]\, Künzler [klu1]\nRäume:
  \nCode: BTI4405a
X-ALT-DESC;FMTTYPE=text/html:Veranstaltung: Special Topics in Computer Grap
 hics and Virtual Reality (BTI4405)<br>Dozierende: Hudritsch [hsm4]\, Künz
 ler [klu1]<br>Räume: <br>Code: BTI4405a
DTSTAMP:20260424T215257Z
END:VEVENT
BEGIN:VEVENT
UID:69ebe639cb14a
DTSTART:20220422T104500Z
SEQUENCE:0
TRANSP:OPAQUE
DTEND:20220422T140000Z
LOCATION:N311
SUMMARY:Special Topics in Computer Graphics and Virtual Reality
CLASS:PUBLIC
DESCRIPTION:Veranstaltung: Special Topics in Computer Graphics and Virtual 
 Reality (BTI4405)\nDozierende: Fuhrer [frc1]\nRäume: N311\nCode: BTI4405a
X-ALT-DESC;FMTTYPE=text/html:Veranstaltung: Special Topics in Computer Grap
 hics and Virtual Reality (BTI4405)<br>Dozierende: Fuhrer [frc1]<br>Räume:
  N311<br>Code: BTI4405a
DTSTAMP:20260424T215257Z
END:VEVENT
BEGIN:VEVENT
UID:69ebe639cb170
DTSTART:20220422T104500Z
SEQUENCE:0
TRANSP:OPAQUE
DTEND:20220422T140000Z
SUMMARY:Special Topics in Computer Graphics and Virtual Reality
CLASS:PUBLIC
DESCRIPTION:Veranstaltung: Special Topics in Computer Graphics and Virtual 
 Reality (BTI4405)\nDozierende: Hudritsch [hsm4]\, Künzler [klu1]\nRäume:
  \nCode: BTI4405a
X-ALT-DESC;FMTTYPE=text/html:Veranstaltung: Special Topics in Computer Grap
 hics and Virtual Reality (BTI4405)<br>Dozierende: Hudritsch [hsm4]\, Künz
 ler [klu1]<br>Räume: <br>Code: BTI4405a
DTSTAMP:20260424T215257Z
END:VEVENT
BEGIN:VEVENT
UID:69ebe639cb195
DTSTART:20220429T104500Z
SEQUENCE:0
TRANSP:OPAQUE
DTEND:20220429T140000Z
LOCATION:N311
SUMMARY:Special Topics in Computer Graphics and Virtual Reality
CLASS:PUBLIC
DESCRIPTION:Veranstaltung: Special Topics in Computer Graphics and Virtual 
 Reality (BTI4405)\nDozierende: Fuhrer [frc1]\nRäume: N311\nCode: BTI4405a
X-ALT-DESC;FMTTYPE=text/html:Veranstaltung: Special Topics in Computer Grap
 hics and Virtual Reality (BTI4405)<br>Dozierende: Fuhrer [frc1]<br>Räume:
  N311<br>Code: BTI4405a
DTSTAMP:20260424T215257Z
END:VEVENT
BEGIN:VEVENT
UID:69ebe639cb1bc
DTSTART:20220429T104500Z
SEQUENCE:0
TRANSP:OPAQUE
DTEND:20220429T140000Z
SUMMARY:Special Topics in Computer Graphics and Virtual Reality
CLASS:PUBLIC
DESCRIPTION:Veranstaltung: Special Topics in Computer Graphics and Virtual 
 Reality (BTI4405)\nDozierende: Hudritsch [hsm4]\, Künzler [klu1]\nRäume:
  \nCode: BTI4405a
X-ALT-DESC;FMTTYPE=text/html:Veranstaltung: Special Topics in Computer Grap
 hics and Virtual Reality (BTI4405)<br>Dozierende: Hudritsch [hsm4]\, Künz
 ler [klu1]<br>Räume: <br>Code: BTI4405a
DTSTAMP:20260424T215257Z
END:VEVENT
BEGIN:VEVENT
UID:69ebe639cb1e1
DTSTART:20220506T104500Z
SEQUENCE:0
TRANSP:OPAQUE
DTEND:20220506T140000Z
LOCATION:N311
SUMMARY:Special Topics in Computer Graphics and Virtual Reality
CLASS:PUBLIC
DESCRIPTION:Veranstaltung: Special Topics in Computer Graphics and Virtual 
 Reality (BTI4405)\nDozierende: Fuhrer [frc1]\nRäume: N311\nCode: BTI4405a
X-ALT-DESC;FMTTYPE=text/html:Veranstaltung: Special Topics in Computer Grap
 hics and Virtual Reality (BTI4405)<br>Dozierende: Fuhrer [frc1]<br>Räume:
  N311<br>Code: BTI4405a
DTSTAMP:20260424T215257Z
END:VEVENT
BEGIN:VEVENT
UID:69ebe639cb207
DTSTART:20220506T104500Z
SEQUENCE:0
TRANSP:OPAQUE
DTEND:20220506T140000Z
SUMMARY:Special Topics in Computer Graphics and Virtual Reality
CLASS:PUBLIC
DESCRIPTION:Veranstaltung: Special Topics in Computer Graphics and Virtual 
 Reality (BTI4405)\nDozierende: Hudritsch [hsm4]\, Künzler [klu1]\nRäume:
  \nCode: BTI4405a
X-ALT-DESC;FMTTYPE=text/html:Veranstaltung: Special Topics in Computer Grap
 hics and Virtual Reality (BTI4405)<br>Dozierende: Hudritsch [hsm4]\, Künz
 ler [klu1]<br>Räume: <br>Code: BTI4405a
DTSTAMP:20260424T215257Z
END:VEVENT
BEGIN:VEVENT
UID:69ebe639cb22d
DTSTART:20220513T104500Z
SEQUENCE:0
TRANSP:OPAQUE
DTEND:20220513T140000Z
LOCATION:N311
SUMMARY:Special Topics in Computer Graphics and Virtual Reality
CLASS:PUBLIC
DESCRIPTION:Veranstaltung: Special Topics in Computer Graphics and Virtual 
 Reality (BTI4405)\nDozierende: Fuhrer [frc1]\nRäume: N311\nCode: BTI4405a
X-ALT-DESC;FMTTYPE=text/html:Veranstaltung: Special Topics in Computer Grap
 hics and Virtual Reality (BTI4405)<br>Dozierende: Fuhrer [frc1]<br>Räume:
  N311<br>Code: BTI4405a
DTSTAMP:20260424T215257Z
END:VEVENT
BEGIN:VEVENT
UID:69ebe639cb252
DTSTART:20220513T104500Z
SEQUENCE:0
TRANSP:OPAQUE
DTEND:20220513T140000Z
SUMMARY:Special Topics in Computer Graphics and Virtual Reality
CLASS:PUBLIC
DESCRIPTION:Veranstaltung: Special Topics in Computer Graphics and Virtual 
 Reality (BTI4405)\nDozierende: Hudritsch [hsm4]\, Künzler [klu1]\nRäume:
  \nCode: BTI4405a
X-ALT-DESC;FMTTYPE=text/html:Veranstaltung: Special Topics in Computer Grap
 hics and Virtual Reality (BTI4405)<br>Dozierende: Hudritsch [hsm4]\, Künz
 ler [klu1]<br>Räume: <br>Code: BTI4405a
DTSTAMP:20260424T215257Z
END:VEVENT
BEGIN:VEVENT
UID:69ebe639cb276
DTSTART:20220520T104500Z
SEQUENCE:0
TRANSP:OPAQUE
DTEND:20220520T140000Z
LOCATION:N311
SUMMARY:Special Topics in Computer Graphics and Virtual Reality
CLASS:PUBLIC
DESCRIPTION:Veranstaltung: Special Topics in Computer Graphics and Virtual 
 Reality (BTI4405)\nDozierende: Fuhrer [frc1]\nRäume: N311\nCode: BTI4405a
X-ALT-DESC;FMTTYPE=text/html:Veranstaltung: Special Topics in Computer Grap
 hics and Virtual Reality (BTI4405)<br>Dozierende: Fuhrer [frc1]<br>Räume:
  N311<br>Code: BTI4405a
DTSTAMP:20260424T215257Z
END:VEVENT
BEGIN:VEVENT
UID:69ebe639cb29b
DTSTART:20220520T104500Z
SEQUENCE:0
TRANSP:OPAQUE
DTEND:20220520T140000Z
SUMMARY:Special Topics in Computer Graphics and Virtual Reality
CLASS:PUBLIC
DESCRIPTION:Veranstaltung: Special Topics in Computer Graphics and Virtual 
 Reality (BTI4405)\nDozierende: Hudritsch [hsm4]\, Künzler [klu1]\nRäume:
  \nCode: BTI4405a
X-ALT-DESC;FMTTYPE=text/html:Veranstaltung: Special Topics in Computer Grap
 hics and Virtual Reality (BTI4405)<br>Dozierende: Hudritsch [hsm4]\, Künz
 ler [klu1]<br>Räume: <br>Code: BTI4405a
DTSTAMP:20260424T215257Z
END:VEVENT
BEGIN:VEVENT
UID:69ebe639cb2c1
DTSTART:20220603T104500Z
SEQUENCE:0
TRANSP:OPAQUE
DTEND:20220603T140000Z
LOCATION:N311
SUMMARY:Special Topics in Computer Graphics and Virtual Reality
CLASS:PUBLIC
DESCRIPTION:Veranstaltung: Special Topics in Computer Graphics and Virtual 
 Reality (BTI4405)\nDozierende: Fuhrer [frc1]\nRäume: N311\nCode: BTI4405a
X-ALT-DESC;FMTTYPE=text/html:Veranstaltung: Special Topics in Computer Grap
 hics and Virtual Reality (BTI4405)<br>Dozierende: Fuhrer [frc1]<br>Räume:
  N311<br>Code: BTI4405a
DTSTAMP:20260424T215257Z
END:VEVENT
BEGIN:VEVENT
UID:69ebe639cb2e8
DTSTART:20220603T104500Z
SEQUENCE:0
TRANSP:OPAQUE
DTEND:20220603T140000Z
SUMMARY:Special Topics in Computer Graphics and Virtual Reality
CLASS:PUBLIC
DESCRIPTION:Veranstaltung: Special Topics in Computer Graphics and Virtual 
 Reality (BTI4405)\nDozierende: Hudritsch [hsm4]\, Künzler [klu1]\nRäume:
  \nCode: BTI4405a
X-ALT-DESC;FMTTYPE=text/html:Veranstaltung: Special Topics in Computer Grap
 hics and Virtual Reality (BTI4405)<br>Dozierende: Hudritsch [hsm4]\, Künz
 ler [klu1]<br>Räume: <br>Code: BTI4405a
DTSTAMP:20260424T215257Z
END:VEVENT
BEGIN:VEVENT
UID:69ebe639cb30d
DTSTART:20220610T104500Z
SEQUENCE:0
TRANSP:OPAQUE
DTEND:20220610T140000Z
LOCATION:N311
SUMMARY:Special Topics in Computer Graphics and Virtual Reality
CLASS:PUBLIC
DESCRIPTION:Veranstaltung: Special Topics in Computer Graphics and Virtual 
 Reality (BTI4405)\nDozierende: Fuhrer [frc1]\nRäume: N311\nCode: BTI4405a
X-ALT-DESC;FMTTYPE=text/html:Veranstaltung: Special Topics in Computer Grap
 hics and Virtual Reality (BTI4405)<br>Dozierende: Fuhrer [frc1]<br>Räume:
  N311<br>Code: BTI4405a
DTSTAMP:20260424T215257Z
END:VEVENT
BEGIN:VEVENT
UID:69ebe639cb334
DTSTART:20220610T104500Z
SEQUENCE:0
TRANSP:OPAQUE
DTEND:20220610T140000Z
SUMMARY:Special Topics in Computer Graphics and Virtual Reality
CLASS:PUBLIC
DESCRIPTION:Veranstaltung: Special Topics in Computer Graphics and Virtual 
 Reality (BTI4405)\nDozierende: Hudritsch [hsm4]\, Künzler [klu1]\nRäume:
  \nCode: BTI4405a
X-ALT-DESC;FMTTYPE=text/html:Veranstaltung: Special Topics in Computer Grap
 hics and Virtual Reality (BTI4405)<br>Dozierende: Hudritsch [hsm4]\, Künz
 ler [klu1]<br>Räume: <br>Code: BTI4405a
DTSTAMP:20260424T215257Z
END:VEVENT
BEGIN:VEVENT
UID:69ebe639cb35a
DTSTART:20220617T104500Z
SEQUENCE:0
TRANSP:OPAQUE
DTEND:20220617T140000Z
LOCATION:N311
SUMMARY:Special Topics in Computer Graphics and Virtual Reality
CLASS:PUBLIC
DESCRIPTION:Veranstaltung: Special Topics in Computer Graphics and Virtual 
 Reality (BTI4405)\nDozierende: Fuhrer [frc1]\nRäume: N311\nCode: BTI4405a
X-ALT-DESC;FMTTYPE=text/html:Veranstaltung: Special Topics in Computer Grap
 hics and Virtual Reality (BTI4405)<br>Dozierende: Fuhrer [frc1]<br>Räume:
  N311<br>Code: BTI4405a
DTSTAMP:20260424T215257Z
END:VEVENT
BEGIN:VEVENT
UID:69ebe639cb381
DTSTART:20220617T104500Z
SEQUENCE:0
TRANSP:OPAQUE
DTEND:20220617T140000Z
SUMMARY:Special Topics in Computer Graphics and Virtual Reality
CLASS:PUBLIC
DESCRIPTION:Veranstaltung: Special Topics in Computer Graphics and Virtual 
 Reality (BTI4405)\nDozierende: Hudritsch [hsm4]\, Künzler [klu1]\nRäume:
  \nCode: BTI4405a
X-ALT-DESC;FMTTYPE=text/html:Veranstaltung: Special Topics in Computer Grap
 hics and Virtual Reality (BTI4405)<br>Dozierende: Hudritsch [hsm4]\, Künz
 ler [klu1]<br>Räume: <br>Code: BTI4405a
DTSTAMP:20260424T215257Z
END:VEVENT
END:VCALENDAR