BEGIN:VCALENDAR
VERSION:2.0
PRODID:www.bfh.ch
X-APPLE-CALENDAR-COLOR:Orange
X-OUTLOOK-COLOR:Orange
X-FUNAMBOL-COLOR:Orange
X-WR-CALNAME:Übersicht BTI7529
BEGIN:VEVENT
UID:69ebe1499f04e
DTSTART:20210922T161000Z
SEQUENCE:0
TRANSP:OPAQUE
DTEND:20210922T174500Z
LOCATION:WD207
SUMMARY:Advanced Cryptography for Security and Privacy
CLASS:PUBLIC
DESCRIPTION:Veranstaltung: Advanced Cryptography for Security and Privacy (
 BTI7529)\nDozierende: Haenni [hnr1]\nRäume: WD207\nCode: BTI7529p
X-ALT-DESC;FMTTYPE=text/html:Veranstaltung: Advanced Cryptography for Secur
 ity and Privacy (BTI7529)<br>Dozierende: Haenni [hnr1]<br>Räume: WD207<br
 >Code: BTI7529p
DTSTAMP:20260424T213153Z
END:VEVENT
BEGIN:VEVENT
UID:69ebe1499f12c
DTSTART:20210929T161000Z
SEQUENCE:0
TRANSP:OPAQUE
DTEND:20210929T174500Z
LOCATION:WD207
SUMMARY:Advanced Cryptography for Security and Privacy
CLASS:PUBLIC
DESCRIPTION:Veranstaltung: Advanced Cryptography for Security and Privacy (
 BTI7529)\nDozierende: Haenni [hnr1]\nRäume: WD207\nCode: BTI7529p
X-ALT-DESC;FMTTYPE=text/html:Veranstaltung: Advanced Cryptography for Secur
 ity and Privacy (BTI7529)<br>Dozierende: Haenni [hnr1]<br>Räume: WD207<br
 >Code: BTI7529p
DTSTAMP:20260424T213153Z
END:VEVENT
BEGIN:VEVENT
UID:69ebe1499f16b
DTSTART:20211006T161000Z
SEQUENCE:0
TRANSP:OPAQUE
DTEND:20211006T174500Z
LOCATION:WD207
SUMMARY:Advanced Cryptography for Security and Privacy
CLASS:PUBLIC
DESCRIPTION:Veranstaltung: Advanced Cryptography for Security and Privacy (
 BTI7529)\nDozierende: Haenni [hnr1]\nRäume: WD207\nCode: BTI7529p
X-ALT-DESC;FMTTYPE=text/html:Veranstaltung: Advanced Cryptography for Secur
 ity and Privacy (BTI7529)<br>Dozierende: Haenni [hnr1]<br>Räume: WD207<br
 >Code: BTI7529p
DTSTAMP:20260424T213153Z
END:VEVENT
BEGIN:VEVENT
UID:69ebe1499f19e
DTSTART:20211013T161000Z
SEQUENCE:0
TRANSP:OPAQUE
DTEND:20211013T174500Z
LOCATION:WD207
SUMMARY:Advanced Cryptography for Security and Privacy
CLASS:PUBLIC
DESCRIPTION:Veranstaltung: Advanced Cryptography for Security and Privacy (
 BTI7529)\nDozierende: Haenni [hnr1]\nRäume: WD207\nCode: BTI7529p
X-ALT-DESC;FMTTYPE=text/html:Veranstaltung: Advanced Cryptography for Secur
 ity and Privacy (BTI7529)<br>Dozierende: Haenni [hnr1]<br>Räume: WD207<br
 >Code: BTI7529p
DTSTAMP:20260424T213153Z
END:VEVENT
BEGIN:VEVENT
UID:69ebe1499f1cf
DTSTART:20211020T161000Z
SEQUENCE:0
TRANSP:OPAQUE
DTEND:20211020T174500Z
LOCATION:WD207
SUMMARY:Advanced Cryptography for Security and Privacy
CLASS:PUBLIC
DESCRIPTION:Veranstaltung: Advanced Cryptography for Security and Privacy (
 BTI7529)\nDozierende: Haenni [hnr1]\nRäume: WD207\nCode: BTI7529p
X-ALT-DESC;FMTTYPE=text/html:Veranstaltung: Advanced Cryptography for Secur
 ity and Privacy (BTI7529)<br>Dozierende: Haenni [hnr1]<br>Räume: WD207<br
 >Code: BTI7529p
DTSTAMP:20260424T213153Z
END:VEVENT
BEGIN:VEVENT
UID:69ebe1499f201
DTSTART:20211027T161000Z
SEQUENCE:0
TRANSP:OPAQUE
DTEND:20211027T174500Z
LOCATION:WD207
SUMMARY:Advanced Cryptography for Security and Privacy
CLASS:PUBLIC
DESCRIPTION:Veranstaltung: Advanced Cryptography for Security and Privacy (
 BTI7529)\nDozierende: Haenni [hnr1]\nRäume: WD207\nCode: BTI7529p
X-ALT-DESC;FMTTYPE=text/html:Veranstaltung: Advanced Cryptography for Secur
 ity and Privacy (BTI7529)<br>Dozierende: Haenni [hnr1]<br>Räume: WD207<br
 >Code: BTI7529p
DTSTAMP:20260424T213153Z
END:VEVENT
BEGIN:VEVENT
UID:69ebe1499f233
DTSTART:20211103T171000Z
SEQUENCE:0
TRANSP:OPAQUE
DTEND:20211103T184500Z
LOCATION:WD207
SUMMARY:Advanced Cryptography for Security and Privacy
CLASS:PUBLIC
DESCRIPTION:Veranstaltung: Advanced Cryptography for Security and Privacy (
 BTI7529)\nDozierende: Haenni [hnr1]\nRäume: WD207\nCode: BTI7529p
X-ALT-DESC;FMTTYPE=text/html:Veranstaltung: Advanced Cryptography for Secur
 ity and Privacy (BTI7529)<br>Dozierende: Haenni [hnr1]<br>Räume: WD207<br
 >Code: BTI7529p
DTSTAMP:20260424T213153Z
END:VEVENT
BEGIN:VEVENT
UID:69ebe1499f264
DTSTART:20211110T171000Z
SEQUENCE:0
TRANSP:OPAQUE
DTEND:20211110T184500Z
LOCATION:WD207
SUMMARY:Advanced Cryptography for Security and Privacy
CLASS:PUBLIC
DESCRIPTION:Veranstaltung: Advanced Cryptography for Security and Privacy (
 BTI7529)\nDozierende: Haenni [hnr1]\nRäume: WD207\nCode: BTI7529p
X-ALT-DESC;FMTTYPE=text/html:Veranstaltung: Advanced Cryptography for Secur
 ity and Privacy (BTI7529)<br>Dozierende: Haenni [hnr1]<br>Räume: WD207<br
 >Code: BTI7529p
DTSTAMP:20260424T213153Z
END:VEVENT
BEGIN:VEVENT
UID:69ebe1499f295
DTSTART:20211117T171000Z
SEQUENCE:0
TRANSP:OPAQUE
DTEND:20211117T184500Z
LOCATION:WD207
SUMMARY:Advanced Cryptography for Security and Privacy
CLASS:PUBLIC
DESCRIPTION:Veranstaltung: Advanced Cryptography for Security and Privacy (
 BTI7529)\nDozierende: Haenni [hnr1]\nRäume: WD207\nCode: BTI7529p
X-ALT-DESC;FMTTYPE=text/html:Veranstaltung: Advanced Cryptography for Secur
 ity and Privacy (BTI7529)<br>Dozierende: Haenni [hnr1]<br>Räume: WD207<br
 >Code: BTI7529p
DTSTAMP:20260424T213153Z
END:VEVENT
BEGIN:VEVENT
UID:69ebe1499f2c6
DTSTART:20211124T171000Z
SEQUENCE:0
TRANSP:OPAQUE
DTEND:20211124T184500Z
LOCATION:WD207
SUMMARY:Advanced Cryptography for Security and Privacy
CLASS:PUBLIC
DESCRIPTION:Veranstaltung: Advanced Cryptography for Security and Privacy (
 BTI7529)\nDozierende: Haenni [hnr1]\nRäume: WD207\nCode: BTI7529p
X-ALT-DESC;FMTTYPE=text/html:Veranstaltung: Advanced Cryptography for Secur
 ity and Privacy (BTI7529)<br>Dozierende: Haenni [hnr1]<br>Räume: WD207<br
 >Code: BTI7529p
DTSTAMP:20260424T213153Z
END:VEVENT
BEGIN:VEVENT
UID:69ebe1499f2f7
DTSTART:20211201T171000Z
SEQUENCE:0
TRANSP:OPAQUE
DTEND:20211201T184500Z
LOCATION:WD207
SUMMARY:Advanced Cryptography for Security and Privacy
CLASS:PUBLIC
DESCRIPTION:Veranstaltung: Advanced Cryptography for Security and Privacy (
 BTI7529)\nDozierende: Haenni [hnr1]\nRäume: WD207\nCode: BTI7529p
X-ALT-DESC;FMTTYPE=text/html:Veranstaltung: Advanced Cryptography for Secur
 ity and Privacy (BTI7529)<br>Dozierende: Haenni [hnr1]<br>Räume: WD207<br
 >Code: BTI7529p
DTSTAMP:20260424T213153Z
END:VEVENT
BEGIN:VEVENT
UID:69ebe1499f328
DTSTART:20211208T171000Z
SEQUENCE:0
TRANSP:OPAQUE
DTEND:20211208T184500Z
LOCATION:WD207
SUMMARY:Advanced Cryptography for Security and Privacy
CLASS:PUBLIC
DESCRIPTION:Veranstaltung: Advanced Cryptography for Security and Privacy (
 BTI7529)\nDozierende: Haenni [hnr1]\nRäume: WD207\nCode: BTI7529p
X-ALT-DESC;FMTTYPE=text/html:Veranstaltung: Advanced Cryptography for Secur
 ity and Privacy (BTI7529)<br>Dozierende: Haenni [hnr1]<br>Räume: WD207<br
 >Code: BTI7529p
DTSTAMP:20260424T213153Z
END:VEVENT
BEGIN:VEVENT
UID:69ebe1499f356
DTSTART:20211215T171000Z
SEQUENCE:0
TRANSP:OPAQUE
DTEND:20211215T184500Z
LOCATION:WD207
SUMMARY:Advanced Cryptography for Security and Privacy
CLASS:PUBLIC
DESCRIPTION:Veranstaltung: Advanced Cryptography for Security and Privacy (
 BTI7529)\nDozierende: Haenni [hnr1]\nRäume: WD207\nCode: BTI7529p
X-ALT-DESC;FMTTYPE=text/html:Veranstaltung: Advanced Cryptography for Secur
 ity and Privacy (BTI7529)<br>Dozierende: Haenni [hnr1]<br>Räume: WD207<br
 >Code: BTI7529p
DTSTAMP:20260424T213153Z
END:VEVENT
BEGIN:VEVENT
UID:69ebe1499f386
DTSTART:20211222T171000Z
SEQUENCE:0
TRANSP:OPAQUE
DTEND:20211222T184500Z
LOCATION:WD207
SUMMARY:Advanced Cryptography for Security and Privacy
CLASS:PUBLIC
DESCRIPTION:Veranstaltung: Advanced Cryptography for Security and Privacy (
 BTI7529)\nDozierende: Haenni [hnr1]\nRäume: WD207\nCode: BTI7529p
X-ALT-DESC;FMTTYPE=text/html:Veranstaltung: Advanced Cryptography for Secur
 ity and Privacy (BTI7529)<br>Dozierende: Haenni [hnr1]<br>Räume: WD207<br
 >Code: BTI7529p
DTSTAMP:20260424T213153Z
END:VEVENT
BEGIN:VEVENT
UID:69ebe1499f3b5
DTSTART:20220112T171000Z
SEQUENCE:0
TRANSP:OPAQUE
DTEND:20220112T184500Z
LOCATION:WD207
SUMMARY:Advanced Cryptography for Security and Privacy
CLASS:PUBLIC
DESCRIPTION:Veranstaltung: Advanced Cryptography for Security and Privacy (
 BTI7529)\nDozierende: Haenni [hnr1]\nRäume: WD207\nCode: BTI7529p
X-ALT-DESC;FMTTYPE=text/html:Veranstaltung: Advanced Cryptography for Secur
 ity and Privacy (BTI7529)<br>Dozierende: Haenni [hnr1]<br>Räume: WD207<br
 >Code: BTI7529p
DTSTAMP:20260424T213153Z
END:VEVENT
BEGIN:VEVENT
UID:69ebe1499f3e5
DTSTART:20220119T171000Z
SEQUENCE:0
TRANSP:OPAQUE
DTEND:20220119T184500Z
LOCATION:WD207
SUMMARY:Advanced Cryptography for Security and Privacy
CLASS:PUBLIC
DESCRIPTION:Veranstaltung: Advanced Cryptography for Security and Privacy (
 BTI7529)\nDozierende: Haenni [hnr1]\nRäume: WD207\nCode: BTI7529p
X-ALT-DESC;FMTTYPE=text/html:Veranstaltung: Advanced Cryptography for Secur
 ity and Privacy (BTI7529)<br>Dozierende: Haenni [hnr1]<br>Räume: WD207<br
 >Code: BTI7529p
DTSTAMP:20260424T213153Z
END:VEVENT
BEGIN:VEVENT
UID:69ebe1499f416
DTSTART:20220919T141500Z
SEQUENCE:0
TRANSP:OPAQUE
DTEND:20220919T155000Z
LOCATION:SIP-S246
SUMMARY:Advanced Cryptography for Security and Privacy
CLASS:PUBLIC
DESCRIPTION:Veranstaltung: Advanced Cryptography for Security and Privacy (
 BTI7529)\nDozierende: Haenni [hnr1]\nRäume: SIP-S246\nCode: BTI7529p
X-ALT-DESC;FMTTYPE=text/html:Veranstaltung: Advanced Cryptography for Secur
 ity and Privacy (BTI7529)<br>Dozierende: Haenni [hnr1]<br>Räume: SIP-S246
 <br>Code: BTI7529p
DTSTAMP:20260424T213153Z
END:VEVENT
BEGIN:VEVENT
UID:69ebe1499f446
DTSTART:20220926T141500Z
SEQUENCE:0
TRANSP:OPAQUE
DTEND:20220926T155000Z
LOCATION:SIP-S246
SUMMARY:Advanced Cryptography for Security and Privacy
CLASS:PUBLIC
DESCRIPTION:Veranstaltung: Advanced Cryptography for Security and Privacy (
 BTI7529)\nDozierende: Haenni [hnr1]\nRäume: SIP-S246\nCode: BTI7529p
X-ALT-DESC;FMTTYPE=text/html:Veranstaltung: Advanced Cryptography for Secur
 ity and Privacy (BTI7529)<br>Dozierende: Haenni [hnr1]<br>Räume: SIP-S246
 <br>Code: BTI7529p
DTSTAMP:20260424T213153Z
END:VEVENT
BEGIN:VEVENT
UID:69ebe1499f476
DTSTART:20221003T141500Z
SEQUENCE:0
TRANSP:OPAQUE
DTEND:20221003T155000Z
LOCATION:SIP-S246
SUMMARY:Advanced Cryptography for Security and Privacy
CLASS:PUBLIC
DESCRIPTION:Veranstaltung: Advanced Cryptography for Security and Privacy (
 BTI7529)\nDozierende: Haenni [hnr1]\nRäume: SIP-S246\nCode: BTI7529p
X-ALT-DESC;FMTTYPE=text/html:Veranstaltung: Advanced Cryptography for Secur
 ity and Privacy (BTI7529)<br>Dozierende: Haenni [hnr1]<br>Räume: SIP-S246
 <br>Code: BTI7529p
DTSTAMP:20260424T213153Z
END:VEVENT
BEGIN:VEVENT
UID:69ebe1499f4a7
DTSTART:20221010T141500Z
SEQUENCE:0
TRANSP:OPAQUE
DTEND:20221010T155000Z
LOCATION:SIP-S246
SUMMARY:Advanced Cryptography for Security and Privacy
CLASS:PUBLIC
DESCRIPTION:Veranstaltung: Advanced Cryptography for Security and Privacy (
 BTI7529)\nDozierende: Haenni [hnr1]\nRäume: SIP-S246\nCode: BTI7529p
X-ALT-DESC;FMTTYPE=text/html:Veranstaltung: Advanced Cryptography for Secur
 ity and Privacy (BTI7529)<br>Dozierende: Haenni [hnr1]<br>Räume: SIP-S246
 <br>Code: BTI7529p
DTSTAMP:20260424T213153Z
END:VEVENT
BEGIN:VEVENT
UID:69ebe1499f4d8
DTSTART:20221017T141500Z
SEQUENCE:0
TRANSP:OPAQUE
DTEND:20221017T155000Z
LOCATION:SIP-S246
SUMMARY:Advanced Cryptography for Security and Privacy
CLASS:PUBLIC
DESCRIPTION:Veranstaltung: Advanced Cryptography for Security and Privacy (
 BTI7529)\nDozierende: Haenni [hnr1]\nRäume: SIP-S246\nCode: BTI7529p
X-ALT-DESC;FMTTYPE=text/html:Veranstaltung: Advanced Cryptography for Secur
 ity and Privacy (BTI7529)<br>Dozierende: Haenni [hnr1]<br>Räume: SIP-S246
 <br>Code: BTI7529p
DTSTAMP:20260424T213153Z
END:VEVENT
BEGIN:VEVENT
UID:69ebe1499f506
DTSTART:20221024T141500Z
SEQUENCE:0
TRANSP:OPAQUE
DTEND:20221024T155000Z
LOCATION:SIP-S246
SUMMARY:Advanced Cryptography for Security and Privacy
CLASS:PUBLIC
DESCRIPTION:Veranstaltung: Advanced Cryptography for Security and Privacy (
 BTI7529)\nDozierende: Haenni [hnr1]\nRäume: SIP-S246\nCode: BTI7529p
X-ALT-DESC;FMTTYPE=text/html:Veranstaltung: Advanced Cryptography for Secur
 ity and Privacy (BTI7529)<br>Dozierende: Haenni [hnr1]<br>Räume: SIP-S246
 <br>Code: BTI7529p
DTSTAMP:20260424T213153Z
END:VEVENT
BEGIN:VEVENT
UID:69ebe1499f534
DTSTART:20221031T151500Z
SEQUENCE:0
TRANSP:OPAQUE
DTEND:20221031T165000Z
LOCATION:SIP-S246
SUMMARY:Advanced Cryptography for Security and Privacy
CLASS:PUBLIC
DESCRIPTION:Veranstaltung: Advanced Cryptography for Security and Privacy (
 BTI7529)\nDozierende: Haenni [hnr1]\nRäume: SIP-S246\nCode: BTI7529p
X-ALT-DESC;FMTTYPE=text/html:Veranstaltung: Advanced Cryptography for Secur
 ity and Privacy (BTI7529)<br>Dozierende: Haenni [hnr1]<br>Räume: SIP-S246
 <br>Code: BTI7529p
DTSTAMP:20260424T213153Z
END:VEVENT
BEGIN:VEVENT
UID:69ebe1499f56b
DTSTART:20221107T151500Z
SEQUENCE:0
TRANSP:OPAQUE
DTEND:20221107T165000Z
LOCATION:SIP-S246
SUMMARY:Advanced Cryptography for Security and Privacy
CLASS:PUBLIC
DESCRIPTION:Veranstaltung: Advanced Cryptography for Security and Privacy (
 BTI7529)\nDozierende: Haenni [hnr1]\nRäume: SIP-S246\nCode: BTI7529p
X-ALT-DESC;FMTTYPE=text/html:Veranstaltung: Advanced Cryptography for Secur
 ity and Privacy (BTI7529)<br>Dozierende: Haenni [hnr1]<br>Räume: SIP-S246
 <br>Code: BTI7529p
DTSTAMP:20260424T213153Z
END:VEVENT
BEGIN:VEVENT
UID:69ebe1499f59b
DTSTART:20221114T151500Z
SEQUENCE:0
TRANSP:OPAQUE
DTEND:20221114T165000Z
LOCATION:SIP-S246
SUMMARY:Advanced Cryptography for Security and Privacy
CLASS:PUBLIC
DESCRIPTION:Veranstaltung: Advanced Cryptography for Security and Privacy (
 BTI7529)\nDozierende: Haenni [hnr1]\nRäume: SIP-S246\nCode: BTI7529p
X-ALT-DESC;FMTTYPE=text/html:Veranstaltung: Advanced Cryptography for Secur
 ity and Privacy (BTI7529)<br>Dozierende: Haenni [hnr1]<br>Räume: SIP-S246
 <br>Code: BTI7529p
DTSTAMP:20260424T213153Z
END:VEVENT
BEGIN:VEVENT
UID:69ebe1499f5cc
DTSTART:20221121T151500Z
SEQUENCE:0
TRANSP:OPAQUE
DTEND:20221121T165000Z
LOCATION:SIP-S246
SUMMARY:Advanced Cryptography for Security and Privacy
CLASS:PUBLIC
DESCRIPTION:Veranstaltung: Advanced Cryptography for Security and Privacy (
 BTI7529)\nDozierende: Haenni [hnr1]\nRäume: SIP-S246\nCode: BTI7529p
X-ALT-DESC;FMTTYPE=text/html:Veranstaltung: Advanced Cryptography for Secur
 ity and Privacy (BTI7529)<br>Dozierende: Haenni [hnr1]<br>Räume: SIP-S246
 <br>Code: BTI7529p
DTSTAMP:20260424T213153Z
END:VEVENT
BEGIN:VEVENT
UID:69ebe1499f5fc
DTSTART:20221128T151500Z
SEQUENCE:0
TRANSP:OPAQUE
DTEND:20221128T165000Z
LOCATION:SIP-S246
SUMMARY:Advanced Cryptography for Security and Privacy
CLASS:PUBLIC
DESCRIPTION:Veranstaltung: Advanced Cryptography for Security and Privacy (
 BTI7529)\nDozierende: Haenni [hnr1]\nRäume: SIP-S246\nCode: BTI7529p
X-ALT-DESC;FMTTYPE=text/html:Veranstaltung: Advanced Cryptography for Secur
 ity and Privacy (BTI7529)<br>Dozierende: Haenni [hnr1]<br>Räume: SIP-S246
 <br>Code: BTI7529p
DTSTAMP:20260424T213153Z
END:VEVENT
BEGIN:VEVENT
UID:69ebe1499f62a
DTSTART:20221205T151500Z
SEQUENCE:0
TRANSP:OPAQUE
DTEND:20221205T165000Z
LOCATION:SIP-S246
SUMMARY:Advanced Cryptography for Security and Privacy
CLASS:PUBLIC
DESCRIPTION:Veranstaltung: Advanced Cryptography for Security and Privacy (
 BTI7529)\nDozierende: Haenni [hnr1]\nRäume: SIP-S246\nCode: BTI7529p
X-ALT-DESC;FMTTYPE=text/html:Veranstaltung: Advanced Cryptography for Secur
 ity and Privacy (BTI7529)<br>Dozierende: Haenni [hnr1]<br>Räume: SIP-S246
 <br>Code: BTI7529p
DTSTAMP:20260424T213153Z
END:VEVENT
BEGIN:VEVENT
UID:69ebe1499f65a
DTSTART:20221212T151500Z
SEQUENCE:0
TRANSP:OPAQUE
DTEND:20221212T165000Z
LOCATION:SIP-S246
SUMMARY:Advanced Cryptography for Security and Privacy
CLASS:PUBLIC
DESCRIPTION:Veranstaltung: Advanced Cryptography for Security and Privacy (
 BTI7529)\nDozierende: Haenni [hnr1]\nRäume: SIP-S246\nCode: BTI7529p
X-ALT-DESC;FMTTYPE=text/html:Veranstaltung: Advanced Cryptography for Secur
 ity and Privacy (BTI7529)<br>Dozierende: Haenni [hnr1]<br>Räume: SIP-S246
 <br>Code: BTI7529p
DTSTAMP:20260424T213153Z
END:VEVENT
BEGIN:VEVENT
UID:69ebe1499f689
DTSTART:20221219T151500Z
SEQUENCE:0
TRANSP:OPAQUE
DTEND:20221219T165000Z
LOCATION:SIP-S246
SUMMARY:Advanced Cryptography for Security and Privacy
CLASS:PUBLIC
DESCRIPTION:Veranstaltung: Advanced Cryptography for Security and Privacy (
 BTI7529)\nDozierende: Haenni [hnr1]\nRäume: SIP-S246\nCode: BTI7529p
X-ALT-DESC;FMTTYPE=text/html:Veranstaltung: Advanced Cryptography for Secur
 ity and Privacy (BTI7529)<br>Dozierende: Haenni [hnr1]<br>Räume: SIP-S246
 <br>Code: BTI7529p
DTSTAMP:20260424T213153Z
END:VEVENT
BEGIN:VEVENT
UID:69ebe1499f6ba
DTSTART:20230109T151500Z
SEQUENCE:0
TRANSP:OPAQUE
DTEND:20230109T165000Z
LOCATION:SIP-S246
SUMMARY:Advanced Cryptography for Security and Privacy
CLASS:PUBLIC
DESCRIPTION:Veranstaltung: Advanced Cryptography for Security and Privacy (
 BTI7529)\nDozierende: Haenni [hnr1]\nRäume: SIP-S246\nCode: BTI7529p
X-ALT-DESC;FMTTYPE=text/html:Veranstaltung: Advanced Cryptography for Secur
 ity and Privacy (BTI7529)<br>Dozierende: Haenni [hnr1]<br>Räume: SIP-S246
 <br>Code: BTI7529p
DTSTAMP:20260424T213153Z
END:VEVENT
BEGIN:VEVENT
UID:69ebe1499f6ea
DTSTART:20230116T151500Z
SEQUENCE:0
TRANSP:OPAQUE
DTEND:20230116T165000Z
LOCATION:SIP-S246
SUMMARY:Advanced Cryptography for Security and Privacy
CLASS:PUBLIC
DESCRIPTION:Veranstaltung: Advanced Cryptography for Security and Privacy (
 BTI7529)\nDozierende: Haenni [hnr1]\nRäume: SIP-S246\nCode: BTI7529p
X-ALT-DESC;FMTTYPE=text/html:Veranstaltung: Advanced Cryptography for Secur
 ity and Privacy (BTI7529)<br>Dozierende: Haenni [hnr1]<br>Räume: SIP-S246
 <br>Code: BTI7529p
DTSTAMP:20260424T213153Z
END:VEVENT
BEGIN:VEVENT
UID:69ebe1499f71a
DTSTART:20280918T141500Z
SEQUENCE:0
TRANSP:OPAQUE
DTEND:20280918T155000Z
LOCATION:SIP-S246
SUMMARY:Advanced Cryptography for Security and Privacy
CLASS:PUBLIC
DESCRIPTION:Veranstaltung: Advanced Cryptography for Security and Privacy (
 BTI7529)\nDozierende: Haenni [hnr1]\nRäume: SIP-S246\nCode: BTI7529p
X-ALT-DESC;FMTTYPE=text/html:Veranstaltung: Advanced Cryptography for Secur
 ity and Privacy (BTI7529)<br>Dozierende: Haenni [hnr1]<br>Räume: SIP-S246
 <br>Code: BTI7529p
DTSTAMP:20260424T213153Z
END:VEVENT
END:VCALENDAR