BEGIN:VCALENDAR
VERSION:2.0
PRODID:www.bfh.ch
X-APPLE-CALENDAR-COLOR:Orange
X-OUTLOOK-COLOR:Orange
X-FUNAMBOL-COLOR:Orange
X-WR-CALNAME:Übersicht BTI7546
BEGIN:VEVENT
UID:69ebe63ac13c4
DTSTART:20210923T141500Z
SEQUENCE:0
TRANSP:OPAQUE
DTEND:20210923T155000Z
LOCATION:N321
SUMMARY:Advanced 3D Applications
CLASS:PUBLIC
DESCRIPTION:Veranstaltung: Advanced 3D Applications (BTI7546)\nDozierende: 
 Hudritsch [hsm4]\nRäume: N321\nCode: BTI7546a
X-ALT-DESC;FMTTYPE=text/html:Veranstaltung: Advanced 3D Applications (BTI75
 46)<br>Dozierende: Hudritsch [hsm4]<br>Räume: N321<br>Code: BTI7546a
DTSTAMP:20260424T215258Z
END:VEVENT
BEGIN:VEVENT
UID:69ebe63ac146d
DTSTART:20210930T141500Z
SEQUENCE:0
TRANSP:OPAQUE
DTEND:20210930T155000Z
LOCATION:N321
SUMMARY:Advanced 3D Applications
CLASS:PUBLIC
DESCRIPTION:Veranstaltung: Advanced 3D Applications (BTI7546)\nDozierende: 
 Hudritsch [hsm4]\nRäume: N321\nCode: BTI7546a
X-ALT-DESC;FMTTYPE=text/html:Veranstaltung: Advanced 3D Applications (BTI75
 46)<br>Dozierende: Hudritsch [hsm4]<br>Räume: N321<br>Code: BTI7546a
DTSTAMP:20260424T215258Z
END:VEVENT
BEGIN:VEVENT
UID:69ebe63ac14a1
DTSTART:20211007T141500Z
SEQUENCE:0
TRANSP:OPAQUE
DTEND:20211007T155000Z
LOCATION:N321
SUMMARY:Advanced 3D Applications
CLASS:PUBLIC
DESCRIPTION:Veranstaltung: Advanced 3D Applications (BTI7546)\nDozierende: 
 Hudritsch [hsm4]\nRäume: N321\nCode: BTI7546a
X-ALT-DESC;FMTTYPE=text/html:Veranstaltung: Advanced 3D Applications (BTI75
 46)<br>Dozierende: Hudritsch [hsm4]<br>Räume: N321<br>Code: BTI7546a
DTSTAMP:20260424T215258Z
END:VEVENT
BEGIN:VEVENT
UID:69ebe63ac14cc
DTSTART:20211014T141500Z
SEQUENCE:0
TRANSP:OPAQUE
DTEND:20211014T155000Z
LOCATION:N321
SUMMARY:Advanced 3D Applications
CLASS:PUBLIC
DESCRIPTION:Veranstaltung: Advanced 3D Applications (BTI7546)\nDozierende: 
 Hudritsch [hsm4]\nRäume: N321\nCode: BTI7546a
X-ALT-DESC;FMTTYPE=text/html:Veranstaltung: Advanced 3D Applications (BTI75
 46)<br>Dozierende: Hudritsch [hsm4]<br>Räume: N321<br>Code: BTI7546a
DTSTAMP:20260424T215258Z
END:VEVENT
BEGIN:VEVENT
UID:69ebe63ac14f6
DTSTART:20211021T141500Z
SEQUENCE:0
TRANSP:OPAQUE
DTEND:20211021T155000Z
LOCATION:N321
SUMMARY:Advanced 3D Applications
CLASS:PUBLIC
DESCRIPTION:Veranstaltung: Advanced 3D Applications (BTI7546)\nDozierende: 
 Hudritsch [hsm4]\nRäume: N321\nCode: BTI7546a
X-ALT-DESC;FMTTYPE=text/html:Veranstaltung: Advanced 3D Applications (BTI75
 46)<br>Dozierende: Hudritsch [hsm4]<br>Räume: N321<br>Code: BTI7546a
DTSTAMP:20260424T215258Z
END:VEVENT
BEGIN:VEVENT
UID:69ebe63ac151e
DTSTART:20211028T141500Z
SEQUENCE:0
TRANSP:OPAQUE
DTEND:20211028T155000Z
LOCATION:N321
SUMMARY:Advanced 3D Applications
CLASS:PUBLIC
DESCRIPTION:Veranstaltung: Advanced 3D Applications (BTI7546)\nDozierende: 
 Hudritsch [hsm4]\nRäume: N321\nCode: BTI7546a
X-ALT-DESC;FMTTYPE=text/html:Veranstaltung: Advanced 3D Applications (BTI75
 46)<br>Dozierende: Hudritsch [hsm4]<br>Räume: N321<br>Code: BTI7546a
DTSTAMP:20260424T215258Z
END:VEVENT
BEGIN:VEVENT
UID:69ebe63ac1547
DTSTART:20211104T151500Z
SEQUENCE:0
TRANSP:OPAQUE
DTEND:20211104T165000Z
LOCATION:N321
SUMMARY:Advanced 3D Applications
CLASS:PUBLIC
DESCRIPTION:Veranstaltung: Advanced 3D Applications (BTI7546)\nDozierende: 
 Hudritsch [hsm4]\nRäume: N321\nCode: BTI7546a
X-ALT-DESC;FMTTYPE=text/html:Veranstaltung: Advanced 3D Applications (BTI75
 46)<br>Dozierende: Hudritsch [hsm4]<br>Räume: N321<br>Code: BTI7546a
DTSTAMP:20260424T215258Z
END:VEVENT
BEGIN:VEVENT
UID:69ebe63ac1570
DTSTART:20211111T151500Z
SEQUENCE:0
TRANSP:OPAQUE
DTEND:20211111T165000Z
LOCATION:N321
SUMMARY:Advanced 3D Applications
CLASS:PUBLIC
DESCRIPTION:Veranstaltung: Advanced 3D Applications (BTI7546)\nDozierende: 
 Hudritsch [hsm4]\nRäume: N321\nCode: BTI7546a
X-ALT-DESC;FMTTYPE=text/html:Veranstaltung: Advanced 3D Applications (BTI75
 46)<br>Dozierende: Hudritsch [hsm4]<br>Räume: N321<br>Code: BTI7546a
DTSTAMP:20260424T215258Z
END:VEVENT
BEGIN:VEVENT
UID:69ebe63ac1598
DTSTART:20211118T151500Z
SEQUENCE:0
TRANSP:OPAQUE
DTEND:20211118T165000Z
LOCATION:N321
SUMMARY:Advanced 3D Applications
CLASS:PUBLIC
DESCRIPTION:Veranstaltung: Advanced 3D Applications (BTI7546)\nDozierende: 
 Hudritsch [hsm4]\nRäume: N321\nCode: BTI7546a
X-ALT-DESC;FMTTYPE=text/html:Veranstaltung: Advanced 3D Applications (BTI75
 46)<br>Dozierende: Hudritsch [hsm4]<br>Räume: N321<br>Code: BTI7546a
DTSTAMP:20260424T215258Z
END:VEVENT
BEGIN:VEVENT
UID:69ebe63ac15be
DTSTART:20211125T151500Z
SEQUENCE:0
TRANSP:OPAQUE
DTEND:20211125T165000Z
LOCATION:N321
SUMMARY:Advanced 3D Applications
CLASS:PUBLIC
DESCRIPTION:Veranstaltung: Advanced 3D Applications (BTI7546)\nDozierende: 
 Hudritsch [hsm4]\nRäume: N321\nCode: BTI7546a
X-ALT-DESC;FMTTYPE=text/html:Veranstaltung: Advanced 3D Applications (BTI75
 46)<br>Dozierende: Hudritsch [hsm4]<br>Räume: N321<br>Code: BTI7546a
DTSTAMP:20260424T215258Z
END:VEVENT
BEGIN:VEVENT
UID:69ebe63ac15e6
DTSTART:20211202T151500Z
SEQUENCE:0
TRANSP:OPAQUE
DTEND:20211202T165000Z
LOCATION:N321
SUMMARY:Advanced 3D Applications
CLASS:PUBLIC
DESCRIPTION:Veranstaltung: Advanced 3D Applications (BTI7546)\nDozierende: 
 Hudritsch [hsm4]\nRäume: N321\nCode: BTI7546a
X-ALT-DESC;FMTTYPE=text/html:Veranstaltung: Advanced 3D Applications (BTI75
 46)<br>Dozierende: Hudritsch [hsm4]<br>Räume: N321<br>Code: BTI7546a
DTSTAMP:20260424T215258Z
END:VEVENT
BEGIN:VEVENT
UID:69ebe63ac160d
DTSTART:20211209T151500Z
SEQUENCE:0
TRANSP:OPAQUE
DTEND:20211209T165000Z
LOCATION:N321
SUMMARY:Advanced 3D Applications
CLASS:PUBLIC
DESCRIPTION:Veranstaltung: Advanced 3D Applications (BTI7546)\nDozierende: 
 Hudritsch [hsm4]\nRäume: N321\nCode: BTI7546a
X-ALT-DESC;FMTTYPE=text/html:Veranstaltung: Advanced 3D Applications (BTI75
 46)<br>Dozierende: Hudritsch [hsm4]<br>Räume: N321<br>Code: BTI7546a
DTSTAMP:20260424T215258Z
END:VEVENT
BEGIN:VEVENT
UID:69ebe63ac1636
DTSTART:20211216T151500Z
SEQUENCE:0
TRANSP:OPAQUE
DTEND:20211216T165000Z
LOCATION:N321
SUMMARY:Advanced 3D Applications
CLASS:PUBLIC
DESCRIPTION:Veranstaltung: Advanced 3D Applications (BTI7546)\nDozierende: 
 Hudritsch [hsm4]\nRäume: N321\nCode: BTI7546a
X-ALT-DESC;FMTTYPE=text/html:Veranstaltung: Advanced 3D Applications (BTI75
 46)<br>Dozierende: Hudritsch [hsm4]<br>Räume: N321<br>Code: BTI7546a
DTSTAMP:20260424T215258Z
END:VEVENT
BEGIN:VEVENT
UID:69ebe63ac165b
DTSTART:20211223T151500Z
SEQUENCE:0
TRANSP:OPAQUE
DTEND:20211223T165000Z
LOCATION:N321
SUMMARY:Advanced 3D Applications
CLASS:PUBLIC
DESCRIPTION:Veranstaltung: Advanced 3D Applications (BTI7546)\nDozierende: 
 Hudritsch [hsm4]\nRäume: N321\nCode: BTI7546a
X-ALT-DESC;FMTTYPE=text/html:Veranstaltung: Advanced 3D Applications (BTI75
 46)<br>Dozierende: Hudritsch [hsm4]<br>Räume: N321<br>Code: BTI7546a
DTSTAMP:20260424T215258Z
END:VEVENT
BEGIN:VEVENT
UID:69ebe63ac1685
DTSTART:20220113T151500Z
SEQUENCE:0
TRANSP:OPAQUE
DTEND:20220113T165000Z
LOCATION:N321
SUMMARY:Advanced 3D Applications
CLASS:PUBLIC
DESCRIPTION:Veranstaltung: Advanced 3D Applications (BTI7546)\nDozierende: 
 Hudritsch [hsm4]\nRäume: N321\nCode: BTI7546a
X-ALT-DESC;FMTTYPE=text/html:Veranstaltung: Advanced 3D Applications (BTI75
 46)<br>Dozierende: Hudritsch [hsm4]<br>Räume: N321<br>Code: BTI7546a
DTSTAMP:20260424T215258Z
END:VEVENT
BEGIN:VEVENT
UID:69ebe63ac16ac
DTSTART:20220120T151500Z
SEQUENCE:0
TRANSP:OPAQUE
DTEND:20220120T165000Z
LOCATION:N321
SUMMARY:Advanced 3D Applications
CLASS:PUBLIC
DESCRIPTION:Veranstaltung: Advanced 3D Applications (BTI7546)\nDozierende: 
 Hudritsch [hsm4]\nRäume: N321\nCode: BTI7546a
X-ALT-DESC;FMTTYPE=text/html:Veranstaltung: Advanced 3D Applications (BTI75
 46)<br>Dozierende: Hudritsch [hsm4]<br>Räume: N321<br>Code: BTI7546a
DTSTAMP:20260424T215258Z
END:VEVENT
BEGIN:VEVENT
UID:69ebe63ac16d5
DTSTART:20220922T141500Z
SEQUENCE:0
TRANSP:OPAQUE
DTEND:20220922T155000Z
LOCATION:Höhe-N311\, TI-Online
SUMMARY:Advanced 3D Applications
CLASS:PUBLIC
DESCRIPTION:Veranstaltung: Advanced 3D Applications (BTI7546)\nDozierende: 
 Hudritsch [hsm4]\nRäume: Höhe-N311\, TI-Online\nCode: BTI7546a
X-ALT-DESC;FMTTYPE=text/html:Veranstaltung: Advanced 3D Applications (BTI75
 46)<br>Dozierende: Hudritsch [hsm4]<br>Räume: Höhe-N311\, TI-Online<br>C
 ode: BTI7546a
DTSTAMP:20260424T215258Z
END:VEVENT
BEGIN:VEVENT
UID:69ebe63ac16fe
DTSTART:20220929T141500Z
SEQUENCE:0
TRANSP:OPAQUE
DTEND:20220929T155000Z
LOCATION:Höhe-N311\, TI-Online
SUMMARY:Advanced 3D Applications
CLASS:PUBLIC
DESCRIPTION:Veranstaltung: Advanced 3D Applications (BTI7546)\nDozierende: 
 Hudritsch [hsm4]\nRäume: Höhe-N311\, TI-Online\nCode: BTI7546a
X-ALT-DESC;FMTTYPE=text/html:Veranstaltung: Advanced 3D Applications (BTI75
 46)<br>Dozierende: Hudritsch [hsm4]<br>Räume: Höhe-N311\, TI-Online<br>C
 ode: BTI7546a
DTSTAMP:20260424T215258Z
END:VEVENT
BEGIN:VEVENT
UID:69ebe63ac1726
DTSTART:20221006T141500Z
SEQUENCE:0
TRANSP:OPAQUE
DTEND:20221006T155000Z
LOCATION:Höhe-N311\, TI-Online
SUMMARY:Advanced 3D Applications
CLASS:PUBLIC
DESCRIPTION:Veranstaltung: Advanced 3D Applications (BTI7546)\nDozierende: 
 Hudritsch [hsm4]\nRäume: Höhe-N311\, TI-Online\nCode: BTI7546a
X-ALT-DESC;FMTTYPE=text/html:Veranstaltung: Advanced 3D Applications (BTI75
 46)<br>Dozierende: Hudritsch [hsm4]<br>Räume: Höhe-N311\, TI-Online<br>C
 ode: BTI7546a
DTSTAMP:20260424T215258Z
END:VEVENT
BEGIN:VEVENT
UID:69ebe63ac174d
DTSTART:20221013T141500Z
SEQUENCE:0
TRANSP:OPAQUE
DTEND:20221013T155000Z
LOCATION:Höhe-N311\, TI-Online
SUMMARY:Advanced 3D Applications
CLASS:PUBLIC
DESCRIPTION:Veranstaltung: Advanced 3D Applications (BTI7546)\nDozierende: 
 Hudritsch [hsm4]\nRäume: Höhe-N311\, TI-Online\nCode: BTI7546a
X-ALT-DESC;FMTTYPE=text/html:Veranstaltung: Advanced 3D Applications (BTI75
 46)<br>Dozierende: Hudritsch [hsm4]<br>Räume: Höhe-N311\, TI-Online<br>C
 ode: BTI7546a
DTSTAMP:20260424T215258Z
END:VEVENT
BEGIN:VEVENT
UID:69ebe63ac1775
DTSTART:20221020T141500Z
SEQUENCE:0
TRANSP:OPAQUE
DTEND:20221020T155000Z
LOCATION:Höhe-N311\, TI-Online
SUMMARY:Advanced 3D Applications
CLASS:PUBLIC
DESCRIPTION:Veranstaltung: Advanced 3D Applications (BTI7546)\nDozierende: 
 Hudritsch [hsm4]\nRäume: Höhe-N311\, TI-Online\nCode: BTI7546a
X-ALT-DESC;FMTTYPE=text/html:Veranstaltung: Advanced 3D Applications (BTI75
 46)<br>Dozierende: Hudritsch [hsm4]<br>Räume: Höhe-N311\, TI-Online<br>C
 ode: BTI7546a
DTSTAMP:20260424T215258Z
END:VEVENT
BEGIN:VEVENT
UID:69ebe63ac179a
DTSTART:20221027T141500Z
SEQUENCE:0
TRANSP:OPAQUE
DTEND:20221027T155000Z
LOCATION:Höhe-N311\, TI-Online
SUMMARY:Advanced 3D Applications
CLASS:PUBLIC
DESCRIPTION:Veranstaltung: Advanced 3D Applications (BTI7546)\nDozierende: 
 Hudritsch [hsm4]\nRäume: Höhe-N311\, TI-Online\nCode: BTI7546a
X-ALT-DESC;FMTTYPE=text/html:Veranstaltung: Advanced 3D Applications (BTI75
 46)<br>Dozierende: Hudritsch [hsm4]<br>Räume: Höhe-N311\, TI-Online<br>C
 ode: BTI7546a
DTSTAMP:20260424T215258Z
END:VEVENT
BEGIN:VEVENT
UID:69ebe63ac17c1
DTSTART:20221103T151500Z
SEQUENCE:0
TRANSP:OPAQUE
DTEND:20221103T165000Z
LOCATION:Höhe-N311\, TI-Online
SUMMARY:Advanced 3D Applications
CLASS:PUBLIC
DESCRIPTION:Veranstaltung: Advanced 3D Applications (BTI7546)\nDozierende: 
 Hudritsch [hsm4]\nRäume: Höhe-N311\, TI-Online\nCode: BTI7546a
X-ALT-DESC;FMTTYPE=text/html:Veranstaltung: Advanced 3D Applications (BTI75
 46)<br>Dozierende: Hudritsch [hsm4]<br>Räume: Höhe-N311\, TI-Online<br>C
 ode: BTI7546a
DTSTAMP:20260424T215258Z
END:VEVENT
BEGIN:VEVENT
UID:69ebe63ac17e7
DTSTART:20221110T151500Z
SEQUENCE:0
TRANSP:OPAQUE
DTEND:20221110T165000Z
LOCATION:Höhe-N311\, TI-Online
SUMMARY:Advanced 3D Applications
CLASS:PUBLIC
DESCRIPTION:Veranstaltung: Advanced 3D Applications (BTI7546)\nDozierende: 
 Hudritsch [hsm4]\nRäume: Höhe-N311\, TI-Online\nCode: BTI7546a
X-ALT-DESC;FMTTYPE=text/html:Veranstaltung: Advanced 3D Applications (BTI75
 46)<br>Dozierende: Hudritsch [hsm4]<br>Räume: Höhe-N311\, TI-Online<br>C
 ode: BTI7546a
DTSTAMP:20260424T215258Z
END:VEVENT
BEGIN:VEVENT
UID:69ebe63ac180f
DTSTART:20221117T151500Z
SEQUENCE:0
TRANSP:OPAQUE
DTEND:20221117T165000Z
LOCATION:Höhe-N311\, TI-Online
SUMMARY:Advanced 3D Applications
CLASS:PUBLIC
DESCRIPTION:Veranstaltung: Advanced 3D Applications (BTI7546)\nDozierende: 
 Hudritsch [hsm4]\nRäume: Höhe-N311\, TI-Online\nCode: BTI7546a
X-ALT-DESC;FMTTYPE=text/html:Veranstaltung: Advanced 3D Applications (BTI75
 46)<br>Dozierende: Hudritsch [hsm4]<br>Räume: Höhe-N311\, TI-Online<br>C
 ode: BTI7546a
DTSTAMP:20260424T215258Z
END:VEVENT
BEGIN:VEVENT
UID:69ebe63ac1836
DTSTART:20221124T151500Z
SEQUENCE:0
TRANSP:OPAQUE
DTEND:20221124T165000Z
LOCATION:Höhe-N311\, TI-Online
SUMMARY:Advanced 3D Applications
CLASS:PUBLIC
DESCRIPTION:Veranstaltung: Advanced 3D Applications (BTI7546)\nDozierende: 
 Hudritsch [hsm4]\nRäume: Höhe-N311\, TI-Online\nCode: BTI7546a
X-ALT-DESC;FMTTYPE=text/html:Veranstaltung: Advanced 3D Applications (BTI75
 46)<br>Dozierende: Hudritsch [hsm4]<br>Räume: Höhe-N311\, TI-Online<br>C
 ode: BTI7546a
DTSTAMP:20260424T215258Z
END:VEVENT
BEGIN:VEVENT
UID:69ebe63ac185e
DTSTART:20221201T151500Z
SEQUENCE:0
TRANSP:OPAQUE
DTEND:20221201T165000Z
LOCATION:Höhe-N311\, TI-Online
SUMMARY:Advanced 3D Applications
CLASS:PUBLIC
DESCRIPTION:Veranstaltung: Advanced 3D Applications (BTI7546)\nDozierende: 
 Hudritsch [hsm4]\nRäume: Höhe-N311\, TI-Online\nCode: BTI7546a
X-ALT-DESC;FMTTYPE=text/html:Veranstaltung: Advanced 3D Applications (BTI75
 46)<br>Dozierende: Hudritsch [hsm4]<br>Räume: Höhe-N311\, TI-Online<br>C
 ode: BTI7546a
DTSTAMP:20260424T215258Z
END:VEVENT
BEGIN:VEVENT
UID:69ebe63ac1886
DTSTART:20221208T151500Z
SEQUENCE:0
TRANSP:OPAQUE
DTEND:20221208T165000Z
LOCATION:Höhe-N311\, TI-Online
SUMMARY:Advanced 3D Applications
CLASS:PUBLIC
DESCRIPTION:Veranstaltung: Advanced 3D Applications (BTI7546)\nDozierende: 
 Hudritsch [hsm4]\nRäume: Höhe-N311\, TI-Online\nCode: BTI7546a
X-ALT-DESC;FMTTYPE=text/html:Veranstaltung: Advanced 3D Applications (BTI75
 46)<br>Dozierende: Hudritsch [hsm4]<br>Räume: Höhe-N311\, TI-Online<br>C
 ode: BTI7546a
DTSTAMP:20260424T215258Z
END:VEVENT
BEGIN:VEVENT
UID:69ebe63ac18ae
DTSTART:20221215T151500Z
SEQUENCE:0
TRANSP:OPAQUE
DTEND:20221215T165000Z
LOCATION:Höhe-N311\, TI-Online
SUMMARY:Advanced 3D Applications
CLASS:PUBLIC
DESCRIPTION:Veranstaltung: Advanced 3D Applications (BTI7546)\nDozierende: 
 Hudritsch [hsm4]\nRäume: Höhe-N311\, TI-Online\nCode: BTI7546a
X-ALT-DESC;FMTTYPE=text/html:Veranstaltung: Advanced 3D Applications (BTI75
 46)<br>Dozierende: Hudritsch [hsm4]<br>Räume: Höhe-N311\, TI-Online<br>C
 ode: BTI7546a
DTSTAMP:20260424T215258Z
END:VEVENT
BEGIN:VEVENT
UID:69ebe63ac18d5
DTSTART:20221222T151500Z
SEQUENCE:0
TRANSP:OPAQUE
DTEND:20221222T165000Z
LOCATION:Höhe-N311\, TI-Online
SUMMARY:Advanced 3D Applications
CLASS:PUBLIC
DESCRIPTION:Veranstaltung: Advanced 3D Applications (BTI7546)\nDozierende: 
 Hudritsch [hsm4]\nRäume: Höhe-N311\, TI-Online\nCode: BTI7546a
X-ALT-DESC;FMTTYPE=text/html:Veranstaltung: Advanced 3D Applications (BTI75
 46)<br>Dozierende: Hudritsch [hsm4]<br>Räume: Höhe-N311\, TI-Online<br>C
 ode: BTI7546a
DTSTAMP:20260424T215258Z
END:VEVENT
BEGIN:VEVENT
UID:69ebe63ac18fb
DTSTART:20230112T151500Z
SEQUENCE:0
TRANSP:OPAQUE
DTEND:20230112T165000Z
LOCATION:Höhe-N311\, TI-Online
SUMMARY:Advanced 3D Applications
CLASS:PUBLIC
DESCRIPTION:Veranstaltung: Advanced 3D Applications (BTI7546)\nDozierende: 
 Hudritsch [hsm4]\nRäume: Höhe-N311\, TI-Online\nCode: BTI7546a
X-ALT-DESC;FMTTYPE=text/html:Veranstaltung: Advanced 3D Applications (BTI75
 46)<br>Dozierende: Hudritsch [hsm4]<br>Räume: Höhe-N311\, TI-Online<br>C
 ode: BTI7546a
DTSTAMP:20260424T215258Z
END:VEVENT
BEGIN:VEVENT
UID:69ebe63ac1921
DTSTART:20230119T151500Z
SEQUENCE:0
TRANSP:OPAQUE
DTEND:20230119T165000Z
LOCATION:Höhe-N311\, TI-Online
SUMMARY:Advanced 3D Applications
CLASS:PUBLIC
DESCRIPTION:Veranstaltung: Advanced 3D Applications (BTI7546)\nDozierende: 
 Hudritsch [hsm4]\nRäume: Höhe-N311\, TI-Online\nCode: BTI7546a
X-ALT-DESC;FMTTYPE=text/html:Veranstaltung: Advanced 3D Applications (BTI75
 46)<br>Dozierende: Hudritsch [hsm4]<br>Räume: Höhe-N311\, TI-Online<br>C
 ode: BTI7546a
DTSTAMP:20260424T215258Z
END:VEVENT
BEGIN:VEVENT
UID:69ebe63ac1949
DTSTART:20280921T141500Z
SEQUENCE:0
TRANSP:OPAQUE
DTEND:20280921T155000Z
LOCATION:CBB-N311\, TI-Online
SUMMARY:Advanced 3D Applications
CLASS:PUBLIC
DESCRIPTION:Veranstaltung: Advanced 3D Applications (BTI7546)\nDozierende: 
 Hudritsch [hsm4]\nRäume: CBB-N311\, TI-Online\nCode: BTI7546a
X-ALT-DESC;FMTTYPE=text/html:Veranstaltung: Advanced 3D Applications (BTI75
 46)<br>Dozierende: Hudritsch [hsm4]<br>Räume: CBB-N311\, TI-Online<br>Cod
 e: BTI7546a
DTSTAMP:20260424T215258Z
END:VEVENT
END:VCALENDAR