BEGIN:VCALENDAR
VERSION:2.0
PRODID:www.bfh.ch
X-APPLE-CALENDAR-COLOR:Orange
X-OUTLOOK-COLOR:Orange
X-FUNAMBOL-COLOR:Orange
X-WR-CALNAME:Übersicht BTM1352
BEGIN:VEVENT
UID:69ebf40a94096
DTSTART:20220222T151500Z
SEQUENCE:0
TRANSP:OPAQUE
DTEND:20220222T165000Z
LOCATION:T134
SUMMARY:Elektrische Antriebe
CLASS:PUBLIC
DESCRIPTION:Veranstaltung: Elektrische Antriebe (BTM1352)\nDozierende: Fisc
 her [fhr3]\nRäume: T134\nCode: BTM1352c
X-ALT-DESC;FMTTYPE=text/html:Veranstaltung: Elektrische Antriebe (BTM1352)<
 br>Dozierende: Fischer [fhr3]<br>Räume: T134<br>Code: BTM1352c
DTSTAMP:20260424T225154Z
END:VEVENT
BEGIN:VEVENT
UID:69ebf40a94159
DTSTART:20220224T114500Z
SEQUENCE:0
TRANSP:OPAQUE
DTEND:20220224T132000Z
LOCATION:T134
SUMMARY:Elektrische Antriebe
CLASS:PUBLIC
DESCRIPTION:Veranstaltung: Elektrische Antriebe (BTM1352)\nDozierende: Fisc
 her [fhr3]\nRäume: T134\nCode: BTM1352a
X-ALT-DESC;FMTTYPE=text/html:Veranstaltung: Elektrische Antriebe (BTM1352)<
 br>Dozierende: Fischer [fhr3]<br>Räume: T134<br>Code: BTM1352a
DTSTAMP:20260424T225154Z
END:VEVENT
BEGIN:VEVENT
UID:69ebf40a9419d
DTSTART:20220301T151500Z
SEQUENCE:0
TRANSP:OPAQUE
DTEND:20220301T165000Z
LOCATION:T134
SUMMARY:Elektrische Antriebe
CLASS:PUBLIC
DESCRIPTION:Veranstaltung: Elektrische Antriebe (BTM1352)\nDozierende: Fisc
 her [fhr3]\nRäume: T134\nCode: BTM1352c
X-ALT-DESC;FMTTYPE=text/html:Veranstaltung: Elektrische Antriebe (BTM1352)<
 br>Dozierende: Fischer [fhr3]<br>Räume: T134<br>Code: BTM1352c
DTSTAMP:20260424T225154Z
END:VEVENT
BEGIN:VEVENT
UID:69ebf40a941c8
DTSTART:20220303T114500Z
SEQUENCE:0
TRANSP:OPAQUE
DTEND:20220303T132000Z
LOCATION:T134
SUMMARY:Elektrische Antriebe
CLASS:PUBLIC
DESCRIPTION:Veranstaltung: Elektrische Antriebe (BTM1352)\nDozierende: Fisc
 her [fhr3]\nRäume: T134\nCode: BTM1352a
X-ALT-DESC;FMTTYPE=text/html:Veranstaltung: Elektrische Antriebe (BTM1352)<
 br>Dozierende: Fischer [fhr3]<br>Räume: T134<br>Code: BTM1352a
DTSTAMP:20260424T225154Z
END:VEVENT
BEGIN:VEVENT
UID:69ebf40a941f2
DTSTART:20220308T151500Z
SEQUENCE:0
TRANSP:OPAQUE
DTEND:20220308T165000Z
LOCATION:T134
SUMMARY:Elektrische Antriebe
CLASS:PUBLIC
DESCRIPTION:Veranstaltung: Elektrische Antriebe (BTM1352)\nDozierende: Fisc
 her [fhr3]\nRäume: T134\nCode: BTM1352c
X-ALT-DESC;FMTTYPE=text/html:Veranstaltung: Elektrische Antriebe (BTM1352)<
 br>Dozierende: Fischer [fhr3]<br>Räume: T134<br>Code: BTM1352c
DTSTAMP:20260424T225154Z
END:VEVENT
BEGIN:VEVENT
UID:69ebf40a9421b
DTSTART:20220310T114500Z
SEQUENCE:0
TRANSP:OPAQUE
DTEND:20220310T132000Z
LOCATION:T134
SUMMARY:Elektrische Antriebe
CLASS:PUBLIC
DESCRIPTION:Veranstaltung: Elektrische Antriebe (BTM1352)\nDozierende: Fisc
 her [fhr3]\nRäume: T134\nCode: BTM1352a
X-ALT-DESC;FMTTYPE=text/html:Veranstaltung: Elektrische Antriebe (BTM1352)<
 br>Dozierende: Fischer [fhr3]<br>Räume: T134<br>Code: BTM1352a
DTSTAMP:20260424T225154Z
END:VEVENT
BEGIN:VEVENT
UID:69ebf40a94243
DTSTART:20220315T151500Z
SEQUENCE:0
TRANSP:OPAQUE
DTEND:20220315T165000Z
LOCATION:T134
SUMMARY:Elektrische Antriebe
CLASS:PUBLIC
DESCRIPTION:Veranstaltung: Elektrische Antriebe (BTM1352)\nDozierende: Fisc
 her [fhr3]\nRäume: T134\nCode: BTM1352c
X-ALT-DESC;FMTTYPE=text/html:Veranstaltung: Elektrische Antriebe (BTM1352)<
 br>Dozierende: Fischer [fhr3]<br>Räume: T134<br>Code: BTM1352c
DTSTAMP:20260424T225154Z
END:VEVENT
BEGIN:VEVENT
UID:69ebf40a9426b
DTSTART:20220317T114500Z
SEQUENCE:0
TRANSP:OPAQUE
DTEND:20220317T132000Z
LOCATION:T134
SUMMARY:Elektrische Antriebe
CLASS:PUBLIC
DESCRIPTION:Veranstaltung: Elektrische Antriebe (BTM1352)\nDozierende: Fisc
 her [fhr3]\nRäume: T134\nCode: BTM1352a
X-ALT-DESC;FMTTYPE=text/html:Veranstaltung: Elektrische Antriebe (BTM1352)<
 br>Dozierende: Fischer [fhr3]<br>Räume: T134<br>Code: BTM1352a
DTSTAMP:20260424T225154Z
END:VEVENT
BEGIN:VEVENT
UID:69ebf40a94294
DTSTART:20220322T151500Z
SEQUENCE:0
TRANSP:OPAQUE
DTEND:20220322T165000Z
LOCATION:T134
SUMMARY:Elektrische Antriebe
CLASS:PUBLIC
DESCRIPTION:Veranstaltung: Elektrische Antriebe (BTM1352)\nDozierende: Fisc
 her [fhr3]\nRäume: T134\nCode: BTM1352c
X-ALT-DESC;FMTTYPE=text/html:Veranstaltung: Elektrische Antriebe (BTM1352)<
 br>Dozierende: Fischer [fhr3]<br>Räume: T134<br>Code: BTM1352c
DTSTAMP:20260424T225154Z
END:VEVENT
BEGIN:VEVENT
UID:69ebf40a942bb
DTSTART:20220324T114500Z
SEQUENCE:0
TRANSP:OPAQUE
DTEND:20220324T132000Z
LOCATION:T134
SUMMARY:Elektrische Antriebe
CLASS:PUBLIC
DESCRIPTION:Veranstaltung: Elektrische Antriebe (BTM1352)\nDozierende: Fisc
 her [fhr3]\nRäume: T134\nCode: BTM1352a
X-ALT-DESC;FMTTYPE=text/html:Veranstaltung: Elektrische Antriebe (BTM1352)<
 br>Dozierende: Fischer [fhr3]<br>Räume: T134<br>Code: BTM1352a
DTSTAMP:20260424T225154Z
END:VEVENT
BEGIN:VEVENT
UID:69ebf40a942e2
DTSTART:20220329T141500Z
SEQUENCE:0
TRANSP:OPAQUE
DTEND:20220329T155000Z
LOCATION:T134
SUMMARY:Elektrische Antriebe
CLASS:PUBLIC
DESCRIPTION:Veranstaltung: Elektrische Antriebe (BTM1352)\nDozierende: Fisc
 her [fhr3]\nRäume: T134\nCode: BTM1352c
X-ALT-DESC;FMTTYPE=text/html:Veranstaltung: Elektrische Antriebe (BTM1352)<
 br>Dozierende: Fischer [fhr3]<br>Räume: T134<br>Code: BTM1352c
DTSTAMP:20260424T225154Z
END:VEVENT
BEGIN:VEVENT
UID:69ebf40a94308
DTSTART:20220331T104500Z
SEQUENCE:0
TRANSP:OPAQUE
DTEND:20220331T122000Z
LOCATION:T134
SUMMARY:Elektrische Antriebe
CLASS:PUBLIC
DESCRIPTION:Veranstaltung: Elektrische Antriebe (BTM1352)\nDozierende: Fisc
 her [fhr3]\nRäume: T134\nCode: BTM1352a
X-ALT-DESC;FMTTYPE=text/html:Veranstaltung: Elektrische Antriebe (BTM1352)<
 br>Dozierende: Fischer [fhr3]<br>Räume: T134<br>Code: BTM1352a
DTSTAMP:20260424T225154Z
END:VEVENT
BEGIN:VEVENT
UID:69ebf40a9432f
DTSTART:20220405T141500Z
SEQUENCE:0
TRANSP:OPAQUE
DTEND:20220405T155000Z
LOCATION:T134
SUMMARY:Elektrische Antriebe
CLASS:PUBLIC
DESCRIPTION:Veranstaltung: Elektrische Antriebe (BTM1352)\nDozierende: Fisc
 her [fhr3]\nRäume: T134\nCode: BTM1352c
X-ALT-DESC;FMTTYPE=text/html:Veranstaltung: Elektrische Antriebe (BTM1352)<
 br>Dozierende: Fischer [fhr3]<br>Räume: T134<br>Code: BTM1352c
DTSTAMP:20260424T225154Z
END:VEVENT
BEGIN:VEVENT
UID:69ebf40a94358
DTSTART:20220407T104500Z
SEQUENCE:0
TRANSP:OPAQUE
DTEND:20220407T122000Z
LOCATION:T134
SUMMARY:Elektrische Antriebe
CLASS:PUBLIC
DESCRIPTION:Veranstaltung: Elektrische Antriebe (BTM1352)\nDozierende: Fisc
 her [fhr3]\nRäume: T134\nCode: BTM1352a
X-ALT-DESC;FMTTYPE=text/html:Veranstaltung: Elektrische Antriebe (BTM1352)<
 br>Dozierende: Fischer [fhr3]<br>Räume: T134<br>Code: BTM1352a
DTSTAMP:20260424T225154Z
END:VEVENT
BEGIN:VEVENT
UID:69ebf40a94380
DTSTART:20220419T141500Z
SEQUENCE:0
TRANSP:OPAQUE
DTEND:20220419T155000Z
LOCATION:T134
SUMMARY:Elektrische Antriebe
CLASS:PUBLIC
DESCRIPTION:Veranstaltung: Elektrische Antriebe (BTM1352)\nDozierende: Fisc
 her [fhr3]\nRäume: T134\nCode: BTM1352c
X-ALT-DESC;FMTTYPE=text/html:Veranstaltung: Elektrische Antriebe (BTM1352)<
 br>Dozierende: Fischer [fhr3]<br>Räume: T134<br>Code: BTM1352c
DTSTAMP:20260424T225154Z
END:VEVENT
BEGIN:VEVENT
UID:69ebf40a943a9
DTSTART:20220421T104500Z
SEQUENCE:0
TRANSP:OPAQUE
DTEND:20220421T122000Z
LOCATION:T134
SUMMARY:Elektrische Antriebe
CLASS:PUBLIC
DESCRIPTION:Veranstaltung: Elektrische Antriebe (BTM1352)\nDozierende: Fisc
 her [fhr3]\nRäume: T134\nCode: BTM1352a
X-ALT-DESC;FMTTYPE=text/html:Veranstaltung: Elektrische Antriebe (BTM1352)<
 br>Dozierende: Fischer [fhr3]<br>Räume: T134<br>Code: BTM1352a
DTSTAMP:20260424T225154Z
END:VEVENT
BEGIN:VEVENT
UID:69ebf40a943d1
DTSTART:20220426T141500Z
SEQUENCE:0
TRANSP:OPAQUE
DTEND:20220426T155000Z
LOCATION:T134
SUMMARY:Elektrische Antriebe
CLASS:PUBLIC
DESCRIPTION:Veranstaltung: Elektrische Antriebe (BTM1352)\nDozierende: Fisc
 her [fhr3]\nRäume: T134\nCode: BTM1352c
X-ALT-DESC;FMTTYPE=text/html:Veranstaltung: Elektrische Antriebe (BTM1352)<
 br>Dozierende: Fischer [fhr3]<br>Räume: T134<br>Code: BTM1352c
DTSTAMP:20260424T225154Z
END:VEVENT
BEGIN:VEVENT
UID:69ebf40a943fb
DTSTART:20220428T104500Z
SEQUENCE:0
TRANSP:OPAQUE
DTEND:20220428T122000Z
LOCATION:T134
SUMMARY:Elektrische Antriebe
CLASS:PUBLIC
DESCRIPTION:Veranstaltung: Elektrische Antriebe (BTM1352)\nDozierende: Fisc
 her [fhr3]\nRäume: T134\nCode: BTM1352a
X-ALT-DESC;FMTTYPE=text/html:Veranstaltung: Elektrische Antriebe (BTM1352)<
 br>Dozierende: Fischer [fhr3]<br>Räume: T134<br>Code: BTM1352a
DTSTAMP:20260424T225154Z
END:VEVENT
BEGIN:VEVENT
UID:69ebf40a94425
DTSTART:20220503T141500Z
SEQUENCE:0
TRANSP:OPAQUE
DTEND:20220503T155000Z
LOCATION:T134
SUMMARY:Elektrische Antriebe
CLASS:PUBLIC
DESCRIPTION:Veranstaltung: Elektrische Antriebe (BTM1352)\nDozierende: Fisc
 her [fhr3]\nRäume: T134\nCode: BTM1352c
X-ALT-DESC;FMTTYPE=text/html:Veranstaltung: Elektrische Antriebe (BTM1352)<
 br>Dozierende: Fischer [fhr3]<br>Räume: T134<br>Code: BTM1352c
DTSTAMP:20260424T225154Z
END:VEVENT
BEGIN:VEVENT
UID:69ebf40a9444c
DTSTART:20220505T104500Z
SEQUENCE:0
TRANSP:OPAQUE
DTEND:20220505T122000Z
LOCATION:T134
SUMMARY:Elektrische Antriebe
CLASS:PUBLIC
DESCRIPTION:Veranstaltung: Elektrische Antriebe (BTM1352)\nDozierende: Fisc
 her [fhr3]\nRäume: T134\nCode: BTM1352a
X-ALT-DESC;FMTTYPE=text/html:Veranstaltung: Elektrische Antriebe (BTM1352)<
 br>Dozierende: Fischer [fhr3]<br>Räume: T134<br>Code: BTM1352a
DTSTAMP:20260424T225154Z
END:VEVENT
BEGIN:VEVENT
UID:69ebf40a94474
DTSTART:20220510T141500Z
SEQUENCE:0
TRANSP:OPAQUE
DTEND:20220510T155000Z
LOCATION:T134
SUMMARY:Elektrische Antriebe
CLASS:PUBLIC
DESCRIPTION:Veranstaltung: Elektrische Antriebe (BTM1352)\nDozierende: Fisc
 her [fhr3]\nRäume: T134\nCode: BTM1352c
X-ALT-DESC;FMTTYPE=text/html:Veranstaltung: Elektrische Antriebe (BTM1352)<
 br>Dozierende: Fischer [fhr3]<br>Räume: T134<br>Code: BTM1352c
DTSTAMP:20260424T225154Z
END:VEVENT
BEGIN:VEVENT
UID:69ebf40a94499
DTSTART:20220512T104500Z
SEQUENCE:0
TRANSP:OPAQUE
DTEND:20220512T122000Z
LOCATION:T134
SUMMARY:Elektrische Antriebe
CLASS:PUBLIC
DESCRIPTION:Veranstaltung: Elektrische Antriebe (BTM1352)\nDozierende: Fisc
 her [fhr3]\nRäume: T134\nCode: BTM1352a
X-ALT-DESC;FMTTYPE=text/html:Veranstaltung: Elektrische Antriebe (BTM1352)<
 br>Dozierende: Fischer [fhr3]<br>Räume: T134<br>Code: BTM1352a
DTSTAMP:20260424T225154Z
END:VEVENT
BEGIN:VEVENT
UID:69ebf40a944c1
DTSTART:20220517T141500Z
SEQUENCE:0
TRANSP:OPAQUE
DTEND:20220517T155000Z
LOCATION:T134
SUMMARY:Elektrische Antriebe
CLASS:PUBLIC
DESCRIPTION:Veranstaltung: Elektrische Antriebe (BTM1352)\nDozierende: Fisc
 her [fhr3]\nRäume: T134\nCode: BTM1352c
X-ALT-DESC;FMTTYPE=text/html:Veranstaltung: Elektrische Antriebe (BTM1352)<
 br>Dozierende: Fischer [fhr3]<br>Räume: T134<br>Code: BTM1352c
DTSTAMP:20260424T225154Z
END:VEVENT
BEGIN:VEVENT
UID:69ebf40a944e8
DTSTART:20220519T104500Z
SEQUENCE:0
TRANSP:OPAQUE
DTEND:20220519T122000Z
LOCATION:T134
SUMMARY:Elektrische Antriebe
CLASS:PUBLIC
DESCRIPTION:Veranstaltung: Elektrische Antriebe (BTM1352)\nDozierende: Fisc
 her [fhr3]\nRäume: T134\nCode: BTM1352a
X-ALT-DESC;FMTTYPE=text/html:Veranstaltung: Elektrische Antriebe (BTM1352)<
 br>Dozierende: Fischer [fhr3]<br>Räume: T134<br>Code: BTM1352a
DTSTAMP:20260424T225154Z
END:VEVENT
BEGIN:VEVENT
UID:69ebf40a94510
DTSTART:20220524T141500Z
SEQUENCE:0
TRANSP:OPAQUE
DTEND:20220524T155000Z
LOCATION:T134
SUMMARY:Elektrische Antriebe
CLASS:PUBLIC
DESCRIPTION:Veranstaltung: Elektrische Antriebe (BTM1352)\nDozierende: Fisc
 her [fhr3]\nRäume: T134\nCode: BTM1352c
X-ALT-DESC;FMTTYPE=text/html:Veranstaltung: Elektrische Antriebe (BTM1352)<
 br>Dozierende: Fischer [fhr3]<br>Räume: T134<br>Code: BTM1352c
DTSTAMP:20260424T225154Z
END:VEVENT
BEGIN:VEVENT
UID:69ebf40a94538
DTSTART:20220531T141500Z
SEQUENCE:0
TRANSP:OPAQUE
DTEND:20220531T155000Z
LOCATION:T134
SUMMARY:Elektrische Antriebe
CLASS:PUBLIC
DESCRIPTION:Veranstaltung: Elektrische Antriebe (BTM1352)\nDozierende: Fisc
 her [fhr3]\nRäume: T134\nCode: BTM1352c
X-ALT-DESC;FMTTYPE=text/html:Veranstaltung: Elektrische Antriebe (BTM1352)<
 br>Dozierende: Fischer [fhr3]<br>Räume: T134<br>Code: BTM1352c
DTSTAMP:20260424T225154Z
END:VEVENT
BEGIN:VEVENT
UID:69ebf40a94561
DTSTART:20220602T104500Z
SEQUENCE:0
TRANSP:OPAQUE
DTEND:20220602T122000Z
LOCATION:T134
SUMMARY:Elektrische Antriebe
CLASS:PUBLIC
DESCRIPTION:Veranstaltung: Elektrische Antriebe (BTM1352)\nDozierende: Fisc
 her [fhr3]\nRäume: T134\nCode: BTM1352a
X-ALT-DESC;FMTTYPE=text/html:Veranstaltung: Elektrische Antriebe (BTM1352)<
 br>Dozierende: Fischer [fhr3]<br>Räume: T134<br>Code: BTM1352a
DTSTAMP:20260424T225154Z
END:VEVENT
BEGIN:VEVENT
UID:69ebf40a94589
DTSTART:20220607T141500Z
SEQUENCE:0
TRANSP:OPAQUE
DTEND:20220607T155000Z
LOCATION:T134
SUMMARY:Elektrische Antriebe
CLASS:PUBLIC
DESCRIPTION:Veranstaltung: Elektrische Antriebe (BTM1352)\nDozierende: Fisc
 her [fhr3]\nRäume: T134\nCode: BTM1352c
X-ALT-DESC;FMTTYPE=text/html:Veranstaltung: Elektrische Antriebe (BTM1352)<
 br>Dozierende: Fischer [fhr3]<br>Räume: T134<br>Code: BTM1352c
DTSTAMP:20260424T225154Z
END:VEVENT
BEGIN:VEVENT
UID:69ebf40a945b0
DTSTART:20220609T104500Z
SEQUENCE:0
TRANSP:OPAQUE
DTEND:20220609T122000Z
LOCATION:T134
SUMMARY:Elektrische Antriebe
CLASS:PUBLIC
DESCRIPTION:Veranstaltung: Elektrische Antriebe (BTM1352)\nDozierende: Fisc
 her [fhr3]\nRäume: T134\nCode: BTM1352a
X-ALT-DESC;FMTTYPE=text/html:Veranstaltung: Elektrische Antriebe (BTM1352)<
 br>Dozierende: Fischer [fhr3]<br>Räume: T134<br>Code: BTM1352a
DTSTAMP:20260424T225154Z
END:VEVENT
BEGIN:VEVENT
UID:69ebf40a945d8
DTSTART:20220614T141500Z
SEQUENCE:0
TRANSP:OPAQUE
DTEND:20220614T155000Z
LOCATION:T134
SUMMARY:Elektrische Antriebe
CLASS:PUBLIC
DESCRIPTION:Veranstaltung: Elektrische Antriebe (BTM1352)\nDozierende: Fisc
 her [fhr3]\nRäume: T134\nCode: BTM1352c
X-ALT-DESC;FMTTYPE=text/html:Veranstaltung: Elektrische Antriebe (BTM1352)<
 br>Dozierende: Fischer [fhr3]<br>Räume: T134<br>Code: BTM1352c
DTSTAMP:20260424T225154Z
END:VEVENT
BEGIN:VEVENT
UID:69ebf40a94601
DTSTART:20220616T104500Z
SEQUENCE:0
TRANSP:OPAQUE
DTEND:20220616T122000Z
LOCATION:T134
SUMMARY:Elektrische Antriebe
CLASS:PUBLIC
DESCRIPTION:Veranstaltung: Elektrische Antriebe (BTM1352)\nDozierende: Fisc
 her [fhr3]\nRäume: T134\nCode: BTM1352a
X-ALT-DESC;FMTTYPE=text/html:Veranstaltung: Elektrische Antriebe (BTM1352)<
 br>Dozierende: Fischer [fhr3]<br>Räume: T134<br>Code: BTM1352a
DTSTAMP:20260424T225154Z
END:VEVENT
END:VCALENDAR