BEGIN:VCALENDAR
VERSION:2.0
PRODID:www.bfh.ch
X-APPLE-CALENDAR-COLOR:Orange
X-OUTLOOK-COLOR:Orange
X-FUNAMBOL-COLOR:Orange
X-WR-CALNAME:Übersicht BTM1360
BEGIN:VEVENT
UID:69ebaf2c8ed23
DTSTART:20220222T092000Z
SEQUENCE:0
TRANSP:OPAQUE
DTEND:20220222T105500Z
LOCATION:T134
SUMMARY:Digitale Elektronik
CLASS:PUBLIC
DESCRIPTION:Veranstaltung: Digitale Elektronik (BTM1360)\nDozierende: Fisch
 er [fhr3]\nRäume: T134\nCode: BTM1360a
X-ALT-DESC;FMTTYPE=text/html:Veranstaltung: Digitale Elektronik (BTM1360)<b
 r>Dozierende: Fischer [fhr3]<br>Räume: T134<br>Code: BTM1360a
DTSTAMP:20260424T175804Z
END:VEVENT
BEGIN:VEVENT
UID:69ebaf2c8edf7
DTSTART:20220223T151500Z
SEQUENCE:0
TRANSP:OPAQUE
DTEND:20220223T165000Z
LOCATION:E216
SUMMARY:Digitale Elektronik
CLASS:PUBLIC
DESCRIPTION:Veranstaltung: Digitale Elektronik (BTM1360)\nDozierende: Fisch
 er [fhr3]\nRäume: E216\nCode: BTM1360c
X-ALT-DESC;FMTTYPE=text/html:Veranstaltung: Digitale Elektronik (BTM1360)<b
 r>Dozierende: Fischer [fhr3]<br>Räume: E216<br>Code: BTM1360c
DTSTAMP:20260424T175804Z
END:VEVENT
BEGIN:VEVENT
UID:69ebaf2c8ee27
DTSTART:20220301T092000Z
SEQUENCE:0
TRANSP:OPAQUE
DTEND:20220301T105500Z
LOCATION:T134
SUMMARY:Digitale Elektronik
CLASS:PUBLIC
DESCRIPTION:Veranstaltung: Digitale Elektronik (BTM1360)\nDozierende: Fisch
 er [fhr3]\nRäume: T134\nCode: BTM1360a
X-ALT-DESC;FMTTYPE=text/html:Veranstaltung: Digitale Elektronik (BTM1360)<b
 r>Dozierende: Fischer [fhr3]<br>Räume: T134<br>Code: BTM1360a
DTSTAMP:20260424T175804Z
END:VEVENT
BEGIN:VEVENT
UID:69ebaf2c8ee4f
DTSTART:20220302T151500Z
SEQUENCE:0
TRANSP:OPAQUE
DTEND:20220302T165000Z
LOCATION:E216
SUMMARY:Digitale Elektronik
CLASS:PUBLIC
DESCRIPTION:Veranstaltung: Digitale Elektronik (BTM1360)\nDozierende: Fisch
 er [fhr3]\nRäume: E216\nCode: BTM1360c
X-ALT-DESC;FMTTYPE=text/html:Veranstaltung: Digitale Elektronik (BTM1360)<b
 r>Dozierende: Fischer [fhr3]<br>Räume: E216<br>Code: BTM1360c
DTSTAMP:20260424T175804Z
END:VEVENT
BEGIN:VEVENT
UID:69ebaf2c8ee76
DTSTART:20220308T092000Z
SEQUENCE:0
TRANSP:OPAQUE
DTEND:20220308T105500Z
LOCATION:T134
SUMMARY:Digitale Elektronik
CLASS:PUBLIC
DESCRIPTION:Veranstaltung: Digitale Elektronik (BTM1360)\nDozierende: Fisch
 er [fhr3]\nRäume: T134\nCode: BTM1360a
X-ALT-DESC;FMTTYPE=text/html:Veranstaltung: Digitale Elektronik (BTM1360)<b
 r>Dozierende: Fischer [fhr3]<br>Räume: T134<br>Code: BTM1360a
DTSTAMP:20260424T175804Z
END:VEVENT
BEGIN:VEVENT
UID:69ebaf2c8ee9c
DTSTART:20220309T151500Z
SEQUENCE:0
TRANSP:OPAQUE
DTEND:20220309T165000Z
LOCATION:E216
SUMMARY:Digitale Elektronik
CLASS:PUBLIC
DESCRIPTION:Veranstaltung: Digitale Elektronik (BTM1360)\nDozierende: Fisch
 er [fhr3]\nRäume: E216\nCode: BTM1360c
X-ALT-DESC;FMTTYPE=text/html:Veranstaltung: Digitale Elektronik (BTM1360)<b
 r>Dozierende: Fischer [fhr3]<br>Räume: E216<br>Code: BTM1360c
DTSTAMP:20260424T175804Z
END:VEVENT
BEGIN:VEVENT
UID:69ebaf2c8eec0
DTSTART:20220315T092000Z
SEQUENCE:0
TRANSP:OPAQUE
DTEND:20220315T105500Z
LOCATION:T134
SUMMARY:Digitale Elektronik
CLASS:PUBLIC
DESCRIPTION:Veranstaltung: Digitale Elektronik (BTM1360)\nDozierende: Fisch
 er [fhr3]\nRäume: T134\nCode: BTM1360a
X-ALT-DESC;FMTTYPE=text/html:Veranstaltung: Digitale Elektronik (BTM1360)<b
 r>Dozierende: Fischer [fhr3]<br>Räume: T134<br>Code: BTM1360a
DTSTAMP:20260424T175804Z
END:VEVENT
BEGIN:VEVENT
UID:69ebaf2c8eee5
DTSTART:20220316T151500Z
SEQUENCE:0
TRANSP:OPAQUE
DTEND:20220316T165000Z
LOCATION:E216
SUMMARY:Digitale Elektronik
CLASS:PUBLIC
DESCRIPTION:Veranstaltung: Digitale Elektronik (BTM1360)\nDozierende: Fisch
 er [fhr3]\nRäume: E216\nCode: BTM1360c
X-ALT-DESC;FMTTYPE=text/html:Veranstaltung: Digitale Elektronik (BTM1360)<b
 r>Dozierende: Fischer [fhr3]<br>Räume: E216<br>Code: BTM1360c
DTSTAMP:20260424T175804Z
END:VEVENT
BEGIN:VEVENT
UID:69ebaf2c8ef0b
DTSTART:20220322T092000Z
SEQUENCE:0
TRANSP:OPAQUE
DTEND:20220322T105500Z
LOCATION:T134
SUMMARY:Digitale Elektronik
CLASS:PUBLIC
DESCRIPTION:Veranstaltung: Digitale Elektronik (BTM1360)\nDozierende: Fisch
 er [fhr3]\nRäume: T134\nCode: BTM1360a
X-ALT-DESC;FMTTYPE=text/html:Veranstaltung: Digitale Elektronik (BTM1360)<b
 r>Dozierende: Fischer [fhr3]<br>Räume: T134<br>Code: BTM1360a
DTSTAMP:20260424T175804Z
END:VEVENT
BEGIN:VEVENT
UID:69ebaf2c8ef31
DTSTART:20220323T151500Z
SEQUENCE:0
TRANSP:OPAQUE
DTEND:20220323T165000Z
LOCATION:E216
SUMMARY:Digitale Elektronik
CLASS:PUBLIC
DESCRIPTION:Veranstaltung: Digitale Elektronik (BTM1360)\nDozierende: Fisch
 er [fhr3]\nRäume: E216\nCode: BTM1360c
X-ALT-DESC;FMTTYPE=text/html:Veranstaltung: Digitale Elektronik (BTM1360)<b
 r>Dozierende: Fischer [fhr3]<br>Räume: E216<br>Code: BTM1360c
DTSTAMP:20260424T175804Z
END:VEVENT
BEGIN:VEVENT
UID:69ebaf2c8ef56
DTSTART:20220329T082000Z
SEQUENCE:0
TRANSP:OPAQUE
DTEND:20220329T095500Z
LOCATION:T134
SUMMARY:Digitale Elektronik
CLASS:PUBLIC
DESCRIPTION:Veranstaltung: Digitale Elektronik (BTM1360)\nDozierende: Fisch
 er [fhr3]\nRäume: T134\nCode: BTM1360a
X-ALT-DESC;FMTTYPE=text/html:Veranstaltung: Digitale Elektronik (BTM1360)<b
 r>Dozierende: Fischer [fhr3]<br>Räume: T134<br>Code: BTM1360a
DTSTAMP:20260424T175804Z
END:VEVENT
BEGIN:VEVENT
UID:69ebaf2c8ef79
DTSTART:20220330T141500Z
SEQUENCE:0
TRANSP:OPAQUE
DTEND:20220330T155000Z
LOCATION:E216
SUMMARY:Digitale Elektronik
CLASS:PUBLIC
DESCRIPTION:Veranstaltung: Digitale Elektronik (BTM1360)\nDozierende: Fisch
 er [fhr3]\nRäume: E216\nCode: BTM1360c
X-ALT-DESC;FMTTYPE=text/html:Veranstaltung: Digitale Elektronik (BTM1360)<b
 r>Dozierende: Fischer [fhr3]<br>Räume: E216<br>Code: BTM1360c
DTSTAMP:20260424T175804Z
END:VEVENT
BEGIN:VEVENT
UID:69ebaf2c8efa0
DTSTART:20220405T082000Z
SEQUENCE:0
TRANSP:OPAQUE
DTEND:20220405T095500Z
LOCATION:T134
SUMMARY:Digitale Elektronik
CLASS:PUBLIC
DESCRIPTION:Veranstaltung: Digitale Elektronik (BTM1360)\nDozierende: Fisch
 er [fhr3]\nRäume: T134\nCode: BTM1360a
X-ALT-DESC;FMTTYPE=text/html:Veranstaltung: Digitale Elektronik (BTM1360)<b
 r>Dozierende: Fischer [fhr3]<br>Räume: T134<br>Code: BTM1360a
DTSTAMP:20260424T175804Z
END:VEVENT
BEGIN:VEVENT
UID:69ebaf2c8efc5
DTSTART:20220406T141500Z
SEQUENCE:0
TRANSP:OPAQUE
DTEND:20220406T155000Z
LOCATION:E216
SUMMARY:Digitale Elektronik
CLASS:PUBLIC
DESCRIPTION:Veranstaltung: Digitale Elektronik (BTM1360)\nDozierende: Fisch
 er [fhr3]\nRäume: E216\nCode: BTM1360c
X-ALT-DESC;FMTTYPE=text/html:Veranstaltung: Digitale Elektronik (BTM1360)<b
 r>Dozierende: Fischer [fhr3]<br>Räume: E216<br>Code: BTM1360c
DTSTAMP:20260424T175804Z
END:VEVENT
BEGIN:VEVENT
UID:69ebaf2c8efea
DTSTART:20220419T082000Z
SEQUENCE:0
TRANSP:OPAQUE
DTEND:20220419T095500Z
LOCATION:T134
SUMMARY:Digitale Elektronik
CLASS:PUBLIC
DESCRIPTION:Veranstaltung: Digitale Elektronik (BTM1360)\nDozierende: Fisch
 er [fhr3]\nRäume: T134\nCode: BTM1360a
X-ALT-DESC;FMTTYPE=text/html:Veranstaltung: Digitale Elektronik (BTM1360)<b
 r>Dozierende: Fischer [fhr3]<br>Räume: T134<br>Code: BTM1360a
DTSTAMP:20260424T175804Z
END:VEVENT
BEGIN:VEVENT
UID:69ebaf2c8f010
DTSTART:20220420T141500Z
SEQUENCE:0
TRANSP:OPAQUE
DTEND:20220420T155000Z
LOCATION:E216
SUMMARY:Digitale Elektronik
CLASS:PUBLIC
DESCRIPTION:Veranstaltung: Digitale Elektronik (BTM1360)\nDozierende: Fisch
 er [fhr3]\nRäume: E216\nCode: BTM1360c
X-ALT-DESC;FMTTYPE=text/html:Veranstaltung: Digitale Elektronik (BTM1360)<b
 r>Dozierende: Fischer [fhr3]<br>Räume: E216<br>Code: BTM1360c
DTSTAMP:20260424T175804Z
END:VEVENT
BEGIN:VEVENT
UID:69ebaf2c8f034
DTSTART:20220426T082000Z
SEQUENCE:0
TRANSP:OPAQUE
DTEND:20220426T095500Z
LOCATION:T134
SUMMARY:Digitale Elektronik
CLASS:PUBLIC
DESCRIPTION:Veranstaltung: Digitale Elektronik (BTM1360)\nDozierende: Fisch
 er [fhr3]\nRäume: T134\nCode: BTM1360a
X-ALT-DESC;FMTTYPE=text/html:Veranstaltung: Digitale Elektronik (BTM1360)<b
 r>Dozierende: Fischer [fhr3]<br>Räume: T134<br>Code: BTM1360a
DTSTAMP:20260424T175804Z
END:VEVENT
BEGIN:VEVENT
UID:69ebaf2c8f058
DTSTART:20220427T141500Z
SEQUENCE:0
TRANSP:OPAQUE
DTEND:20220427T155000Z
LOCATION:E216
SUMMARY:Digitale Elektronik
CLASS:PUBLIC
DESCRIPTION:Veranstaltung: Digitale Elektronik (BTM1360)\nDozierende: Fisch
 er [fhr3]\nRäume: E216\nCode: BTM1360c
X-ALT-DESC;FMTTYPE=text/html:Veranstaltung: Digitale Elektronik (BTM1360)<b
 r>Dozierende: Fischer [fhr3]<br>Räume: E216<br>Code: BTM1360c
DTSTAMP:20260424T175804Z
END:VEVENT
BEGIN:VEVENT
UID:69ebaf2c8f07d
DTSTART:20220503T082000Z
SEQUENCE:0
TRANSP:OPAQUE
DTEND:20220503T095500Z
LOCATION:T134
SUMMARY:Digitale Elektronik
CLASS:PUBLIC
DESCRIPTION:Veranstaltung: Digitale Elektronik (BTM1360)\nDozierende: Fisch
 er [fhr3]\nRäume: T134\nCode: BTM1360a
X-ALT-DESC;FMTTYPE=text/html:Veranstaltung: Digitale Elektronik (BTM1360)<b
 r>Dozierende: Fischer [fhr3]<br>Räume: T134<br>Code: BTM1360a
DTSTAMP:20260424T175804Z
END:VEVENT
BEGIN:VEVENT
UID:69ebaf2c8f0a0
DTSTART:20220504T141500Z
SEQUENCE:0
TRANSP:OPAQUE
DTEND:20220504T155000Z
LOCATION:E216
SUMMARY:Digitale Elektronik
CLASS:PUBLIC
DESCRIPTION:Veranstaltung: Digitale Elektronik (BTM1360)\nDozierende: Fisch
 er [fhr3]\nRäume: E216\nCode: BTM1360c
X-ALT-DESC;FMTTYPE=text/html:Veranstaltung: Digitale Elektronik (BTM1360)<b
 r>Dozierende: Fischer [fhr3]<br>Räume: E216<br>Code: BTM1360c
DTSTAMP:20260424T175804Z
END:VEVENT
BEGIN:VEVENT
UID:69ebaf2c8f0c7
DTSTART:20220510T082000Z
SEQUENCE:0
TRANSP:OPAQUE
DTEND:20220510T095500Z
LOCATION:T134
SUMMARY:Digitale Elektronik
CLASS:PUBLIC
DESCRIPTION:Veranstaltung: Digitale Elektronik (BTM1360)\nDozierende: Fisch
 er [fhr3]\nRäume: T134\nCode: BTM1360a
X-ALT-DESC;FMTTYPE=text/html:Veranstaltung: Digitale Elektronik (BTM1360)<b
 r>Dozierende: Fischer [fhr3]<br>Räume: T134<br>Code: BTM1360a
DTSTAMP:20260424T175804Z
END:VEVENT
BEGIN:VEVENT
UID:69ebaf2c8f0eb
DTSTART:20220511T141500Z
SEQUENCE:0
TRANSP:OPAQUE
DTEND:20220511T155000Z
LOCATION:E216
SUMMARY:Digitale Elektronik
CLASS:PUBLIC
DESCRIPTION:Veranstaltung: Digitale Elektronik (BTM1360)\nDozierende: Fisch
 er [fhr3]\nRäume: E216\nCode: BTM1360c
X-ALT-DESC;FMTTYPE=text/html:Veranstaltung: Digitale Elektronik (BTM1360)<b
 r>Dozierende: Fischer [fhr3]<br>Räume: E216<br>Code: BTM1360c
DTSTAMP:20260424T175804Z
END:VEVENT
BEGIN:VEVENT
UID:69ebaf2c8f110
DTSTART:20220517T082000Z
SEQUENCE:0
TRANSP:OPAQUE
DTEND:20220517T095500Z
LOCATION:T134
SUMMARY:Digitale Elektronik
CLASS:PUBLIC
DESCRIPTION:Veranstaltung: Digitale Elektronik (BTM1360)\nDozierende: Fisch
 er [fhr3]\nRäume: T134\nCode: BTM1360a
X-ALT-DESC;FMTTYPE=text/html:Veranstaltung: Digitale Elektronik (BTM1360)<b
 r>Dozierende: Fischer [fhr3]<br>Räume: T134<br>Code: BTM1360a
DTSTAMP:20260424T175804Z
END:VEVENT
BEGIN:VEVENT
UID:69ebaf2c8f134
DTSTART:20220524T082000Z
SEQUENCE:0
TRANSP:OPAQUE
DTEND:20220524T095500Z
LOCATION:T134
SUMMARY:Digitale Elektronik
CLASS:PUBLIC
DESCRIPTION:Veranstaltung: Digitale Elektronik (BTM1360)\nDozierende: Fisch
 er [fhr3]\nRäume: T134\nCode: BTM1360a
X-ALT-DESC;FMTTYPE=text/html:Veranstaltung: Digitale Elektronik (BTM1360)<b
 r>Dozierende: Fischer [fhr3]<br>Räume: T134<br>Code: BTM1360a
DTSTAMP:20260424T175804Z
END:VEVENT
BEGIN:VEVENT
UID:69ebaf2c8f158
DTSTART:20220525T141500Z
SEQUENCE:0
TRANSP:OPAQUE
DTEND:20220525T155000Z
LOCATION:E216
SUMMARY:Digitale Elektronik
CLASS:PUBLIC
DESCRIPTION:Veranstaltung: Digitale Elektronik (BTM1360)\nDozierende: Fisch
 er [fhr3]\nRäume: E216\nCode: BTM1360c
X-ALT-DESC;FMTTYPE=text/html:Veranstaltung: Digitale Elektronik (BTM1360)<b
 r>Dozierende: Fischer [fhr3]<br>Räume: E216<br>Code: BTM1360c
DTSTAMP:20260424T175804Z
END:VEVENT
BEGIN:VEVENT
UID:69ebaf2c8f17b
DTSTART:20220531T082000Z
SEQUENCE:0
TRANSP:OPAQUE
DTEND:20220531T095500Z
LOCATION:T134
SUMMARY:Digitale Elektronik
CLASS:PUBLIC
DESCRIPTION:Veranstaltung: Digitale Elektronik (BTM1360)\nDozierende: Fisch
 er [fhr3]\nRäume: T134\nCode: BTM1360a
X-ALT-DESC;FMTTYPE=text/html:Veranstaltung: Digitale Elektronik (BTM1360)<b
 r>Dozierende: Fischer [fhr3]<br>Räume: T134<br>Code: BTM1360a
DTSTAMP:20260424T175804Z
END:VEVENT
BEGIN:VEVENT
UID:69ebaf2c8f1a0
DTSTART:20220601T141500Z
SEQUENCE:0
TRANSP:OPAQUE
DTEND:20220601T155000Z
LOCATION:E216
SUMMARY:Digitale Elektronik
CLASS:PUBLIC
DESCRIPTION:Veranstaltung: Digitale Elektronik (BTM1360)\nDozierende: Fisch
 er [fhr3]\nRäume: E216\nCode: BTM1360c
X-ALT-DESC;FMTTYPE=text/html:Veranstaltung: Digitale Elektronik (BTM1360)<b
 r>Dozierende: Fischer [fhr3]<br>Räume: E216<br>Code: BTM1360c
DTSTAMP:20260424T175804Z
END:VEVENT
BEGIN:VEVENT
UID:69ebaf2c8f1c5
DTSTART:20220607T082000Z
SEQUENCE:0
TRANSP:OPAQUE
DTEND:20220607T095500Z
LOCATION:T134
SUMMARY:Digitale Elektronik
CLASS:PUBLIC
DESCRIPTION:Veranstaltung: Digitale Elektronik (BTM1360)\nDozierende: Fisch
 er [fhr3]\nRäume: T134\nCode: BTM1360a
X-ALT-DESC;FMTTYPE=text/html:Veranstaltung: Digitale Elektronik (BTM1360)<b
 r>Dozierende: Fischer [fhr3]<br>Räume: T134<br>Code: BTM1360a
DTSTAMP:20260424T175804Z
END:VEVENT
BEGIN:VEVENT
UID:69ebaf2c8f1ea
DTSTART:20220608T141500Z
SEQUENCE:0
TRANSP:OPAQUE
DTEND:20220608T155000Z
LOCATION:E216
SUMMARY:Digitale Elektronik
CLASS:PUBLIC
DESCRIPTION:Veranstaltung: Digitale Elektronik (BTM1360)\nDozierende: Fisch
 er [fhr3]\nRäume: E216\nCode: BTM1360c
X-ALT-DESC;FMTTYPE=text/html:Veranstaltung: Digitale Elektronik (BTM1360)<b
 r>Dozierende: Fischer [fhr3]<br>Räume: E216<br>Code: BTM1360c
DTSTAMP:20260424T175804Z
END:VEVENT
BEGIN:VEVENT
UID:69ebaf2c8f20f
DTSTART:20220614T082000Z
SEQUENCE:0
TRANSP:OPAQUE
DTEND:20220614T095500Z
LOCATION:T134
SUMMARY:Digitale Elektronik
CLASS:PUBLIC
DESCRIPTION:Veranstaltung: Digitale Elektronik (BTM1360)\nDozierende: Fisch
 er [fhr3]\nRäume: T134\nCode: BTM1360a
X-ALT-DESC;FMTTYPE=text/html:Veranstaltung: Digitale Elektronik (BTM1360)<b
 r>Dozierende: Fischer [fhr3]<br>Räume: T134<br>Code: BTM1360a
DTSTAMP:20260424T175804Z
END:VEVENT
BEGIN:VEVENT
UID:69ebaf2c8f235
DTSTART:20220615T141500Z
SEQUENCE:0
TRANSP:OPAQUE
DTEND:20220615T155000Z
LOCATION:E216
SUMMARY:Digitale Elektronik
CLASS:PUBLIC
DESCRIPTION:Veranstaltung: Digitale Elektronik (BTM1360)\nDozierende: Fisch
 er [fhr3]\nRäume: E216\nCode: BTM1360c
X-ALT-DESC;FMTTYPE=text/html:Veranstaltung: Digitale Elektronik (BTM1360)<b
 r>Dozierende: Fischer [fhr3]<br>Räume: E216<br>Code: BTM1360c
DTSTAMP:20260424T175804Z
END:VEVENT
END:VCALENDAR