BEGIN:VCALENDAR
VERSION:2.0
PRODID:www.bfh.ch
X-APPLE-CALENDAR-COLOR:Orange
X-OUTLOOK-COLOR:Orange
X-FUNAMBOL-COLOR:Orange
X-WR-CALNAME:Übersicht BTM1361
BEGIN:VEVENT
UID:69ec093c4b6d7
DTSTART:20210921T082000Z
SEQUENCE:0
TRANSP:OPAQUE
DTEND:20210921T095500Z
LOCATION:T131
SUMMARY:Analoge Elektronik
CLASS:PUBLIC
DESCRIPTION:Veranstaltung: Analoge Elektronik (BTM1361)\nDozierende: Fische
 r [fhr3]\nRäume: T131\nCode: BTM1361a
X-ALT-DESC;FMTTYPE=text/html:Veranstaltung: Analoge Elektronik (BTM1361)<br
 >Dozierende: Fischer [fhr3]<br>Räume: T131<br>Code: BTM1361a
DTSTAMP:20260425T002220Z
END:VEVENT
BEGIN:VEVENT
UID:69ec093c4b76a
DTSTART:20210921T082000Z
SEQUENCE:0
TRANSP:OPAQUE
DTEND:20210921T095500Z
LOCATION:T131
SUMMARY:Analoge Elektronik
CLASS:PUBLIC
DESCRIPTION:Veranstaltung: Analoge Elektronik (BTM1361)\nDozierende: Fische
 r [fhr3]\nRäume: T131\nCode: BTM1361c
X-ALT-DESC;FMTTYPE=text/html:Veranstaltung: Analoge Elektronik (BTM1361)<br
 >Dozierende: Fischer [fhr3]<br>Räume: T131<br>Code: BTM1361c
DTSTAMP:20260425T002220Z
END:VEVENT
BEGIN:VEVENT
UID:69ec093c4b799
DTSTART:20210928T082000Z
SEQUENCE:0
TRANSP:OPAQUE
DTEND:20210928T095500Z
LOCATION:T131
SUMMARY:Analoge Elektronik
CLASS:PUBLIC
DESCRIPTION:Veranstaltung: Analoge Elektronik (BTM1361)\nDozierende: Fische
 r [fhr3]\nRäume: T131\nCode: BTM1361a
X-ALT-DESC;FMTTYPE=text/html:Veranstaltung: Analoge Elektronik (BTM1361)<br
 >Dozierende: Fischer [fhr3]<br>Räume: T131<br>Code: BTM1361a
DTSTAMP:20260425T002220Z
END:VEVENT
BEGIN:VEVENT
UID:69ec093c4b7bf
DTSTART:20210928T082000Z
SEQUENCE:0
TRANSP:OPAQUE
DTEND:20210928T095500Z
LOCATION:T131
SUMMARY:Analoge Elektronik
CLASS:PUBLIC
DESCRIPTION:Veranstaltung: Analoge Elektronik (BTM1361)\nDozierende: Fische
 r [fhr3]\nRäume: T131\nCode: BTM1361c
X-ALT-DESC;FMTTYPE=text/html:Veranstaltung: Analoge Elektronik (BTM1361)<br
 >Dozierende: Fischer [fhr3]<br>Räume: T131<br>Code: BTM1361c
DTSTAMP:20260425T002220Z
END:VEVENT
BEGIN:VEVENT
UID:69ec093c4b7e6
DTSTART:20211005T082000Z
SEQUENCE:0
TRANSP:OPAQUE
DTEND:20211005T095500Z
LOCATION:T131
SUMMARY:Analoge Elektronik
CLASS:PUBLIC
DESCRIPTION:Veranstaltung: Analoge Elektronik (BTM1361)\nDozierende: Fische
 r [fhr3]\nRäume: T131\nCode: BTM1361a
X-ALT-DESC;FMTTYPE=text/html:Veranstaltung: Analoge Elektronik (BTM1361)<br
 >Dozierende: Fischer [fhr3]<br>Räume: T131<br>Code: BTM1361a
DTSTAMP:20260425T002220Z
END:VEVENT
BEGIN:VEVENT
UID:69ec093c4b811
DTSTART:20211005T082000Z
SEQUENCE:0
TRANSP:OPAQUE
DTEND:20211005T095500Z
LOCATION:T131
SUMMARY:Analoge Elektronik
CLASS:PUBLIC
DESCRIPTION:Veranstaltung: Analoge Elektronik (BTM1361)\nDozierende: Fische
 r [fhr3]\nRäume: T131\nCode: BTM1361c
X-ALT-DESC;FMTTYPE=text/html:Veranstaltung: Analoge Elektronik (BTM1361)<br
 >Dozierende: Fischer [fhr3]<br>Räume: T131<br>Code: BTM1361c
DTSTAMP:20260425T002220Z
END:VEVENT
BEGIN:VEVENT
UID:69ec093c4b835
DTSTART:20211012T082000Z
SEQUENCE:0
TRANSP:OPAQUE
DTEND:20211012T095500Z
LOCATION:T131
SUMMARY:Analoge Elektronik
CLASS:PUBLIC
DESCRIPTION:Veranstaltung: Analoge Elektronik (BTM1361)\nDozierende: Fische
 r [fhr3]\nRäume: T131\nCode: BTM1361a
X-ALT-DESC;FMTTYPE=text/html:Veranstaltung: Analoge Elektronik (BTM1361)<br
 >Dozierende: Fischer [fhr3]<br>Räume: T131<br>Code: BTM1361a
DTSTAMP:20260425T002220Z
END:VEVENT
BEGIN:VEVENT
UID:69ec093c4b85a
DTSTART:20211012T082000Z
SEQUENCE:0
TRANSP:OPAQUE
DTEND:20211012T095500Z
LOCATION:T131
SUMMARY:Analoge Elektronik
CLASS:PUBLIC
DESCRIPTION:Veranstaltung: Analoge Elektronik (BTM1361)\nDozierende: Fische
 r [fhr3]\nRäume: T131\nCode: BTM1361c
X-ALT-DESC;FMTTYPE=text/html:Veranstaltung: Analoge Elektronik (BTM1361)<br
 >Dozierende: Fischer [fhr3]<br>Räume: T131<br>Code: BTM1361c
DTSTAMP:20260425T002220Z
END:VEVENT
BEGIN:VEVENT
UID:69ec093c4b87e
DTSTART:20211019T082000Z
SEQUENCE:0
TRANSP:OPAQUE
DTEND:20211019T095500Z
LOCATION:T131
SUMMARY:Analoge Elektronik
CLASS:PUBLIC
DESCRIPTION:Veranstaltung: Analoge Elektronik (BTM1361)\nDozierende: Fische
 r [fhr3]\nRäume: T131\nCode: BTM1361a
X-ALT-DESC;FMTTYPE=text/html:Veranstaltung: Analoge Elektronik (BTM1361)<br
 >Dozierende: Fischer [fhr3]<br>Räume: T131<br>Code: BTM1361a
DTSTAMP:20260425T002220Z
END:VEVENT
BEGIN:VEVENT
UID:69ec093c4b8a3
DTSTART:20211019T082000Z
SEQUENCE:0
TRANSP:OPAQUE
DTEND:20211019T095500Z
LOCATION:T131
SUMMARY:Analoge Elektronik
CLASS:PUBLIC
DESCRIPTION:Veranstaltung: Analoge Elektronik (BTM1361)\nDozierende: Fische
 r [fhr3]\nRäume: T131\nCode: BTM1361c
X-ALT-DESC;FMTTYPE=text/html:Veranstaltung: Analoge Elektronik (BTM1361)<br
 >Dozierende: Fischer [fhr3]<br>Räume: T131<br>Code: BTM1361c
DTSTAMP:20260425T002220Z
END:VEVENT
BEGIN:VEVENT
UID:69ec093c4b8c8
DTSTART:20211026T082000Z
SEQUENCE:0
TRANSP:OPAQUE
DTEND:20211026T095500Z
LOCATION:T131
SUMMARY:Analoge Elektronik
CLASS:PUBLIC
DESCRIPTION:Veranstaltung: Analoge Elektronik (BTM1361)\nDozierende: Fische
 r [fhr3]\nRäume: T131\nCode: BTM1361a
X-ALT-DESC;FMTTYPE=text/html:Veranstaltung: Analoge Elektronik (BTM1361)<br
 >Dozierende: Fischer [fhr3]<br>Räume: T131<br>Code: BTM1361a
DTSTAMP:20260425T002220Z
END:VEVENT
BEGIN:VEVENT
UID:69ec093c4b8ed
DTSTART:20211026T082000Z
SEQUENCE:0
TRANSP:OPAQUE
DTEND:20211026T095500Z
LOCATION:T131
SUMMARY:Analoge Elektronik
CLASS:PUBLIC
DESCRIPTION:Veranstaltung: Analoge Elektronik (BTM1361)\nDozierende: Fische
 r [fhr3]\nRäume: T131\nCode: BTM1361c
X-ALT-DESC;FMTTYPE=text/html:Veranstaltung: Analoge Elektronik (BTM1361)<br
 >Dozierende: Fischer [fhr3]<br>Räume: T131<br>Code: BTM1361c
DTSTAMP:20260425T002220Z
END:VEVENT
BEGIN:VEVENT
UID:69ec093c4b911
DTSTART:20211102T092000Z
SEQUENCE:0
TRANSP:OPAQUE
DTEND:20211102T105500Z
LOCATION:T131
SUMMARY:Analoge Elektronik
CLASS:PUBLIC
DESCRIPTION:Veranstaltung: Analoge Elektronik (BTM1361)\nDozierende: Fische
 r [fhr3]\nRäume: T131\nCode: BTM1361a
X-ALT-DESC;FMTTYPE=text/html:Veranstaltung: Analoge Elektronik (BTM1361)<br
 >Dozierende: Fischer [fhr3]<br>Räume: T131<br>Code: BTM1361a
DTSTAMP:20260425T002220Z
END:VEVENT
BEGIN:VEVENT
UID:69ec093c4b935
DTSTART:20211102T092000Z
SEQUENCE:0
TRANSP:OPAQUE
DTEND:20211102T105500Z
LOCATION:T131
SUMMARY:Analoge Elektronik
CLASS:PUBLIC
DESCRIPTION:Veranstaltung: Analoge Elektronik (BTM1361)\nDozierende: Fische
 r [fhr3]\nRäume: T131\nCode: BTM1361c
X-ALT-DESC;FMTTYPE=text/html:Veranstaltung: Analoge Elektronik (BTM1361)<br
 >Dozierende: Fischer [fhr3]<br>Räume: T131<br>Code: BTM1361c
DTSTAMP:20260425T002220Z
END:VEVENT
BEGIN:VEVENT
UID:69ec093c4b95a
DTSTART:20211109T092000Z
SEQUENCE:0
TRANSP:OPAQUE
DTEND:20211109T105500Z
LOCATION:T131
SUMMARY:Analoge Elektronik
CLASS:PUBLIC
DESCRIPTION:Veranstaltung: Analoge Elektronik (BTM1361)\nDozierende: Fische
 r [fhr3]\nRäume: T131\nCode: BTM1361a
X-ALT-DESC;FMTTYPE=text/html:Veranstaltung: Analoge Elektronik (BTM1361)<br
 >Dozierende: Fischer [fhr3]<br>Räume: T131<br>Code: BTM1361a
DTSTAMP:20260425T002220Z
END:VEVENT
BEGIN:VEVENT
UID:69ec093c4b97f
DTSTART:20211109T092000Z
SEQUENCE:0
TRANSP:OPAQUE
DTEND:20211109T105500Z
LOCATION:T131
SUMMARY:Analoge Elektronik
CLASS:PUBLIC
DESCRIPTION:Veranstaltung: Analoge Elektronik (BTM1361)\nDozierende: Fische
 r [fhr3]\nRäume: T131\nCode: BTM1361c
X-ALT-DESC;FMTTYPE=text/html:Veranstaltung: Analoge Elektronik (BTM1361)<br
 >Dozierende: Fischer [fhr3]<br>Räume: T131<br>Code: BTM1361c
DTSTAMP:20260425T002220Z
END:VEVENT
BEGIN:VEVENT
UID:69ec093c4b9a3
DTSTART:20211116T092000Z
SEQUENCE:0
TRANSP:OPAQUE
DTEND:20211116T105500Z
LOCATION:T131
SUMMARY:Analoge Elektronik
CLASS:PUBLIC
DESCRIPTION:Veranstaltung: Analoge Elektronik (BTM1361)\nDozierende: Fische
 r [fhr3]\nRäume: T131\nCode: BTM1361a
X-ALT-DESC;FMTTYPE=text/html:Veranstaltung: Analoge Elektronik (BTM1361)<br
 >Dozierende: Fischer [fhr3]<br>Räume: T131<br>Code: BTM1361a
DTSTAMP:20260425T002220Z
END:VEVENT
BEGIN:VEVENT
UID:69ec093c4b9c9
DTSTART:20211116T092000Z
SEQUENCE:0
TRANSP:OPAQUE
DTEND:20211116T105500Z
LOCATION:T131
SUMMARY:Analoge Elektronik
CLASS:PUBLIC
DESCRIPTION:Veranstaltung: Analoge Elektronik (BTM1361)\nDozierende: Fische
 r [fhr3]\nRäume: T131\nCode: BTM1361c
X-ALT-DESC;FMTTYPE=text/html:Veranstaltung: Analoge Elektronik (BTM1361)<br
 >Dozierende: Fischer [fhr3]<br>Räume: T131<br>Code: BTM1361c
DTSTAMP:20260425T002220Z
END:VEVENT
BEGIN:VEVENT
UID:69ec093c4b9ef
DTSTART:20211123T092000Z
SEQUENCE:0
TRANSP:OPAQUE
DTEND:20211123T105500Z
LOCATION:T131
SUMMARY:Analoge Elektronik
CLASS:PUBLIC
DESCRIPTION:Veranstaltung: Analoge Elektronik (BTM1361)\nDozierende: Fische
 r [fhr3]\nRäume: T131\nCode: BTM1361a
X-ALT-DESC;FMTTYPE=text/html:Veranstaltung: Analoge Elektronik (BTM1361)<br
 >Dozierende: Fischer [fhr3]<br>Räume: T131<br>Code: BTM1361a
DTSTAMP:20260425T002220Z
END:VEVENT
BEGIN:VEVENT
UID:69ec093c4ba13
DTSTART:20211123T092000Z
SEQUENCE:0
TRANSP:OPAQUE
DTEND:20211123T105500Z
LOCATION:T131
SUMMARY:Analoge Elektronik
CLASS:PUBLIC
DESCRIPTION:Veranstaltung: Analoge Elektronik (BTM1361)\nDozierende: Fische
 r [fhr3]\nRäume: T131\nCode: BTM1361c
X-ALT-DESC;FMTTYPE=text/html:Veranstaltung: Analoge Elektronik (BTM1361)<br
 >Dozierende: Fischer [fhr3]<br>Räume: T131<br>Code: BTM1361c
DTSTAMP:20260425T002220Z
END:VEVENT
BEGIN:VEVENT
UID:69ec093c4ba38
DTSTART:20211130T092000Z
SEQUENCE:0
TRANSP:OPAQUE
DTEND:20211130T105500Z
LOCATION:T131
SUMMARY:Analoge Elektronik
CLASS:PUBLIC
DESCRIPTION:Veranstaltung: Analoge Elektronik (BTM1361)\nDozierende: Fische
 r [fhr3]\nRäume: T131\nCode: BTM1361a
X-ALT-DESC;FMTTYPE=text/html:Veranstaltung: Analoge Elektronik (BTM1361)<br
 >Dozierende: Fischer [fhr3]<br>Räume: T131<br>Code: BTM1361a
DTSTAMP:20260425T002220Z
END:VEVENT
BEGIN:VEVENT
UID:69ec093c4ba5b
DTSTART:20211130T092000Z
SEQUENCE:0
TRANSP:OPAQUE
DTEND:20211130T105500Z
LOCATION:T131
SUMMARY:Analoge Elektronik
CLASS:PUBLIC
DESCRIPTION:Veranstaltung: Analoge Elektronik (BTM1361)\nDozierende: Fische
 r [fhr3]\nRäume: T131\nCode: BTM1361c
X-ALT-DESC;FMTTYPE=text/html:Veranstaltung: Analoge Elektronik (BTM1361)<br
 >Dozierende: Fischer [fhr3]<br>Räume: T131<br>Code: BTM1361c
DTSTAMP:20260425T002220Z
END:VEVENT
BEGIN:VEVENT
UID:69ec093c4ba7f
DTSTART:20211207T092000Z
SEQUENCE:0
TRANSP:OPAQUE
DTEND:20211207T105500Z
LOCATION:T131
SUMMARY:Analoge Elektronik
CLASS:PUBLIC
DESCRIPTION:Veranstaltung: Analoge Elektronik (BTM1361)\nDozierende: Fische
 r [fhr3]\nRäume: T131\nCode: BTM1361a
X-ALT-DESC;FMTTYPE=text/html:Veranstaltung: Analoge Elektronik (BTM1361)<br
 >Dozierende: Fischer [fhr3]<br>Räume: T131<br>Code: BTM1361a
DTSTAMP:20260425T002220Z
END:VEVENT
BEGIN:VEVENT
UID:69ec093c4baa5
DTSTART:20211207T092000Z
SEQUENCE:0
TRANSP:OPAQUE
DTEND:20211207T105500Z
LOCATION:T131
SUMMARY:Analoge Elektronik
CLASS:PUBLIC
DESCRIPTION:Veranstaltung: Analoge Elektronik (BTM1361)\nDozierende: Fische
 r [fhr3]\nRäume: T131\nCode: BTM1361c
X-ALT-DESC;FMTTYPE=text/html:Veranstaltung: Analoge Elektronik (BTM1361)<br
 >Dozierende: Fischer [fhr3]<br>Räume: T131<br>Code: BTM1361c
DTSTAMP:20260425T002220Z
END:VEVENT
BEGIN:VEVENT
UID:69ec093c4bac9
DTSTART:20211214T092000Z
SEQUENCE:0
TRANSP:OPAQUE
DTEND:20211214T105500Z
LOCATION:T131
SUMMARY:Analoge Elektronik
CLASS:PUBLIC
DESCRIPTION:Veranstaltung: Analoge Elektronik (BTM1361)\nDozierende: Fische
 r [fhr3]\nRäume: T131\nCode: BTM1361a
X-ALT-DESC;FMTTYPE=text/html:Veranstaltung: Analoge Elektronik (BTM1361)<br
 >Dozierende: Fischer [fhr3]<br>Räume: T131<br>Code: BTM1361a
DTSTAMP:20260425T002220Z
END:VEVENT
BEGIN:VEVENT
UID:69ec093c4baee
DTSTART:20211214T092000Z
SEQUENCE:0
TRANSP:OPAQUE
DTEND:20211214T105500Z
LOCATION:T131
SUMMARY:Analoge Elektronik
CLASS:PUBLIC
DESCRIPTION:Veranstaltung: Analoge Elektronik (BTM1361)\nDozierende: Fische
 r [fhr3]\nRäume: T131\nCode: BTM1361c
X-ALT-DESC;FMTTYPE=text/html:Veranstaltung: Analoge Elektronik (BTM1361)<br
 >Dozierende: Fischer [fhr3]<br>Räume: T131<br>Code: BTM1361c
DTSTAMP:20260425T002220Z
END:VEVENT
BEGIN:VEVENT
UID:69ec093c4bb13
DTSTART:20211221T092000Z
SEQUENCE:0
TRANSP:OPAQUE
DTEND:20211221T105500Z
LOCATION:T131
SUMMARY:Analoge Elektronik
CLASS:PUBLIC
DESCRIPTION:Veranstaltung: Analoge Elektronik (BTM1361)\nDozierende: Fische
 r [fhr3]\nRäume: T131\nCode: BTM1361a
X-ALT-DESC;FMTTYPE=text/html:Veranstaltung: Analoge Elektronik (BTM1361)<br
 >Dozierende: Fischer [fhr3]<br>Räume: T131<br>Code: BTM1361a
DTSTAMP:20260425T002220Z
END:VEVENT
BEGIN:VEVENT
UID:69ec093c4bb36
DTSTART:20211221T092000Z
SEQUENCE:0
TRANSP:OPAQUE
DTEND:20211221T105500Z
LOCATION:T131
SUMMARY:Analoge Elektronik
CLASS:PUBLIC
DESCRIPTION:Veranstaltung: Analoge Elektronik (BTM1361)\nDozierende: Fische
 r [fhr3]\nRäume: T131\nCode: BTM1361c
X-ALT-DESC;FMTTYPE=text/html:Veranstaltung: Analoge Elektronik (BTM1361)<br
 >Dozierende: Fischer [fhr3]<br>Räume: T131<br>Code: BTM1361c
DTSTAMP:20260425T002220Z
END:VEVENT
BEGIN:VEVENT
UID:69ec093c4bb59
DTSTART:20220111T092000Z
SEQUENCE:0
TRANSP:OPAQUE
DTEND:20220111T105500Z
LOCATION:T131
SUMMARY:Analoge Elektronik
CLASS:PUBLIC
DESCRIPTION:Veranstaltung: Analoge Elektronik (BTM1361)\nDozierende: Fische
 r [fhr3]\nRäume: T131\nCode: BTM1361a
X-ALT-DESC;FMTTYPE=text/html:Veranstaltung: Analoge Elektronik (BTM1361)<br
 >Dozierende: Fischer [fhr3]<br>Räume: T131<br>Code: BTM1361a
DTSTAMP:20260425T002220Z
END:VEVENT
BEGIN:VEVENT
UID:69ec093c4bb7d
DTSTART:20220111T092000Z
SEQUENCE:0
TRANSP:OPAQUE
DTEND:20220111T105500Z
LOCATION:T131
SUMMARY:Analoge Elektronik
CLASS:PUBLIC
DESCRIPTION:Veranstaltung: Analoge Elektronik (BTM1361)\nDozierende: Fische
 r [fhr3]\nRäume: T131\nCode: BTM1361c
X-ALT-DESC;FMTTYPE=text/html:Veranstaltung: Analoge Elektronik (BTM1361)<br
 >Dozierende: Fischer [fhr3]<br>Räume: T131<br>Code: BTM1361c
DTSTAMP:20260425T002220Z
END:VEVENT
BEGIN:VEVENT
UID:69ec093c4bba2
DTSTART:20220118T092000Z
SEQUENCE:0
TRANSP:OPAQUE
DTEND:20220118T105500Z
LOCATION:T131
SUMMARY:Analoge Elektronik
CLASS:PUBLIC
DESCRIPTION:Veranstaltung: Analoge Elektronik (BTM1361)\nDozierende: Fische
 r [fhr3]\nRäume: T131\nCode: BTM1361a
X-ALT-DESC;FMTTYPE=text/html:Veranstaltung: Analoge Elektronik (BTM1361)<br
 >Dozierende: Fischer [fhr3]<br>Räume: T131<br>Code: BTM1361a
DTSTAMP:20260425T002220Z
END:VEVENT
BEGIN:VEVENT
UID:69ec093c4bbc6
DTSTART:20220118T092000Z
SEQUENCE:0
TRANSP:OPAQUE
DTEND:20220118T105500Z
LOCATION:T131
SUMMARY:Analoge Elektronik
CLASS:PUBLIC
DESCRIPTION:Veranstaltung: Analoge Elektronik (BTM1361)\nDozierende: Fische
 r [fhr3]\nRäume: T131\nCode: BTM1361c
X-ALT-DESC;FMTTYPE=text/html:Veranstaltung: Analoge Elektronik (BTM1361)<br
 >Dozierende: Fischer [fhr3]<br>Räume: T131<br>Code: BTM1361c
DTSTAMP:20260425T002220Z
END:VEVENT
BEGIN:VEVENT
UID:69ec093c4bbe9
DTSTART:20220922T141500Z
SEQUENCE:0
TRANSP:OPAQUE
DTEND:20220922T155000Z
LOCATION:Pest-E216
SUMMARY:Analoge Elektronik
CLASS:PUBLIC
DESCRIPTION:Veranstaltung: Analoge Elektronik (BTM1361)\nDozierende: Fische
 r [fhr3]\nRäume: Pest-E216\nCode: BTM1361a
X-ALT-DESC;FMTTYPE=text/html:Veranstaltung: Analoge Elektronik (BTM1361)<br
 >Dozierende: Fischer [fhr3]<br>Räume: Pest-E216<br>Code: BTM1361a
DTSTAMP:20260425T002220Z
END:VEVENT
BEGIN:VEVENT
UID:69ec093c4bc14
DTSTART:20220929T141500Z
SEQUENCE:0
TRANSP:OPAQUE
DTEND:20220929T155000Z
LOCATION:Pest-E216
SUMMARY:Analoge Elektronik
CLASS:PUBLIC
DESCRIPTION:Veranstaltung: Analoge Elektronik (BTM1361)\nDozierende: Fische
 r [fhr3]\nRäume: Pest-E216\nCode: BTM1361a
X-ALT-DESC;FMTTYPE=text/html:Veranstaltung: Analoge Elektronik (BTM1361)<br
 >Dozierende: Fischer [fhr3]<br>Räume: Pest-E216<br>Code: BTM1361a
DTSTAMP:20260425T002220Z
END:VEVENT
BEGIN:VEVENT
UID:69ec093c4bc39
DTSTART:20221006T141500Z
SEQUENCE:0
TRANSP:OPAQUE
DTEND:20221006T155000Z
LOCATION:Pest-E216
SUMMARY:Analoge Elektronik
CLASS:PUBLIC
DESCRIPTION:Veranstaltung: Analoge Elektronik (BTM1361)\nDozierende: Fische
 r [fhr3]\nRäume: Pest-E216\nCode: BTM1361a
X-ALT-DESC;FMTTYPE=text/html:Veranstaltung: Analoge Elektronik (BTM1361)<br
 >Dozierende: Fischer [fhr3]<br>Räume: Pest-E216<br>Code: BTM1361a
DTSTAMP:20260425T002220Z
END:VEVENT
BEGIN:VEVENT
UID:69ec093c4bc5d
DTSTART:20221013T141500Z
SEQUENCE:0
TRANSP:OPAQUE
DTEND:20221013T155000Z
LOCATION:Pest-E216
SUMMARY:Analoge Elektronik
CLASS:PUBLIC
DESCRIPTION:Veranstaltung: Analoge Elektronik (BTM1361)\nDozierende: Fische
 r [fhr3]\nRäume: Pest-E216\nCode: BTM1361a
X-ALT-DESC;FMTTYPE=text/html:Veranstaltung: Analoge Elektronik (BTM1361)<br
 >Dozierende: Fischer [fhr3]<br>Räume: Pest-E216<br>Code: BTM1361a
DTSTAMP:20260425T002220Z
END:VEVENT
BEGIN:VEVENT
UID:69ec093c4bc81
DTSTART:20221020T141500Z
SEQUENCE:0
TRANSP:OPAQUE
DTEND:20221020T155000Z
LOCATION:Pest-E216
SUMMARY:Analoge Elektronik
CLASS:PUBLIC
DESCRIPTION:Veranstaltung: Analoge Elektronik (BTM1361)\nDozierende: Fische
 r [fhr3]\nRäume: Pest-E216\nCode: BTM1361a
X-ALT-DESC;FMTTYPE=text/html:Veranstaltung: Analoge Elektronik (BTM1361)<br
 >Dozierende: Fischer [fhr3]<br>Räume: Pest-E216<br>Code: BTM1361a
DTSTAMP:20260425T002220Z
END:VEVENT
BEGIN:VEVENT
UID:69ec093c4bca5
DTSTART:20221027T141500Z
SEQUENCE:0
TRANSP:OPAQUE
DTEND:20221027T155000Z
LOCATION:Pest-E216
SUMMARY:Analoge Elektronik
CLASS:PUBLIC
DESCRIPTION:Veranstaltung: Analoge Elektronik (BTM1361)\nDozierende: Fische
 r [fhr3]\nRäume: Pest-E216\nCode: BTM1361a
X-ALT-DESC;FMTTYPE=text/html:Veranstaltung: Analoge Elektronik (BTM1361)<br
 >Dozierende: Fischer [fhr3]<br>Räume: Pest-E216<br>Code: BTM1361a
DTSTAMP:20260425T002220Z
END:VEVENT
BEGIN:VEVENT
UID:69ec093c4bcca
DTSTART:20221103T151500Z
SEQUENCE:0
TRANSP:OPAQUE
DTEND:20221103T165000Z
LOCATION:Pest-E216
SUMMARY:Analoge Elektronik
CLASS:PUBLIC
DESCRIPTION:Veranstaltung: Analoge Elektronik (BTM1361)\nDozierende: Fische
 r [fhr3]\nRäume: Pest-E216\nCode: BTM1361a
X-ALT-DESC;FMTTYPE=text/html:Veranstaltung: Analoge Elektronik (BTM1361)<br
 >Dozierende: Fischer [fhr3]<br>Räume: Pest-E216<br>Code: BTM1361a
DTSTAMP:20260425T002220Z
END:VEVENT
BEGIN:VEVENT
UID:69ec093c4bced
DTSTART:20221110T151500Z
SEQUENCE:0
TRANSP:OPAQUE
DTEND:20221110T165000Z
LOCATION:Pest-E216
SUMMARY:Analoge Elektronik
CLASS:PUBLIC
DESCRIPTION:Veranstaltung: Analoge Elektronik (BTM1361)\nDozierende: Fische
 r [fhr3]\nRäume: Pest-E216\nCode: BTM1361a
X-ALT-DESC;FMTTYPE=text/html:Veranstaltung: Analoge Elektronik (BTM1361)<br
 >Dozierende: Fischer [fhr3]<br>Räume: Pest-E216<br>Code: BTM1361a
DTSTAMP:20260425T002220Z
END:VEVENT
BEGIN:VEVENT
UID:69ec093c4bd10
DTSTART:20221117T151500Z
SEQUENCE:0
TRANSP:OPAQUE
DTEND:20221117T165000Z
LOCATION:Pest-E216
SUMMARY:Analoge Elektronik
CLASS:PUBLIC
DESCRIPTION:Veranstaltung: Analoge Elektronik (BTM1361)\nDozierende: Fische
 r [fhr3]\nRäume: Pest-E216\nCode: BTM1361a
X-ALT-DESC;FMTTYPE=text/html:Veranstaltung: Analoge Elektronik (BTM1361)<br
 >Dozierende: Fischer [fhr3]<br>Räume: Pest-E216<br>Code: BTM1361a
DTSTAMP:20260425T002220Z
END:VEVENT
BEGIN:VEVENT
UID:69ec093c4bd34
DTSTART:20221124T151500Z
SEQUENCE:0
TRANSP:OPAQUE
DTEND:20221124T165000Z
LOCATION:Pest-E216
SUMMARY:Analoge Elektronik
CLASS:PUBLIC
DESCRIPTION:Veranstaltung: Analoge Elektronik (BTM1361)\nDozierende: Fische
 r [fhr3]\nRäume: Pest-E216\nCode: BTM1361a
X-ALT-DESC;FMTTYPE=text/html:Veranstaltung: Analoge Elektronik (BTM1361)<br
 >Dozierende: Fischer [fhr3]<br>Räume: Pest-E216<br>Code: BTM1361a
DTSTAMP:20260425T002220Z
END:VEVENT
BEGIN:VEVENT
UID:69ec093c4bd6d
DTSTART:20221201T151500Z
SEQUENCE:0
TRANSP:OPAQUE
DTEND:20221201T165000Z
LOCATION:Pest-E216
SUMMARY:Analoge Elektronik
CLASS:PUBLIC
DESCRIPTION:Veranstaltung: Analoge Elektronik (BTM1361)\nDozierende: Fische
 r [fhr3]\nRäume: Pest-E216\nCode: BTM1361a
X-ALT-DESC;FMTTYPE=text/html:Veranstaltung: Analoge Elektronik (BTM1361)<br
 >Dozierende: Fischer [fhr3]<br>Räume: Pest-E216<br>Code: BTM1361a
DTSTAMP:20260425T002220Z
END:VEVENT
BEGIN:VEVENT
UID:69ec093c4bd93
DTSTART:20221208T151500Z
SEQUENCE:0
TRANSP:OPAQUE
DTEND:20221208T165000Z
LOCATION:Pest-E216
SUMMARY:Analoge Elektronik
CLASS:PUBLIC
DESCRIPTION:Veranstaltung: Analoge Elektronik (BTM1361)\nDozierende: Fische
 r [fhr3]\nRäume: Pest-E216\nCode: BTM1361a
X-ALT-DESC;FMTTYPE=text/html:Veranstaltung: Analoge Elektronik (BTM1361)<br
 >Dozierende: Fischer [fhr3]<br>Räume: Pest-E216<br>Code: BTM1361a
DTSTAMP:20260425T002220Z
END:VEVENT
BEGIN:VEVENT
UID:69ec093c4bdb8
DTSTART:20221215T151500Z
SEQUENCE:0
TRANSP:OPAQUE
DTEND:20221215T165000Z
LOCATION:Pest-E216
SUMMARY:Analoge Elektronik
CLASS:PUBLIC
DESCRIPTION:Veranstaltung: Analoge Elektronik (BTM1361)\nDozierende: Fische
 r [fhr3]\nRäume: Pest-E216\nCode: BTM1361a
X-ALT-DESC;FMTTYPE=text/html:Veranstaltung: Analoge Elektronik (BTM1361)<br
 >Dozierende: Fischer [fhr3]<br>Räume: Pest-E216<br>Code: BTM1361a
DTSTAMP:20260425T002220Z
END:VEVENT
BEGIN:VEVENT
UID:69ec093c4bdde
DTSTART:20221222T151500Z
SEQUENCE:0
TRANSP:OPAQUE
DTEND:20221222T165000Z
LOCATION:Pest-E216
SUMMARY:Analoge Elektronik
CLASS:PUBLIC
DESCRIPTION:Veranstaltung: Analoge Elektronik (BTM1361)\nDozierende: Fische
 r [fhr3]\nRäume: Pest-E216\nCode: BTM1361a
X-ALT-DESC;FMTTYPE=text/html:Veranstaltung: Analoge Elektronik (BTM1361)<br
 >Dozierende: Fischer [fhr3]<br>Räume: Pest-E216<br>Code: BTM1361a
DTSTAMP:20260425T002220Z
END:VEVENT
BEGIN:VEVENT
UID:69ec093c4be04
DTSTART:20230112T151500Z
SEQUENCE:0
TRANSP:OPAQUE
DTEND:20230112T165000Z
LOCATION:Pest-E216
SUMMARY:Analoge Elektronik
CLASS:PUBLIC
DESCRIPTION:Veranstaltung: Analoge Elektronik (BTM1361)\nDozierende: Fische
 r [fhr3]\nRäume: Pest-E216\nCode: BTM1361a
X-ALT-DESC;FMTTYPE=text/html:Veranstaltung: Analoge Elektronik (BTM1361)<br
 >Dozierende: Fischer [fhr3]<br>Räume: Pest-E216<br>Code: BTM1361a
DTSTAMP:20260425T002220Z
END:VEVENT
BEGIN:VEVENT
UID:69ec093c4be28
DTSTART:20230119T151500Z
SEQUENCE:0
TRANSP:OPAQUE
DTEND:20230119T165000Z
LOCATION:Pest-E216
SUMMARY:Analoge Elektronik
CLASS:PUBLIC
DESCRIPTION:Veranstaltung: Analoge Elektronik (BTM1361)\nDozierende: Fische
 r [fhr3]\nRäume: Pest-E216\nCode: BTM1361a
X-ALT-DESC;FMTTYPE=text/html:Veranstaltung: Analoge Elektronik (BTM1361)<br
 >Dozierende: Fischer [fhr3]<br>Räume: Pest-E216<br>Code: BTM1361a
DTSTAMP:20260425T002220Z
END:VEVENT
BEGIN:VEVENT
UID:69ec093c4be4e
DTSTART:20280921T141500Z
SEQUENCE:0
TRANSP:OPAQUE
DTEND:20280921T155000Z
LOCATION:CBB-E216
SUMMARY:Analoge Elektronik
CLASS:PUBLIC
DESCRIPTION:Veranstaltung: Analoge Elektronik (BTM1361)\nDozierende: Fische
 r [fhr3]\nRäume: CBB-E216\nCode: BTM1361a
X-ALT-DESC;FMTTYPE=text/html:Veranstaltung: Analoge Elektronik (BTM1361)<br
 >Dozierende: Fischer [fhr3]<br>Räume: CBB-E216<br>Code: BTM1361a
DTSTAMP:20260425T002220Z
END:VEVENT
END:VCALENDAR