BEGIN:VCALENDAR
VERSION:2.0
PRODID:www.bfh.ch
X-APPLE-CALENDAR-COLOR:Orange
X-OUTLOOK-COLOR:Orange
X-FUNAMBOL-COLOR:Orange
X-WR-CALNAME:Übersicht BTM1402
BEGIN:VEVENT
UID:69ec0beeeb92d
DTSTART:20210921T104500Z
SEQUENCE:0
TRANSP:OPAQUE
DTEND:20210921T122000Z
LOCATION:E125
SUMMARY:Digitale und Zustands-Regelungen\, Anwendungen
CLASS:PUBLIC
DESCRIPTION:Veranstaltung: Digitale und Zustands-Regelungen\, Anwendungen (
 BTM1402)\nDozierende: Baier [bin3]\, Hunt [huk2]\nRäume: E125\nCode: BTM1
 402a
X-ALT-DESC;FMTTYPE=text/html:Veranstaltung: Digitale und Zustands-Regelunge
 n\, Anwendungen (BTM1402)<br>Dozierende: Baier [bin3]\, Hunt [huk2]<br>Rä
 ume: E125<br>Code: BTM1402a
DTSTAMP:20260425T003350Z
END:VEVENT
BEGIN:VEVENT
UID:69ec0beeeb9f9
DTSTART:20210922T141500Z
SEQUENCE:0
TRANSP:OPAQUE
DTEND:20210922T155000Z
LOCATION:E125
SUMMARY:Digitale und Zustands-Regelungen\, Anwendungen
CLASS:PUBLIC
DESCRIPTION:Veranstaltung: Digitale und Zustands-Regelungen\, Anwendungen (
 BTM1402)\nDozierende: Baier [bin3]\, Hunt [huk2]\nRäume: E125\nCode: BTM1
 402a
X-ALT-DESC;FMTTYPE=text/html:Veranstaltung: Digitale und Zustands-Regelunge
 n\, Anwendungen (BTM1402)<br>Dozierende: Baier [bin3]\, Hunt [huk2]<br>Rä
 ume: E125<br>Code: BTM1402a
DTSTAMP:20260425T003350Z
END:VEVENT
BEGIN:VEVENT
UID:69ec0beeeba2c
DTSTART:20210928T104500Z
SEQUENCE:0
TRANSP:OPAQUE
DTEND:20210928T122000Z
LOCATION:E125
SUMMARY:Digitale und Zustands-Regelungen\, Anwendungen
CLASS:PUBLIC
DESCRIPTION:Veranstaltung: Digitale und Zustands-Regelungen\, Anwendungen (
 BTM1402)\nDozierende: Baier [bin3]\, Hunt [huk2]\nRäume: E125\nCode: BTM1
 402a
X-ALT-DESC;FMTTYPE=text/html:Veranstaltung: Digitale und Zustands-Regelunge
 n\, Anwendungen (BTM1402)<br>Dozierende: Baier [bin3]\, Hunt [huk2]<br>Rä
 ume: E125<br>Code: BTM1402a
DTSTAMP:20260425T003350Z
END:VEVENT
BEGIN:VEVENT
UID:69ec0beeeba57
DTSTART:20210929T141500Z
SEQUENCE:0
TRANSP:OPAQUE
DTEND:20210929T155000Z
LOCATION:E125
SUMMARY:Digitale und Zustands-Regelungen\, Anwendungen
CLASS:PUBLIC
DESCRIPTION:Veranstaltung: Digitale und Zustands-Regelungen\, Anwendungen (
 BTM1402)\nDozierende: Baier [bin3]\, Hunt [huk2]\nRäume: E125\nCode: BTM1
 402a
X-ALT-DESC;FMTTYPE=text/html:Veranstaltung: Digitale und Zustands-Regelunge
 n\, Anwendungen (BTM1402)<br>Dozierende: Baier [bin3]\, Hunt [huk2]<br>Rä
 ume: E125<br>Code: BTM1402a
DTSTAMP:20260425T003350Z
END:VEVENT
BEGIN:VEVENT
UID:69ec0beeeba80
DTSTART:20211005T104500Z
SEQUENCE:0
TRANSP:OPAQUE
DTEND:20211005T122000Z
LOCATION:E125
SUMMARY:Digitale und Zustands-Regelungen\, Anwendungen
CLASS:PUBLIC
DESCRIPTION:Veranstaltung: Digitale und Zustands-Regelungen\, Anwendungen (
 BTM1402)\nDozierende: Baier [bin3]\, Hunt [huk2]\nRäume: E125\nCode: BTM1
 402a
X-ALT-DESC;FMTTYPE=text/html:Veranstaltung: Digitale und Zustands-Regelunge
 n\, Anwendungen (BTM1402)<br>Dozierende: Baier [bin3]\, Hunt [huk2]<br>Rä
 ume: E125<br>Code: BTM1402a
DTSTAMP:20260425T003350Z
END:VEVENT
BEGIN:VEVENT
UID:69ec0beeebaa8
DTSTART:20211006T141500Z
SEQUENCE:0
TRANSP:OPAQUE
DTEND:20211006T155000Z
LOCATION:E125
SUMMARY:Digitale und Zustands-Regelungen\, Anwendungen
CLASS:PUBLIC
DESCRIPTION:Veranstaltung: Digitale und Zustands-Regelungen\, Anwendungen (
 BTM1402)\nDozierende: Baier [bin3]\, Hunt [huk2]\nRäume: E125\nCode: BTM1
 402a
X-ALT-DESC;FMTTYPE=text/html:Veranstaltung: Digitale und Zustands-Regelunge
 n\, Anwendungen (BTM1402)<br>Dozierende: Baier [bin3]\, Hunt [huk2]<br>Rä
 ume: E125<br>Code: BTM1402a
DTSTAMP:20260425T003350Z
END:VEVENT
BEGIN:VEVENT
UID:69ec0beeebad1
DTSTART:20211012T104500Z
SEQUENCE:0
TRANSP:OPAQUE
DTEND:20211012T122000Z
LOCATION:E125
SUMMARY:Digitale und Zustands-Regelungen\, Anwendungen
CLASS:PUBLIC
DESCRIPTION:Veranstaltung: Digitale und Zustands-Regelungen\, Anwendungen (
 BTM1402)\nDozierende: Baier [bin3]\, Hunt [huk2]\nRäume: E125\nCode: BTM1
 402a
X-ALT-DESC;FMTTYPE=text/html:Veranstaltung: Digitale und Zustands-Regelunge
 n\, Anwendungen (BTM1402)<br>Dozierende: Baier [bin3]\, Hunt [huk2]<br>Rä
 ume: E125<br>Code: BTM1402a
DTSTAMP:20260425T003350Z
END:VEVENT
BEGIN:VEVENT
UID:69ec0beeebaf9
DTSTART:20211013T141500Z
SEQUENCE:0
TRANSP:OPAQUE
DTEND:20211013T155000Z
LOCATION:E125
SUMMARY:Digitale und Zustands-Regelungen\, Anwendungen
CLASS:PUBLIC
DESCRIPTION:Veranstaltung: Digitale und Zustands-Regelungen\, Anwendungen (
 BTM1402)\nDozierende: Baier [bin3]\, Hunt [huk2]\nRäume: E125\nCode: BTM1
 402a
X-ALT-DESC;FMTTYPE=text/html:Veranstaltung: Digitale und Zustands-Regelunge
 n\, Anwendungen (BTM1402)<br>Dozierende: Baier [bin3]\, Hunt [huk2]<br>Rä
 ume: E125<br>Code: BTM1402a
DTSTAMP:20260425T003350Z
END:VEVENT
BEGIN:VEVENT
UID:69ec0beeebb21
DTSTART:20211019T104500Z
SEQUENCE:0
TRANSP:OPAQUE
DTEND:20211019T122000Z
LOCATION:E125
SUMMARY:Digitale und Zustands-Regelungen\, Anwendungen
CLASS:PUBLIC
DESCRIPTION:Veranstaltung: Digitale und Zustands-Regelungen\, Anwendungen (
 BTM1402)\nDozierende: Baier [bin3]\, Hunt [huk2]\nRäume: E125\nCode: BTM1
 402a
X-ALT-DESC;FMTTYPE=text/html:Veranstaltung: Digitale und Zustands-Regelunge
 n\, Anwendungen (BTM1402)<br>Dozierende: Baier [bin3]\, Hunt [huk2]<br>Rä
 ume: E125<br>Code: BTM1402a
DTSTAMP:20260425T003350Z
END:VEVENT
BEGIN:VEVENT
UID:69ec0beeebb49
DTSTART:20211020T141500Z
SEQUENCE:0
TRANSP:OPAQUE
DTEND:20211020T155000Z
LOCATION:E125
SUMMARY:Digitale und Zustands-Regelungen\, Anwendungen
CLASS:PUBLIC
DESCRIPTION:Veranstaltung: Digitale und Zustands-Regelungen\, Anwendungen (
 BTM1402)\nDozierende: Baier [bin3]\, Hunt [huk2]\nRäume: E125\nCode: BTM1
 402a
X-ALT-DESC;FMTTYPE=text/html:Veranstaltung: Digitale und Zustands-Regelunge
 n\, Anwendungen (BTM1402)<br>Dozierende: Baier [bin3]\, Hunt [huk2]<br>Rä
 ume: E125<br>Code: BTM1402a
DTSTAMP:20260425T003350Z
END:VEVENT
BEGIN:VEVENT
UID:69ec0beeebb70
DTSTART:20211026T104500Z
SEQUENCE:0
TRANSP:OPAQUE
DTEND:20211026T122000Z
LOCATION:E125
SUMMARY:Digitale und Zustands-Regelungen\, Anwendungen
CLASS:PUBLIC
DESCRIPTION:Veranstaltung: Digitale und Zustands-Regelungen\, Anwendungen (
 BTM1402)\nDozierende: Baier [bin3]\, Hunt [huk2]\nRäume: E125\nCode: BTM1
 402a
X-ALT-DESC;FMTTYPE=text/html:Veranstaltung: Digitale und Zustands-Regelunge
 n\, Anwendungen (BTM1402)<br>Dozierende: Baier [bin3]\, Hunt [huk2]<br>Rä
 ume: E125<br>Code: BTM1402a
DTSTAMP:20260425T003350Z
END:VEVENT
BEGIN:VEVENT
UID:69ec0beeebb99
DTSTART:20211027T141500Z
SEQUENCE:0
TRANSP:OPAQUE
DTEND:20211027T155000Z
LOCATION:E125
SUMMARY:Digitale und Zustands-Regelungen\, Anwendungen
CLASS:PUBLIC
DESCRIPTION:Veranstaltung: Digitale und Zustands-Regelungen\, Anwendungen (
 BTM1402)\nDozierende: Baier [bin3]\, Hunt [huk2]\nRäume: E125\nCode: BTM1
 402a
X-ALT-DESC;FMTTYPE=text/html:Veranstaltung: Digitale und Zustands-Regelunge
 n\, Anwendungen (BTM1402)<br>Dozierende: Baier [bin3]\, Hunt [huk2]<br>Rä
 ume: E125<br>Code: BTM1402a
DTSTAMP:20260425T003350Z
END:VEVENT
BEGIN:VEVENT
UID:69ec0beeebbc1
DTSTART:20211102T114500Z
SEQUENCE:0
TRANSP:OPAQUE
DTEND:20211102T132000Z
LOCATION:E125
SUMMARY:Digitale und Zustands-Regelungen\, Anwendungen
CLASS:PUBLIC
DESCRIPTION:Veranstaltung: Digitale und Zustands-Regelungen\, Anwendungen (
 BTM1402)\nDozierende: Baier [bin3]\, Hunt [huk2]\nRäume: E125\nCode: BTM1
 402a
X-ALT-DESC;FMTTYPE=text/html:Veranstaltung: Digitale und Zustands-Regelunge
 n\, Anwendungen (BTM1402)<br>Dozierende: Baier [bin3]\, Hunt [huk2]<br>Rä
 ume: E125<br>Code: BTM1402a
DTSTAMP:20260425T003350Z
END:VEVENT
BEGIN:VEVENT
UID:69ec0beeebbe8
DTSTART:20211103T151500Z
SEQUENCE:0
TRANSP:OPAQUE
DTEND:20211103T165000Z
LOCATION:E125
SUMMARY:Digitale und Zustands-Regelungen\, Anwendungen
CLASS:PUBLIC
DESCRIPTION:Veranstaltung: Digitale und Zustands-Regelungen\, Anwendungen (
 BTM1402)\nDozierende: Baier [bin3]\, Hunt [huk2]\nRäume: E125\nCode: BTM1
 402a
X-ALT-DESC;FMTTYPE=text/html:Veranstaltung: Digitale und Zustands-Regelunge
 n\, Anwendungen (BTM1402)<br>Dozierende: Baier [bin3]\, Hunt [huk2]<br>Rä
 ume: E125<br>Code: BTM1402a
DTSTAMP:20260425T003350Z
END:VEVENT
BEGIN:VEVENT
UID:69ec0beeebc0f
DTSTART:20211109T114500Z
SEQUENCE:0
TRANSP:OPAQUE
DTEND:20211109T132000Z
LOCATION:E125
SUMMARY:Digitale und Zustands-Regelungen\, Anwendungen
CLASS:PUBLIC
DESCRIPTION:Veranstaltung: Digitale und Zustands-Regelungen\, Anwendungen (
 BTM1402)\nDozierende: Baier [bin3]\, Hunt [huk2]\nRäume: E125\nCode: BTM1
 402a
X-ALT-DESC;FMTTYPE=text/html:Veranstaltung: Digitale und Zustands-Regelunge
 n\, Anwendungen (BTM1402)<br>Dozierende: Baier [bin3]\, Hunt [huk2]<br>Rä
 ume: E125<br>Code: BTM1402a
DTSTAMP:20260425T003350Z
END:VEVENT
BEGIN:VEVENT
UID:69ec0beeebc38
DTSTART:20211110T151500Z
SEQUENCE:0
TRANSP:OPAQUE
DTEND:20211110T165000Z
LOCATION:E125
SUMMARY:Digitale und Zustands-Regelungen\, Anwendungen
CLASS:PUBLIC
DESCRIPTION:Veranstaltung: Digitale und Zustands-Regelungen\, Anwendungen (
 BTM1402)\nDozierende: Baier [bin3]\, Hunt [huk2]\nRäume: E125\nCode: BTM1
 402a
X-ALT-DESC;FMTTYPE=text/html:Veranstaltung: Digitale und Zustands-Regelunge
 n\, Anwendungen (BTM1402)<br>Dozierende: Baier [bin3]\, Hunt [huk2]<br>Rä
 ume: E125<br>Code: BTM1402a
DTSTAMP:20260425T003350Z
END:VEVENT
BEGIN:VEVENT
UID:69ec0beeebc60
DTSTART:20211116T114500Z
SEQUENCE:0
TRANSP:OPAQUE
DTEND:20211116T132000Z
LOCATION:E125
SUMMARY:Digitale und Zustands-Regelungen\, Anwendungen
CLASS:PUBLIC
DESCRIPTION:Veranstaltung: Digitale und Zustands-Regelungen\, Anwendungen (
 BTM1402)\nDozierende: Baier [bin3]\, Hunt [huk2]\nRäume: E125\nCode: BTM1
 402a
X-ALT-DESC;FMTTYPE=text/html:Veranstaltung: Digitale und Zustands-Regelunge
 n\, Anwendungen (BTM1402)<br>Dozierende: Baier [bin3]\, Hunt [huk2]<br>Rä
 ume: E125<br>Code: BTM1402a
DTSTAMP:20260425T003350Z
END:VEVENT
BEGIN:VEVENT
UID:69ec0beeebc88
DTSTART:20211117T151500Z
SEQUENCE:0
TRANSP:OPAQUE
DTEND:20211117T165000Z
LOCATION:E125
SUMMARY:Digitale und Zustands-Regelungen\, Anwendungen
CLASS:PUBLIC
DESCRIPTION:Veranstaltung: Digitale und Zustands-Regelungen\, Anwendungen (
 BTM1402)\nDozierende: Baier [bin3]\, Hunt [huk2]\nRäume: E125\nCode: BTM1
 402a
X-ALT-DESC;FMTTYPE=text/html:Veranstaltung: Digitale und Zustands-Regelunge
 n\, Anwendungen (BTM1402)<br>Dozierende: Baier [bin3]\, Hunt [huk2]<br>Rä
 ume: E125<br>Code: BTM1402a
DTSTAMP:20260425T003350Z
END:VEVENT
BEGIN:VEVENT
UID:69ec0beeebcaf
DTSTART:20211123T114500Z
SEQUENCE:0
TRANSP:OPAQUE
DTEND:20211123T132000Z
LOCATION:E125
SUMMARY:Digitale und Zustands-Regelungen\, Anwendungen
CLASS:PUBLIC
DESCRIPTION:Veranstaltung: Digitale und Zustands-Regelungen\, Anwendungen (
 BTM1402)\nDozierende: Baier [bin3]\, Hunt [huk2]\nRäume: E125\nCode: BTM1
 402a
X-ALT-DESC;FMTTYPE=text/html:Veranstaltung: Digitale und Zustands-Regelunge
 n\, Anwendungen (BTM1402)<br>Dozierende: Baier [bin3]\, Hunt [huk2]<br>Rä
 ume: E125<br>Code: BTM1402a
DTSTAMP:20260425T003350Z
END:VEVENT
BEGIN:VEVENT
UID:69ec0beeebcd5
DTSTART:20211124T151500Z
SEQUENCE:0
TRANSP:OPAQUE
DTEND:20211124T165000Z
LOCATION:E125
SUMMARY:Digitale und Zustands-Regelungen\, Anwendungen
CLASS:PUBLIC
DESCRIPTION:Veranstaltung: Digitale und Zustands-Regelungen\, Anwendungen (
 BTM1402)\nDozierende: Baier [bin3]\, Hunt [huk2]\nRäume: E125\nCode: BTM1
 402a
X-ALT-DESC;FMTTYPE=text/html:Veranstaltung: Digitale und Zustands-Regelunge
 n\, Anwendungen (BTM1402)<br>Dozierende: Baier [bin3]\, Hunt [huk2]<br>Rä
 ume: E125<br>Code: BTM1402a
DTSTAMP:20260425T003350Z
END:VEVENT
BEGIN:VEVENT
UID:69ec0beeebd05
DTSTART:20211130T114500Z
SEQUENCE:0
TRANSP:OPAQUE
DTEND:20211130T132000Z
LOCATION:E125
SUMMARY:Digitale und Zustands-Regelungen\, Anwendungen
CLASS:PUBLIC
DESCRIPTION:Veranstaltung: Digitale und Zustands-Regelungen\, Anwendungen (
 BTM1402)\nDozierende: Baier [bin3]\, Hunt [huk2]\nRäume: E125\nCode: BTM1
 402a
X-ALT-DESC;FMTTYPE=text/html:Veranstaltung: Digitale und Zustands-Regelunge
 n\, Anwendungen (BTM1402)<br>Dozierende: Baier [bin3]\, Hunt [huk2]<br>Rä
 ume: E125<br>Code: BTM1402a
DTSTAMP:20260425T003350Z
END:VEVENT
BEGIN:VEVENT
UID:69ec0beeebd2c
DTSTART:20211201T151500Z
SEQUENCE:0
TRANSP:OPAQUE
DTEND:20211201T165000Z
LOCATION:E125
SUMMARY:Digitale und Zustands-Regelungen\, Anwendungen
CLASS:PUBLIC
DESCRIPTION:Veranstaltung: Digitale und Zustands-Regelungen\, Anwendungen (
 BTM1402)\nDozierende: Baier [bin3]\, Hunt [huk2]\nRäume: E125\nCode: BTM1
 402a
X-ALT-DESC;FMTTYPE=text/html:Veranstaltung: Digitale und Zustands-Regelunge
 n\, Anwendungen (BTM1402)<br>Dozierende: Baier [bin3]\, Hunt [huk2]<br>Rä
 ume: E125<br>Code: BTM1402a
DTSTAMP:20260425T003350Z
END:VEVENT
BEGIN:VEVENT
UID:69ec0beeebd53
DTSTART:20211207T114500Z
SEQUENCE:0
TRANSP:OPAQUE
DTEND:20211207T132000Z
LOCATION:E125
SUMMARY:Digitale und Zustands-Regelungen\, Anwendungen
CLASS:PUBLIC
DESCRIPTION:Veranstaltung: Digitale und Zustands-Regelungen\, Anwendungen (
 BTM1402)\nDozierende: Baier [bin3]\, Hunt [huk2]\nRäume: E125\nCode: BTM1
 402a
X-ALT-DESC;FMTTYPE=text/html:Veranstaltung: Digitale und Zustands-Regelunge
 n\, Anwendungen (BTM1402)<br>Dozierende: Baier [bin3]\, Hunt [huk2]<br>Rä
 ume: E125<br>Code: BTM1402a
DTSTAMP:20260425T003350Z
END:VEVENT
BEGIN:VEVENT
UID:69ec0beeebd7a
DTSTART:20211208T151500Z
SEQUENCE:0
TRANSP:OPAQUE
DTEND:20211208T165000Z
LOCATION:E125
SUMMARY:Digitale und Zustands-Regelungen\, Anwendungen
CLASS:PUBLIC
DESCRIPTION:Veranstaltung: Digitale und Zustands-Regelungen\, Anwendungen (
 BTM1402)\nDozierende: Baier [bin3]\, Hunt [huk2]\nRäume: E125\nCode: BTM1
 402a
X-ALT-DESC;FMTTYPE=text/html:Veranstaltung: Digitale und Zustands-Regelunge
 n\, Anwendungen (BTM1402)<br>Dozierende: Baier [bin3]\, Hunt [huk2]<br>Rä
 ume: E125<br>Code: BTM1402a
DTSTAMP:20260425T003350Z
END:VEVENT
BEGIN:VEVENT
UID:69ec0beeebda1
DTSTART:20211214T114500Z
SEQUENCE:0
TRANSP:OPAQUE
DTEND:20211214T132000Z
LOCATION:E125
SUMMARY:Digitale und Zustands-Regelungen\, Anwendungen
CLASS:PUBLIC
DESCRIPTION:Veranstaltung: Digitale und Zustands-Regelungen\, Anwendungen (
 BTM1402)\nDozierende: Baier [bin3]\, Hunt [huk2]\nRäume: E125\nCode: BTM1
 402a
X-ALT-DESC;FMTTYPE=text/html:Veranstaltung: Digitale und Zustands-Regelunge
 n\, Anwendungen (BTM1402)<br>Dozierende: Baier [bin3]\, Hunt [huk2]<br>Rä
 ume: E125<br>Code: BTM1402a
DTSTAMP:20260425T003350Z
END:VEVENT
BEGIN:VEVENT
UID:69ec0beeebdc9
DTSTART:20211215T151500Z
SEQUENCE:0
TRANSP:OPAQUE
DTEND:20211215T165000Z
LOCATION:E125
SUMMARY:Digitale und Zustands-Regelungen\, Anwendungen
CLASS:PUBLIC
DESCRIPTION:Veranstaltung: Digitale und Zustands-Regelungen\, Anwendungen (
 BTM1402)\nDozierende: Baier [bin3]\, Hunt [huk2]\nRäume: E125\nCode: BTM1
 402a
X-ALT-DESC;FMTTYPE=text/html:Veranstaltung: Digitale und Zustands-Regelunge
 n\, Anwendungen (BTM1402)<br>Dozierende: Baier [bin3]\, Hunt [huk2]<br>Rä
 ume: E125<br>Code: BTM1402a
DTSTAMP:20260425T003350Z
END:VEVENT
BEGIN:VEVENT
UID:69ec0beeebdf2
DTSTART:20211221T114500Z
SEQUENCE:0
TRANSP:OPAQUE
DTEND:20211221T132000Z
LOCATION:E125
SUMMARY:Digitale und Zustands-Regelungen\, Anwendungen
CLASS:PUBLIC
DESCRIPTION:Veranstaltung: Digitale und Zustands-Regelungen\, Anwendungen (
 BTM1402)\nDozierende: Baier [bin3]\, Hunt [huk2]\nRäume: E125\nCode: BTM1
 402a
X-ALT-DESC;FMTTYPE=text/html:Veranstaltung: Digitale und Zustands-Regelunge
 n\, Anwendungen (BTM1402)<br>Dozierende: Baier [bin3]\, Hunt [huk2]<br>Rä
 ume: E125<br>Code: BTM1402a
DTSTAMP:20260425T003350Z
END:VEVENT
BEGIN:VEVENT
UID:69ec0beeebe19
DTSTART:20211222T151500Z
SEQUENCE:0
TRANSP:OPAQUE
DTEND:20211222T165000Z
LOCATION:E125
SUMMARY:Digitale und Zustands-Regelungen\, Anwendungen
CLASS:PUBLIC
DESCRIPTION:Veranstaltung: Digitale und Zustands-Regelungen\, Anwendungen (
 BTM1402)\nDozierende: Baier [bin3]\, Hunt [huk2]\nRäume: E125\nCode: BTM1
 402a
X-ALT-DESC;FMTTYPE=text/html:Veranstaltung: Digitale und Zustands-Regelunge
 n\, Anwendungen (BTM1402)<br>Dozierende: Baier [bin3]\, Hunt [huk2]<br>Rä
 ume: E125<br>Code: BTM1402a
DTSTAMP:20260425T003350Z
END:VEVENT
BEGIN:VEVENT
UID:69ec0beeebe41
DTSTART:20220111T114500Z
SEQUENCE:0
TRANSP:OPAQUE
DTEND:20220111T132000Z
LOCATION:E125
SUMMARY:Digitale und Zustands-Regelungen\, Anwendungen
CLASS:PUBLIC
DESCRIPTION:Veranstaltung: Digitale und Zustands-Regelungen\, Anwendungen (
 BTM1402)\nDozierende: Baier [bin3]\, Hunt [huk2]\nRäume: E125\nCode: BTM1
 402a
X-ALT-DESC;FMTTYPE=text/html:Veranstaltung: Digitale und Zustands-Regelunge
 n\, Anwendungen (BTM1402)<br>Dozierende: Baier [bin3]\, Hunt [huk2]<br>Rä
 ume: E125<br>Code: BTM1402a
DTSTAMP:20260425T003350Z
END:VEVENT
BEGIN:VEVENT
UID:69ec0beeebe68
DTSTART:20220112T151500Z
SEQUENCE:0
TRANSP:OPAQUE
DTEND:20220112T165000Z
LOCATION:E125
SUMMARY:Digitale und Zustands-Regelungen\, Anwendungen
CLASS:PUBLIC
DESCRIPTION:Veranstaltung: Digitale und Zustands-Regelungen\, Anwendungen (
 BTM1402)\nDozierende: Baier [bin3]\, Hunt [huk2]\nRäume: E125\nCode: BTM1
 402a
X-ALT-DESC;FMTTYPE=text/html:Veranstaltung: Digitale und Zustands-Regelunge
 n\, Anwendungen (BTM1402)<br>Dozierende: Baier [bin3]\, Hunt [huk2]<br>Rä
 ume: E125<br>Code: BTM1402a
DTSTAMP:20260425T003350Z
END:VEVENT
BEGIN:VEVENT
UID:69ec0beeebe90
DTSTART:20220118T114500Z
SEQUENCE:0
TRANSP:OPAQUE
DTEND:20220118T132000Z
LOCATION:E125
SUMMARY:Digitale und Zustands-Regelungen\, Anwendungen
CLASS:PUBLIC
DESCRIPTION:Veranstaltung: Digitale und Zustands-Regelungen\, Anwendungen (
 BTM1402)\nDozierende: Baier [bin3]\, Hunt [huk2]\nRäume: E125\nCode: BTM1
 402a
X-ALT-DESC;FMTTYPE=text/html:Veranstaltung: Digitale und Zustands-Regelunge
 n\, Anwendungen (BTM1402)<br>Dozierende: Baier [bin3]\, Hunt [huk2]<br>Rä
 ume: E125<br>Code: BTM1402a
DTSTAMP:20260425T003350Z
END:VEVENT
BEGIN:VEVENT
UID:69ec0beeebeb7
DTSTART:20220119T151500Z
SEQUENCE:0
TRANSP:OPAQUE
DTEND:20220119T165000Z
LOCATION:E125
SUMMARY:Digitale und Zustands-Regelungen\, Anwendungen
CLASS:PUBLIC
DESCRIPTION:Veranstaltung: Digitale und Zustands-Regelungen\, Anwendungen (
 BTM1402)\nDozierende: Baier [bin3]\, Hunt [huk2]\nRäume: E125\nCode: BTM1
 402a
X-ALT-DESC;FMTTYPE=text/html:Veranstaltung: Digitale und Zustands-Regelunge
 n\, Anwendungen (BTM1402)<br>Dozierende: Baier [bin3]\, Hunt [huk2]<br>Rä
 ume: E125<br>Code: BTM1402a
DTSTAMP:20260425T003350Z
END:VEVENT
BEGIN:VEVENT
UID:69ec0beeebedf
DTSTART:20220922T062000Z
SEQUENCE:0
TRANSP:OPAQUE
DTEND:20220922T095500Z
LOCATION:Pest-M010
SUMMARY:Digitale und Zustands-Regelungen\, Anwendungen
CLASS:PUBLIC
DESCRIPTION:Veranstaltung: Digitale und Zustands-Regelungen\, Anwendungen (
 BTM1402)\nDozierende: Baier [bin3]\nRäume: Pest-M010\nCode: BTM1402a
X-ALT-DESC;FMTTYPE=text/html:Veranstaltung: Digitale und Zustands-Regelunge
 n\, Anwendungen (BTM1402)<br>Dozierende: Baier [bin3]<br>Räume: Pest-M010
 <br>Code: BTM1402a
DTSTAMP:20260425T003350Z
END:VEVENT
BEGIN:VEVENT
UID:69ec0beeebf07
DTSTART:20220929T062000Z
SEQUENCE:0
TRANSP:OPAQUE
DTEND:20220929T095500Z
LOCATION:Pest-M010
SUMMARY:Digitale und Zustands-Regelungen\, Anwendungen
CLASS:PUBLIC
DESCRIPTION:Veranstaltung: Digitale und Zustands-Regelungen\, Anwendungen (
 BTM1402)\nDozierende: Baier [bin3]\nRäume: Pest-M010\nCode: BTM1402a
X-ALT-DESC;FMTTYPE=text/html:Veranstaltung: Digitale und Zustands-Regelunge
 n\, Anwendungen (BTM1402)<br>Dozierende: Baier [bin3]<br>Räume: Pest-M010
 <br>Code: BTM1402a
DTSTAMP:20260425T003350Z
END:VEVENT
BEGIN:VEVENT
UID:69ec0beeebf2f
DTSTART:20221006T062000Z
SEQUENCE:0
TRANSP:OPAQUE
DTEND:20221006T095500Z
LOCATION:Pest-M010
SUMMARY:Digitale und Zustands-Regelungen\, Anwendungen
CLASS:PUBLIC
DESCRIPTION:Veranstaltung: Digitale und Zustands-Regelungen\, Anwendungen (
 BTM1402)\nDozierende: Baier [bin3]\nRäume: Pest-M010\nCode: BTM1402a
X-ALT-DESC;FMTTYPE=text/html:Veranstaltung: Digitale und Zustands-Regelunge
 n\, Anwendungen (BTM1402)<br>Dozierende: Baier [bin3]<br>Räume: Pest-M010
 <br>Code: BTM1402a
DTSTAMP:20260425T003350Z
END:VEVENT
BEGIN:VEVENT
UID:69ec0beeebf57
DTSTART:20221013T062000Z
SEQUENCE:0
TRANSP:OPAQUE
DTEND:20221013T095500Z
LOCATION:Pest-M010
SUMMARY:Digitale und Zustands-Regelungen\, Anwendungen
CLASS:PUBLIC
DESCRIPTION:Veranstaltung: Digitale und Zustands-Regelungen\, Anwendungen (
 BTM1402)\nDozierende: Baier [bin3]\nRäume: Pest-M010\nCode: BTM1402a
X-ALT-DESC;FMTTYPE=text/html:Veranstaltung: Digitale und Zustands-Regelunge
 n\, Anwendungen (BTM1402)<br>Dozierende: Baier [bin3]<br>Räume: Pest-M010
 <br>Code: BTM1402a
DTSTAMP:20260425T003350Z
END:VEVENT
BEGIN:VEVENT
UID:69ec0beeebf7d
DTSTART:20221020T062000Z
SEQUENCE:0
TRANSP:OPAQUE
DTEND:20221020T095500Z
LOCATION:Pest-M010
SUMMARY:Digitale und Zustands-Regelungen\, Anwendungen
CLASS:PUBLIC
DESCRIPTION:Veranstaltung: Digitale und Zustands-Regelungen\, Anwendungen (
 BTM1402)\nDozierende: Baier [bin3]\nRäume: Pest-M010\nCode: BTM1402a
X-ALT-DESC;FMTTYPE=text/html:Veranstaltung: Digitale und Zustands-Regelunge
 n\, Anwendungen (BTM1402)<br>Dozierende: Baier [bin3]<br>Räume: Pest-M010
 <br>Code: BTM1402a
DTSTAMP:20260425T003350Z
END:VEVENT
BEGIN:VEVENT
UID:69ec0beeebfa5
DTSTART:20221027T062000Z
SEQUENCE:0
TRANSP:OPAQUE
DTEND:20221027T095500Z
LOCATION:Pest-M010
SUMMARY:Digitale und Zustands-Regelungen\, Anwendungen
CLASS:PUBLIC
DESCRIPTION:Veranstaltung: Digitale und Zustands-Regelungen\, Anwendungen (
 BTM1402)\nDozierende: Baier [bin3]\nRäume: Pest-M010\nCode: BTM1402a
X-ALT-DESC;FMTTYPE=text/html:Veranstaltung: Digitale und Zustands-Regelunge
 n\, Anwendungen (BTM1402)<br>Dozierende: Baier [bin3]<br>Räume: Pest-M010
 <br>Code: BTM1402a
DTSTAMP:20260425T003350Z
END:VEVENT
BEGIN:VEVENT
UID:69ec0beeebff6
DTSTART:20221103T072000Z
SEQUENCE:0
TRANSP:OPAQUE
DTEND:20221103T105500Z
LOCATION:Pest-M010
SUMMARY:Digitale und Zustands-Regelungen\, Anwendungen
CLASS:PUBLIC
DESCRIPTION:Veranstaltung: Digitale und Zustands-Regelungen\, Anwendungen (
 BTM1402)\nDozierende: Baier [bin3]\nRäume: Pest-M010\nCode: BTM1402a
X-ALT-DESC;FMTTYPE=text/html:Veranstaltung: Digitale und Zustands-Regelunge
 n\, Anwendungen (BTM1402)<br>Dozierende: Baier [bin3]<br>Räume: Pest-M010
 <br>Code: BTM1402a
DTSTAMP:20260425T003350Z
END:VEVENT
BEGIN:VEVENT
UID:69ec0beeec01d
DTSTART:20221110T072000Z
SEQUENCE:0
TRANSP:OPAQUE
DTEND:20221110T105500Z
LOCATION:Pest-M010
SUMMARY:Digitale und Zustands-Regelungen\, Anwendungen
CLASS:PUBLIC
DESCRIPTION:Veranstaltung: Digitale und Zustands-Regelungen\, Anwendungen (
 BTM1402)\nDozierende: Baier [bin3]\nRäume: Pest-M010\nCode: BTM1402a
X-ALT-DESC;FMTTYPE=text/html:Veranstaltung: Digitale und Zustands-Regelunge
 n\, Anwendungen (BTM1402)<br>Dozierende: Baier [bin3]<br>Räume: Pest-M010
 <br>Code: BTM1402a
DTSTAMP:20260425T003350Z
END:VEVENT
BEGIN:VEVENT
UID:69ec0beeec043
DTSTART:20221117T072000Z
SEQUENCE:0
TRANSP:OPAQUE
DTEND:20221117T105500Z
LOCATION:Pest-M010
SUMMARY:Digitale und Zustands-Regelungen\, Anwendungen
CLASS:PUBLIC
DESCRIPTION:Veranstaltung: Digitale und Zustands-Regelungen\, Anwendungen (
 BTM1402)\nDozierende: Baier [bin3]\nRäume: Pest-M010\nCode: BTM1402a
X-ALT-DESC;FMTTYPE=text/html:Veranstaltung: Digitale und Zustands-Regelunge
 n\, Anwendungen (BTM1402)<br>Dozierende: Baier [bin3]<br>Räume: Pest-M010
 <br>Code: BTM1402a
DTSTAMP:20260425T003350Z
END:VEVENT
BEGIN:VEVENT
UID:69ec0beeec06a
DTSTART:20221124T072000Z
SEQUENCE:0
TRANSP:OPAQUE
DTEND:20221124T105500Z
LOCATION:Pest-M010
SUMMARY:Digitale und Zustands-Regelungen\, Anwendungen
CLASS:PUBLIC
DESCRIPTION:Veranstaltung: Digitale und Zustands-Regelungen\, Anwendungen (
 BTM1402)\nDozierende: Baier [bin3]\nRäume: Pest-M010\nCode: BTM1402a
X-ALT-DESC;FMTTYPE=text/html:Veranstaltung: Digitale und Zustands-Regelunge
 n\, Anwendungen (BTM1402)<br>Dozierende: Baier [bin3]<br>Räume: Pest-M010
 <br>Code: BTM1402a
DTSTAMP:20260425T003350Z
END:VEVENT
BEGIN:VEVENT
UID:69ec0beeec092
DTSTART:20221201T072000Z
SEQUENCE:0
TRANSP:OPAQUE
DTEND:20221201T105500Z
LOCATION:Pest-M010
SUMMARY:Digitale und Zustands-Regelungen\, Anwendungen
CLASS:PUBLIC
DESCRIPTION:Veranstaltung: Digitale und Zustands-Regelungen\, Anwendungen (
 BTM1402)\nDozierende: Baier [bin3]\nRäume: Pest-M010\nCode: BTM1402a
X-ALT-DESC;FMTTYPE=text/html:Veranstaltung: Digitale und Zustands-Regelunge
 n\, Anwendungen (BTM1402)<br>Dozierende: Baier [bin3]<br>Räume: Pest-M010
 <br>Code: BTM1402a
DTSTAMP:20260425T003350Z
END:VEVENT
BEGIN:VEVENT
UID:69ec0beeec0b8
DTSTART:20221208T072000Z
SEQUENCE:0
TRANSP:OPAQUE
DTEND:20221208T105500Z
LOCATION:Pest-M010
SUMMARY:Digitale und Zustands-Regelungen\, Anwendungen
CLASS:PUBLIC
DESCRIPTION:Veranstaltung: Digitale und Zustands-Regelungen\, Anwendungen (
 BTM1402)\nDozierende: Baier [bin3]\nRäume: Pest-M010\nCode: BTM1402a
X-ALT-DESC;FMTTYPE=text/html:Veranstaltung: Digitale und Zustands-Regelunge
 n\, Anwendungen (BTM1402)<br>Dozierende: Baier [bin3]<br>Räume: Pest-M010
 <br>Code: BTM1402a
DTSTAMP:20260425T003350Z
END:VEVENT
BEGIN:VEVENT
UID:69ec0beeec0df
DTSTART:20221215T072000Z
SEQUENCE:0
TRANSP:OPAQUE
DTEND:20221215T105500Z
LOCATION:Pest-M010
SUMMARY:Digitale und Zustands-Regelungen\, Anwendungen
CLASS:PUBLIC
DESCRIPTION:Veranstaltung: Digitale und Zustands-Regelungen\, Anwendungen (
 BTM1402)\nDozierende: Baier [bin3]\nRäume: Pest-M010\nCode: BTM1402a
X-ALT-DESC;FMTTYPE=text/html:Veranstaltung: Digitale und Zustands-Regelunge
 n\, Anwendungen (BTM1402)<br>Dozierende: Baier [bin3]<br>Räume: Pest-M010
 <br>Code: BTM1402a
DTSTAMP:20260425T003350Z
END:VEVENT
BEGIN:VEVENT
UID:69ec0beeec10d
DTSTART:20221222T072000Z
SEQUENCE:0
TRANSP:OPAQUE
DTEND:20221222T105500Z
LOCATION:Pest-M010
SUMMARY:Digitale und Zustands-Regelungen\, Anwendungen
CLASS:PUBLIC
DESCRIPTION:Veranstaltung: Digitale und Zustands-Regelungen\, Anwendungen (
 BTM1402)\nDozierende: Baier [bin3]\nRäume: Pest-M010\nCode: BTM1402a
X-ALT-DESC;FMTTYPE=text/html:Veranstaltung: Digitale und Zustands-Regelunge
 n\, Anwendungen (BTM1402)<br>Dozierende: Baier [bin3]<br>Räume: Pest-M010
 <br>Code: BTM1402a
DTSTAMP:20260425T003350Z
END:VEVENT
BEGIN:VEVENT
UID:69ec0beeec134
DTSTART:20230112T072000Z
SEQUENCE:0
TRANSP:OPAQUE
DTEND:20230112T105500Z
LOCATION:Pest-M010
SUMMARY:Digitale und Zustands-Regelungen\, Anwendungen
CLASS:PUBLIC
DESCRIPTION:Veranstaltung: Digitale und Zustands-Regelungen\, Anwendungen (
 BTM1402)\nDozierende: Baier [bin3]\nRäume: Pest-M010\nCode: BTM1402a
X-ALT-DESC;FMTTYPE=text/html:Veranstaltung: Digitale und Zustands-Regelunge
 n\, Anwendungen (BTM1402)<br>Dozierende: Baier [bin3]<br>Räume: Pest-M010
 <br>Code: BTM1402a
DTSTAMP:20260425T003350Z
END:VEVENT
BEGIN:VEVENT
UID:69ec0beeec15c
DTSTART:20230119T072000Z
SEQUENCE:0
TRANSP:OPAQUE
DTEND:20230119T105500Z
LOCATION:Pest-M010
SUMMARY:Digitale und Zustands-Regelungen\, Anwendungen
CLASS:PUBLIC
DESCRIPTION:Veranstaltung: Digitale und Zustands-Regelungen\, Anwendungen (
 BTM1402)\nDozierende: Baier [bin3]\nRäume: Pest-M010\nCode: BTM1402a
X-ALT-DESC;FMTTYPE=text/html:Veranstaltung: Digitale und Zustands-Regelunge
 n\, Anwendungen (BTM1402)<br>Dozierende: Baier [bin3]<br>Räume: Pest-M010
 <br>Code: BTM1402a
DTSTAMP:20260425T003350Z
END:VEVENT
BEGIN:VEVENT
UID:69ec0beeec185
DTSTART:20280921T062000Z
SEQUENCE:0
TRANSP:OPAQUE
DTEND:20280921T095500Z
LOCATION:CBB-M010
SUMMARY:Digitale und Zustands-Regelungen\, Anwendungen
CLASS:PUBLIC
DESCRIPTION:Veranstaltung: Digitale und Zustands-Regelungen\, Anwendungen (
 BTM1402)\nDozierende: Baier [bin3]\nRäume: CBB-M010\nCode: BTM1402a
X-ALT-DESC;FMTTYPE=text/html:Veranstaltung: Digitale und Zustands-Regelunge
 n\, Anwendungen (BTM1402)<br>Dozierende: Baier [bin3]<br>Räume: CBB-M010<
 br>Code: BTM1402a
DTSTAMP:20260425T003350Z
END:VEVENT
END:VCALENDAR