BEGIN:VCALENDAR
VERSION:2.0
PRODID:www.bfh.ch
X-APPLE-CALENDAR-COLOR:Orange
X-OUTLOOK-COLOR:Orange
X-FUNAMBOL-COLOR:Orange
X-WR-CALNAME:Übersicht BTM1452
BEGIN:VEVENT
UID:69ec0487d74b2
DTSTART:20220225T132500Z
SEQUENCE:0
TRANSP:OPAQUE
DTEND:20220225T150000Z
LOCATION:M303
SUMMARY:SPS Steuerungen nach IEC 61131\, Safety
CLASS:PUBLIC
DESCRIPTION:Veranstaltung: SPS Steuerungen nach IEC 61131\, Safety (BTM1452
 )\nDozierende: Borer [brm9]\nRäume: M303\nCode: BTM1452a
X-ALT-DESC;FMTTYPE=text/html:Veranstaltung: SPS Steuerungen nach IEC 61131\
 , Safety (BTM1452)<br>Dozierende: Borer [brm9]<br>Räume: M303<br>Code: BT
 M1452a
DTSTAMP:20260425T000215Z
END:VEVENT
BEGIN:VEVENT
UID:69ec0487d75da
DTSTART:20220225T151500Z
SEQUENCE:0
TRANSP:OPAQUE
DTEND:20220225T165000Z
LOCATION:M010
SUMMARY:SPS Steuerungen nach IEC 61131\, Safety
CLASS:PUBLIC
DESCRIPTION:Veranstaltung: SPS Steuerungen nach IEC 61131\, Safety (BTM1452
 )\nDozierende: Borer [brm9]\nRäume: M010\nCode: BTM1452c
X-ALT-DESC;FMTTYPE=text/html:Veranstaltung: SPS Steuerungen nach IEC 61131\
 , Safety (BTM1452)<br>Dozierende: Borer [brm9]<br>Räume: M010<br>Code: BT
 M1452c
DTSTAMP:20260425T000215Z
END:VEVENT
BEGIN:VEVENT
UID:69ec0487d760f
DTSTART:20220304T132500Z
SEQUENCE:0
TRANSP:OPAQUE
DTEND:20220304T150000Z
LOCATION:M303
SUMMARY:SPS Steuerungen nach IEC 61131\, Safety
CLASS:PUBLIC
DESCRIPTION:Veranstaltung: SPS Steuerungen nach IEC 61131\, Safety (BTM1452
 )\nDozierende: Borer [brm9]\nRäume: M303\nCode: BTM1452a
X-ALT-DESC;FMTTYPE=text/html:Veranstaltung: SPS Steuerungen nach IEC 61131\
 , Safety (BTM1452)<br>Dozierende: Borer [brm9]<br>Räume: M303<br>Code: BT
 M1452a
DTSTAMP:20260425T000215Z
END:VEVENT
BEGIN:VEVENT
UID:69ec0487d763a
DTSTART:20220304T151500Z
SEQUENCE:0
TRANSP:OPAQUE
DTEND:20220304T165000Z
LOCATION:M010
SUMMARY:SPS Steuerungen nach IEC 61131\, Safety
CLASS:PUBLIC
DESCRIPTION:Veranstaltung: SPS Steuerungen nach IEC 61131\, Safety (BTM1452
 )\nDozierende: Borer [brm9]\nRäume: M010\nCode: BTM1452c
X-ALT-DESC;FMTTYPE=text/html:Veranstaltung: SPS Steuerungen nach IEC 61131\
 , Safety (BTM1452)<br>Dozierende: Borer [brm9]<br>Räume: M010<br>Code: BT
 M1452c
DTSTAMP:20260425T000215Z
END:VEVENT
BEGIN:VEVENT
UID:69ec0487d7663
DTSTART:20220311T132500Z
SEQUENCE:0
TRANSP:OPAQUE
DTEND:20220311T150000Z
LOCATION:M303
SUMMARY:SPS Steuerungen nach IEC 61131\, Safety
CLASS:PUBLIC
DESCRIPTION:Veranstaltung: SPS Steuerungen nach IEC 61131\, Safety (BTM1452
 )\nDozierende: Borer [brm9]\nRäume: M303\nCode: BTM1452a
X-ALT-DESC;FMTTYPE=text/html:Veranstaltung: SPS Steuerungen nach IEC 61131\
 , Safety (BTM1452)<br>Dozierende: Borer [brm9]<br>Räume: M303<br>Code: BT
 M1452a
DTSTAMP:20260425T000215Z
END:VEVENT
BEGIN:VEVENT
UID:69ec0487d768c
DTSTART:20220311T151500Z
SEQUENCE:0
TRANSP:OPAQUE
DTEND:20220311T165000Z
LOCATION:M010
SUMMARY:SPS Steuerungen nach IEC 61131\, Safety
CLASS:PUBLIC
DESCRIPTION:Veranstaltung: SPS Steuerungen nach IEC 61131\, Safety (BTM1452
 )\nDozierende: Borer [brm9]\nRäume: M010\nCode: BTM1452c
X-ALT-DESC;FMTTYPE=text/html:Veranstaltung: SPS Steuerungen nach IEC 61131\
 , Safety (BTM1452)<br>Dozierende: Borer [brm9]<br>Räume: M010<br>Code: BT
 M1452c
DTSTAMP:20260425T000215Z
END:VEVENT
BEGIN:VEVENT
UID:69ec0487d76b5
DTSTART:20220318T132500Z
SEQUENCE:0
TRANSP:OPAQUE
DTEND:20220318T150000Z
LOCATION:M303
SUMMARY:SPS Steuerungen nach IEC 61131\, Safety
CLASS:PUBLIC
DESCRIPTION:Veranstaltung: SPS Steuerungen nach IEC 61131\, Safety (BTM1452
 )\nDozierende: Borer [brm9]\nRäume: M303\nCode: BTM1452a
X-ALT-DESC;FMTTYPE=text/html:Veranstaltung: SPS Steuerungen nach IEC 61131\
 , Safety (BTM1452)<br>Dozierende: Borer [brm9]<br>Räume: M303<br>Code: BT
 M1452a
DTSTAMP:20260425T000215Z
END:VEVENT
BEGIN:VEVENT
UID:69ec0487d76dc
DTSTART:20220318T151500Z
SEQUENCE:0
TRANSP:OPAQUE
DTEND:20220318T165000Z
LOCATION:M010
SUMMARY:SPS Steuerungen nach IEC 61131\, Safety
CLASS:PUBLIC
DESCRIPTION:Veranstaltung: SPS Steuerungen nach IEC 61131\, Safety (BTM1452
 )\nDozierende: Borer [brm9]\nRäume: M010\nCode: BTM1452c
X-ALT-DESC;FMTTYPE=text/html:Veranstaltung: SPS Steuerungen nach IEC 61131\
 , Safety (BTM1452)<br>Dozierende: Borer [brm9]<br>Räume: M010<br>Code: BT
 M1452c
DTSTAMP:20260425T000215Z
END:VEVENT
BEGIN:VEVENT
UID:69ec0487d7704
DTSTART:20220325T132500Z
SEQUENCE:0
TRANSP:OPAQUE
DTEND:20220325T150000Z
LOCATION:M303
SUMMARY:SPS Steuerungen nach IEC 61131\, Safety
CLASS:PUBLIC
DESCRIPTION:Veranstaltung: SPS Steuerungen nach IEC 61131\, Safety (BTM1452
 )\nDozierende: Borer [brm9]\nRäume: M303\nCode: BTM1452a
X-ALT-DESC;FMTTYPE=text/html:Veranstaltung: SPS Steuerungen nach IEC 61131\
 , Safety (BTM1452)<br>Dozierende: Borer [brm9]<br>Räume: M303<br>Code: BT
 M1452a
DTSTAMP:20260425T000215Z
END:VEVENT
BEGIN:VEVENT
UID:69ec0487d772c
DTSTART:20220325T151500Z
SEQUENCE:0
TRANSP:OPAQUE
DTEND:20220325T165000Z
LOCATION:M010
SUMMARY:SPS Steuerungen nach IEC 61131\, Safety
CLASS:PUBLIC
DESCRIPTION:Veranstaltung: SPS Steuerungen nach IEC 61131\, Safety (BTM1452
 )\nDozierende: Borer [brm9]\nRäume: M010\nCode: BTM1452c
X-ALT-DESC;FMTTYPE=text/html:Veranstaltung: SPS Steuerungen nach IEC 61131\
 , Safety (BTM1452)<br>Dozierende: Borer [brm9]<br>Räume: M010<br>Code: BT
 M1452c
DTSTAMP:20260425T000215Z
END:VEVENT
BEGIN:VEVENT
UID:69ec0487d7754
DTSTART:20220401T122500Z
SEQUENCE:0
TRANSP:OPAQUE
DTEND:20220401T140000Z
LOCATION:M303
SUMMARY:SPS Steuerungen nach IEC 61131\, Safety
CLASS:PUBLIC
DESCRIPTION:Veranstaltung: SPS Steuerungen nach IEC 61131\, Safety (BTM1452
 )\nDozierende: Borer [brm9]\nRäume: M303\nCode: BTM1452a
X-ALT-DESC;FMTTYPE=text/html:Veranstaltung: SPS Steuerungen nach IEC 61131\
 , Safety (BTM1452)<br>Dozierende: Borer [brm9]<br>Räume: M303<br>Code: BT
 M1452a
DTSTAMP:20260425T000215Z
END:VEVENT
BEGIN:VEVENT
UID:69ec0487d777b
DTSTART:20220401T141500Z
SEQUENCE:0
TRANSP:OPAQUE
DTEND:20220401T155000Z
LOCATION:M010
SUMMARY:SPS Steuerungen nach IEC 61131\, Safety
CLASS:PUBLIC
DESCRIPTION:Veranstaltung: SPS Steuerungen nach IEC 61131\, Safety (BTM1452
 )\nDozierende: Borer [brm9]\nRäume: M010\nCode: BTM1452c
X-ALT-DESC;FMTTYPE=text/html:Veranstaltung: SPS Steuerungen nach IEC 61131\
 , Safety (BTM1452)<br>Dozierende: Borer [brm9]<br>Räume: M010<br>Code: BT
 M1452c
DTSTAMP:20260425T000215Z
END:VEVENT
BEGIN:VEVENT
UID:69ec0487d77e5
DTSTART:20220408T122500Z
SEQUENCE:0
TRANSP:OPAQUE
DTEND:20220408T140000Z
LOCATION:M303
SUMMARY:SPS Steuerungen nach IEC 61131\, Safety
CLASS:PUBLIC
DESCRIPTION:Veranstaltung: SPS Steuerungen nach IEC 61131\, Safety (BTM1452
 )\nDozierende: Borer [brm9]\nRäume: M303\nCode: BTM1452a
X-ALT-DESC;FMTTYPE=text/html:Veranstaltung: SPS Steuerungen nach IEC 61131\
 , Safety (BTM1452)<br>Dozierende: Borer [brm9]<br>Räume: M303<br>Code: BT
 M1452a
DTSTAMP:20260425T000215Z
END:VEVENT
BEGIN:VEVENT
UID:69ec0487d780f
DTSTART:20220408T141500Z
SEQUENCE:0
TRANSP:OPAQUE
DTEND:20220408T155000Z
LOCATION:M010
SUMMARY:SPS Steuerungen nach IEC 61131\, Safety
CLASS:PUBLIC
DESCRIPTION:Veranstaltung: SPS Steuerungen nach IEC 61131\, Safety (BTM1452
 )\nDozierende: Borer [brm9]\nRäume: M010\nCode: BTM1452c
X-ALT-DESC;FMTTYPE=text/html:Veranstaltung: SPS Steuerungen nach IEC 61131\
 , Safety (BTM1452)<br>Dozierende: Borer [brm9]<br>Räume: M010<br>Code: BT
 M1452c
DTSTAMP:20260425T000215Z
END:VEVENT
BEGIN:VEVENT
UID:69ec0487d7836
DTSTART:20220422T122500Z
SEQUENCE:0
TRANSP:OPAQUE
DTEND:20220422T140000Z
LOCATION:M303
SUMMARY:SPS Steuerungen nach IEC 61131\, Safety
CLASS:PUBLIC
DESCRIPTION:Veranstaltung: SPS Steuerungen nach IEC 61131\, Safety (BTM1452
 )\nDozierende: Borer [brm9]\nRäume: M303\nCode: BTM1452a
X-ALT-DESC;FMTTYPE=text/html:Veranstaltung: SPS Steuerungen nach IEC 61131\
 , Safety (BTM1452)<br>Dozierende: Borer [brm9]<br>Räume: M303<br>Code: BT
 M1452a
DTSTAMP:20260425T000215Z
END:VEVENT
BEGIN:VEVENT
UID:69ec0487d785f
DTSTART:20220422T141500Z
SEQUENCE:0
TRANSP:OPAQUE
DTEND:20220422T155000Z
LOCATION:M010
SUMMARY:SPS Steuerungen nach IEC 61131\, Safety
CLASS:PUBLIC
DESCRIPTION:Veranstaltung: SPS Steuerungen nach IEC 61131\, Safety (BTM1452
 )\nDozierende: Borer [brm9]\nRäume: M010\nCode: BTM1452c
X-ALT-DESC;FMTTYPE=text/html:Veranstaltung: SPS Steuerungen nach IEC 61131\
 , Safety (BTM1452)<br>Dozierende: Borer [brm9]<br>Räume: M010<br>Code: BT
 M1452c
DTSTAMP:20260425T000215Z
END:VEVENT
BEGIN:VEVENT
UID:69ec0487d7888
DTSTART:20220429T122500Z
SEQUENCE:0
TRANSP:OPAQUE
DTEND:20220429T140000Z
LOCATION:M303
SUMMARY:SPS Steuerungen nach IEC 61131\, Safety
CLASS:PUBLIC
DESCRIPTION:Veranstaltung: SPS Steuerungen nach IEC 61131\, Safety (BTM1452
 )\nDozierende: Borer [brm9]\nRäume: M303\nCode: BTM1452a
X-ALT-DESC;FMTTYPE=text/html:Veranstaltung: SPS Steuerungen nach IEC 61131\
 , Safety (BTM1452)<br>Dozierende: Borer [brm9]<br>Räume: M303<br>Code: BT
 M1452a
DTSTAMP:20260425T000215Z
END:VEVENT
BEGIN:VEVENT
UID:69ec0487d78b0
DTSTART:20220429T141500Z
SEQUENCE:0
TRANSP:OPAQUE
DTEND:20220429T155000Z
LOCATION:M010
SUMMARY:SPS Steuerungen nach IEC 61131\, Safety
CLASS:PUBLIC
DESCRIPTION:Veranstaltung: SPS Steuerungen nach IEC 61131\, Safety (BTM1452
 )\nDozierende: Borer [brm9]\nRäume: M010\nCode: BTM1452c
X-ALT-DESC;FMTTYPE=text/html:Veranstaltung: SPS Steuerungen nach IEC 61131\
 , Safety (BTM1452)<br>Dozierende: Borer [brm9]<br>Räume: M010<br>Code: BT
 M1452c
DTSTAMP:20260425T000215Z
END:VEVENT
BEGIN:VEVENT
UID:69ec0487d78d7
DTSTART:20220506T122500Z
SEQUENCE:0
TRANSP:OPAQUE
DTEND:20220506T140000Z
LOCATION:M303
SUMMARY:SPS Steuerungen nach IEC 61131\, Safety
CLASS:PUBLIC
DESCRIPTION:Veranstaltung: SPS Steuerungen nach IEC 61131\, Safety (BTM1452
 )\nDozierende: Borer [brm9]\nRäume: M303\nCode: BTM1452a
X-ALT-DESC;FMTTYPE=text/html:Veranstaltung: SPS Steuerungen nach IEC 61131\
 , Safety (BTM1452)<br>Dozierende: Borer [brm9]<br>Räume: M303<br>Code: BT
 M1452a
DTSTAMP:20260425T000215Z
END:VEVENT
BEGIN:VEVENT
UID:69ec0487d78fe
DTSTART:20220506T141500Z
SEQUENCE:0
TRANSP:OPAQUE
DTEND:20220506T155000Z
LOCATION:M010
SUMMARY:SPS Steuerungen nach IEC 61131\, Safety
CLASS:PUBLIC
DESCRIPTION:Veranstaltung: SPS Steuerungen nach IEC 61131\, Safety (BTM1452
 )\nDozierende: Borer [brm9]\nRäume: M010\nCode: BTM1452c
X-ALT-DESC;FMTTYPE=text/html:Veranstaltung: SPS Steuerungen nach IEC 61131\
 , Safety (BTM1452)<br>Dozierende: Borer [brm9]<br>Räume: M010<br>Code: BT
 M1452c
DTSTAMP:20260425T000215Z
END:VEVENT
BEGIN:VEVENT
UID:69ec0487d7926
DTSTART:20220513T122500Z
SEQUENCE:0
TRANSP:OPAQUE
DTEND:20220513T140000Z
LOCATION:M303
SUMMARY:SPS Steuerungen nach IEC 61131\, Safety
CLASS:PUBLIC
DESCRIPTION:Veranstaltung: SPS Steuerungen nach IEC 61131\, Safety (BTM1452
 )\nDozierende: Borer [brm9]\nRäume: M303\nCode: BTM1452a
X-ALT-DESC;FMTTYPE=text/html:Veranstaltung: SPS Steuerungen nach IEC 61131\
 , Safety (BTM1452)<br>Dozierende: Borer [brm9]<br>Räume: M303<br>Code: BT
 M1452a
DTSTAMP:20260425T000215Z
END:VEVENT
BEGIN:VEVENT
UID:69ec0487d794d
DTSTART:20220513T141500Z
SEQUENCE:0
TRANSP:OPAQUE
DTEND:20220513T155000Z
LOCATION:M010
SUMMARY:SPS Steuerungen nach IEC 61131\, Safety
CLASS:PUBLIC
DESCRIPTION:Veranstaltung: SPS Steuerungen nach IEC 61131\, Safety (BTM1452
 )\nDozierende: Borer [brm9]\nRäume: M010\nCode: BTM1452c
X-ALT-DESC;FMTTYPE=text/html:Veranstaltung: SPS Steuerungen nach IEC 61131\
 , Safety (BTM1452)<br>Dozierende: Borer [brm9]<br>Räume: M010<br>Code: BT
 M1452c
DTSTAMP:20260425T000215Z
END:VEVENT
BEGIN:VEVENT
UID:69ec0487d7974
DTSTART:20220520T122500Z
SEQUENCE:0
TRANSP:OPAQUE
DTEND:20220520T140000Z
LOCATION:M303
SUMMARY:SPS Steuerungen nach IEC 61131\, Safety
CLASS:PUBLIC
DESCRIPTION:Veranstaltung: SPS Steuerungen nach IEC 61131\, Safety (BTM1452
 )\nDozierende: Borer [brm9]\nRäume: M303\nCode: BTM1452a
X-ALT-DESC;FMTTYPE=text/html:Veranstaltung: SPS Steuerungen nach IEC 61131\
 , Safety (BTM1452)<br>Dozierende: Borer [brm9]<br>Räume: M303<br>Code: BT
 M1452a
DTSTAMP:20260425T000215Z
END:VEVENT
BEGIN:VEVENT
UID:69ec0487d7999
DTSTART:20220520T141500Z
SEQUENCE:0
TRANSP:OPAQUE
DTEND:20220520T155000Z
LOCATION:M010
SUMMARY:SPS Steuerungen nach IEC 61131\, Safety
CLASS:PUBLIC
DESCRIPTION:Veranstaltung: SPS Steuerungen nach IEC 61131\, Safety (BTM1452
 )\nDozierende: Borer [brm9]\nRäume: M010\nCode: BTM1452c
X-ALT-DESC;FMTTYPE=text/html:Veranstaltung: SPS Steuerungen nach IEC 61131\
 , Safety (BTM1452)<br>Dozierende: Borer [brm9]<br>Räume: M010<br>Code: BT
 M1452c
DTSTAMP:20260425T000215Z
END:VEVENT
BEGIN:VEVENT
UID:69ec0487d79c0
DTSTART:20220603T122500Z
SEQUENCE:0
TRANSP:OPAQUE
DTEND:20220603T140000Z
LOCATION:M303
SUMMARY:SPS Steuerungen nach IEC 61131\, Safety
CLASS:PUBLIC
DESCRIPTION:Veranstaltung: SPS Steuerungen nach IEC 61131\, Safety (BTM1452
 )\nDozierende: Borer [brm9]\nRäume: M303\nCode: BTM1452a
X-ALT-DESC;FMTTYPE=text/html:Veranstaltung: SPS Steuerungen nach IEC 61131\
 , Safety (BTM1452)<br>Dozierende: Borer [brm9]<br>Räume: M303<br>Code: BT
 M1452a
DTSTAMP:20260425T000215Z
END:VEVENT
BEGIN:VEVENT
UID:69ec0487d79e6
DTSTART:20220603T141500Z
SEQUENCE:0
TRANSP:OPAQUE
DTEND:20220603T155000Z
LOCATION:M010
SUMMARY:SPS Steuerungen nach IEC 61131\, Safety
CLASS:PUBLIC
DESCRIPTION:Veranstaltung: SPS Steuerungen nach IEC 61131\, Safety (BTM1452
 )\nDozierende: Borer [brm9]\nRäume: M010\nCode: BTM1452c
X-ALT-DESC;FMTTYPE=text/html:Veranstaltung: SPS Steuerungen nach IEC 61131\
 , Safety (BTM1452)<br>Dozierende: Borer [brm9]<br>Räume: M010<br>Code: BT
 M1452c
DTSTAMP:20260425T000215Z
END:VEVENT
BEGIN:VEVENT
UID:69ec0487d7a0c
DTSTART:20220610T122500Z
SEQUENCE:0
TRANSP:OPAQUE
DTEND:20220610T140000Z
LOCATION:M303
SUMMARY:SPS Steuerungen nach IEC 61131\, Safety
CLASS:PUBLIC
DESCRIPTION:Veranstaltung: SPS Steuerungen nach IEC 61131\, Safety (BTM1452
 )\nDozierende: Borer [brm9]\nRäume: M303\nCode: BTM1452a
X-ALT-DESC;FMTTYPE=text/html:Veranstaltung: SPS Steuerungen nach IEC 61131\
 , Safety (BTM1452)<br>Dozierende: Borer [brm9]<br>Räume: M303<br>Code: BT
 M1452a
DTSTAMP:20260425T000215Z
END:VEVENT
BEGIN:VEVENT
UID:69ec0487d7a32
DTSTART:20220610T141500Z
SEQUENCE:0
TRANSP:OPAQUE
DTEND:20220610T155000Z
LOCATION:M010
SUMMARY:SPS Steuerungen nach IEC 61131\, Safety
CLASS:PUBLIC
DESCRIPTION:Veranstaltung: SPS Steuerungen nach IEC 61131\, Safety (BTM1452
 )\nDozierende: Borer [brm9]\nRäume: M010\nCode: BTM1452c
X-ALT-DESC;FMTTYPE=text/html:Veranstaltung: SPS Steuerungen nach IEC 61131\
 , Safety (BTM1452)<br>Dozierende: Borer [brm9]<br>Räume: M010<br>Code: BT
 M1452c
DTSTAMP:20260425T000215Z
END:VEVENT
BEGIN:VEVENT
UID:69ec0487d7a5a
DTSTART:20220617T122500Z
SEQUENCE:0
TRANSP:OPAQUE
DTEND:20220617T140000Z
LOCATION:M303
SUMMARY:SPS Steuerungen nach IEC 61131\, Safety
CLASS:PUBLIC
DESCRIPTION:Veranstaltung: SPS Steuerungen nach IEC 61131\, Safety (BTM1452
 )\nDozierende: Borer [brm9]\nRäume: M303\nCode: BTM1452a
X-ALT-DESC;FMTTYPE=text/html:Veranstaltung: SPS Steuerungen nach IEC 61131\
 , Safety (BTM1452)<br>Dozierende: Borer [brm9]<br>Räume: M303<br>Code: BT
 M1452a
DTSTAMP:20260425T000215Z
END:VEVENT
BEGIN:VEVENT
UID:69ec0487d7a81
DTSTART:20220617T141500Z
SEQUENCE:0
TRANSP:OPAQUE
DTEND:20220617T155000Z
LOCATION:M010
SUMMARY:SPS Steuerungen nach IEC 61131\, Safety
CLASS:PUBLIC
DESCRIPTION:Veranstaltung: SPS Steuerungen nach IEC 61131\, Safety (BTM1452
 )\nDozierende: Borer [brm9]\nRäume: M010\nCode: BTM1452c
X-ALT-DESC;FMTTYPE=text/html:Veranstaltung: SPS Steuerungen nach IEC 61131\
 , Safety (BTM1452)<br>Dozierende: Borer [brm9]<br>Räume: M010<br>Code: BT
 M1452c
DTSTAMP:20260425T000215Z
END:VEVENT
END:VCALENDAR