BEGIN:VCALENDAR
VERSION:2.0
PRODID:www.bfh.ch
X-APPLE-CALENDAR-COLOR:Orange
X-OUTLOOK-COLOR:Orange
X-FUNAMBOL-COLOR:Orange
X-WR-CALNAME:Übersicht BTM2302
BEGIN:VEVENT
UID:69ebe14ac376e
DTSTART:20220221T151500Z
SEQUENCE:0
TRANSP:OPAQUE
DTEND:20220221T165000Z
LOCATION:E125
SUMMARY:Hydrodynamik realer Fluide und Anlagenauslegung
CLASS:PUBLIC
DESCRIPTION:Veranstaltung: Hydrodynamik realer Fluide und Anlagenauslegung 
 (BTM2302)\nDozierende: Moser [msl1]\nRäume: E125\nCode: BTM2302c
X-ALT-DESC;FMTTYPE=text/html:Veranstaltung: Hydrodynamik realer Fluide und 
 Anlagenauslegung (BTM2302)<br>Dozierende: Moser [msl1]<br>Räume: E125<br>
 Code: BTM2302c
DTSTAMP:20260424T213154Z
END:VEVENT
BEGIN:VEVENT
UID:69ebe14ac3821
DTSTART:20220224T092000Z
SEQUENCE:0
TRANSP:OPAQUE
DTEND:20220224T105500Z
LOCATION:M303
SUMMARY:Hydrodynamik realer Fluide und Anlagenauslegung
CLASS:PUBLIC
DESCRIPTION:Veranstaltung: Hydrodynamik realer Fluide und Anlagenauslegung 
 (BTM2302)\nDozierende: Moser [msl1]\nRäume: M303\nCode: BTM2302a
X-ALT-DESC;FMTTYPE=text/html:Veranstaltung: Hydrodynamik realer Fluide und 
 Anlagenauslegung (BTM2302)<br>Dozierende: Moser [msl1]<br>Räume: M303<br>
 Code: BTM2302a
DTSTAMP:20260424T213154Z
END:VEVENT
BEGIN:VEVENT
UID:69ebe14ac3854
DTSTART:20220228T151500Z
SEQUENCE:0
TRANSP:OPAQUE
DTEND:20220228T165000Z
LOCATION:E125
SUMMARY:Hydrodynamik realer Fluide und Anlagenauslegung
CLASS:PUBLIC
DESCRIPTION:Veranstaltung: Hydrodynamik realer Fluide und Anlagenauslegung 
 (BTM2302)\nDozierende: Moser [msl1]\nRäume: E125\nCode: BTM2302c
X-ALT-DESC;FMTTYPE=text/html:Veranstaltung: Hydrodynamik realer Fluide und 
 Anlagenauslegung (BTM2302)<br>Dozierende: Moser [msl1]<br>Räume: E125<br>
 Code: BTM2302c
DTSTAMP:20260424T213154Z
END:VEVENT
BEGIN:VEVENT
UID:69ebe14ac387e
DTSTART:20220303T092000Z
SEQUENCE:0
TRANSP:OPAQUE
DTEND:20220303T105500Z
LOCATION:M303
SUMMARY:Hydrodynamik realer Fluide und Anlagenauslegung
CLASS:PUBLIC
DESCRIPTION:Veranstaltung: Hydrodynamik realer Fluide und Anlagenauslegung 
 (BTM2302)\nDozierende: Moser [msl1]\nRäume: M303\nCode: BTM2302a
X-ALT-DESC;FMTTYPE=text/html:Veranstaltung: Hydrodynamik realer Fluide und 
 Anlagenauslegung (BTM2302)<br>Dozierende: Moser [msl1]<br>Räume: M303<br>
 Code: BTM2302a
DTSTAMP:20260424T213154Z
END:VEVENT
BEGIN:VEVENT
UID:69ebe14ac38a7
DTSTART:20220307T151500Z
SEQUENCE:0
TRANSP:OPAQUE
DTEND:20220307T165000Z
LOCATION:E125
SUMMARY:Hydrodynamik realer Fluide und Anlagenauslegung
CLASS:PUBLIC
DESCRIPTION:Veranstaltung: Hydrodynamik realer Fluide und Anlagenauslegung 
 (BTM2302)\nDozierende: Moser [msl1]\nRäume: E125\nCode: BTM2302c
X-ALT-DESC;FMTTYPE=text/html:Veranstaltung: Hydrodynamik realer Fluide und 
 Anlagenauslegung (BTM2302)<br>Dozierende: Moser [msl1]<br>Räume: E125<br>
 Code: BTM2302c
DTSTAMP:20260424T213154Z
END:VEVENT
BEGIN:VEVENT
UID:69ebe14ac38ce
DTSTART:20220310T092000Z
SEQUENCE:0
TRANSP:OPAQUE
DTEND:20220310T105500Z
LOCATION:M303
SUMMARY:Hydrodynamik realer Fluide und Anlagenauslegung
CLASS:PUBLIC
DESCRIPTION:Veranstaltung: Hydrodynamik realer Fluide und Anlagenauslegung 
 (BTM2302)\nDozierende: Moser [msl1]\nRäume: M303\nCode: BTM2302a
X-ALT-DESC;FMTTYPE=text/html:Veranstaltung: Hydrodynamik realer Fluide und 
 Anlagenauslegung (BTM2302)<br>Dozierende: Moser [msl1]<br>Räume: M303<br>
 Code: BTM2302a
DTSTAMP:20260424T213154Z
END:VEVENT
BEGIN:VEVENT
UID:69ebe14ac38f7
DTSTART:20220314T151500Z
SEQUENCE:0
TRANSP:OPAQUE
DTEND:20220314T165000Z
LOCATION:E125
SUMMARY:Hydrodynamik realer Fluide und Anlagenauslegung
CLASS:PUBLIC
DESCRIPTION:Veranstaltung: Hydrodynamik realer Fluide und Anlagenauslegung 
 (BTM2302)\nDozierende: Moser [msl1]\nRäume: E125\nCode: BTM2302c
X-ALT-DESC;FMTTYPE=text/html:Veranstaltung: Hydrodynamik realer Fluide und 
 Anlagenauslegung (BTM2302)<br>Dozierende: Moser [msl1]<br>Räume: E125<br>
 Code: BTM2302c
DTSTAMP:20260424T213154Z
END:VEVENT
BEGIN:VEVENT
UID:69ebe14ac3920
DTSTART:20220317T092000Z
SEQUENCE:0
TRANSP:OPAQUE
DTEND:20220317T105500Z
LOCATION:M303
SUMMARY:Hydrodynamik realer Fluide und Anlagenauslegung
CLASS:PUBLIC
DESCRIPTION:Veranstaltung: Hydrodynamik realer Fluide und Anlagenauslegung 
 (BTM2302)\nDozierende: Moser [msl1]\nRäume: M303\nCode: BTM2302a
X-ALT-DESC;FMTTYPE=text/html:Veranstaltung: Hydrodynamik realer Fluide und 
 Anlagenauslegung (BTM2302)<br>Dozierende: Moser [msl1]<br>Räume: M303<br>
 Code: BTM2302a
DTSTAMP:20260424T213154Z
END:VEVENT
BEGIN:VEVENT
UID:69ebe14ac3948
DTSTART:20220321T151500Z
SEQUENCE:0
TRANSP:OPAQUE
DTEND:20220321T165000Z
LOCATION:E125
SUMMARY:Hydrodynamik realer Fluide und Anlagenauslegung
CLASS:PUBLIC
DESCRIPTION:Veranstaltung: Hydrodynamik realer Fluide und Anlagenauslegung 
 (BTM2302)\nDozierende: Moser [msl1]\nRäume: E125\nCode: BTM2302c
X-ALT-DESC;FMTTYPE=text/html:Veranstaltung: Hydrodynamik realer Fluide und 
 Anlagenauslegung (BTM2302)<br>Dozierende: Moser [msl1]<br>Räume: E125<br>
 Code: BTM2302c
DTSTAMP:20260424T213154Z
END:VEVENT
BEGIN:VEVENT
UID:69ebe14ac396f
DTSTART:20220324T092000Z
SEQUENCE:0
TRANSP:OPAQUE
DTEND:20220324T105500Z
LOCATION:M303
SUMMARY:Hydrodynamik realer Fluide und Anlagenauslegung
CLASS:PUBLIC
DESCRIPTION:Veranstaltung: Hydrodynamik realer Fluide und Anlagenauslegung 
 (BTM2302)\nDozierende: Moser [msl1]\nRäume: M303\nCode: BTM2302a
X-ALT-DESC;FMTTYPE=text/html:Veranstaltung: Hydrodynamik realer Fluide und 
 Anlagenauslegung (BTM2302)<br>Dozierende: Moser [msl1]<br>Räume: M303<br>
 Code: BTM2302a
DTSTAMP:20260424T213154Z
END:VEVENT
BEGIN:VEVENT
UID:69ebe14ac3996
DTSTART:20220328T141500Z
SEQUENCE:0
TRANSP:OPAQUE
DTEND:20220328T155000Z
LOCATION:E125
SUMMARY:Hydrodynamik realer Fluide und Anlagenauslegung
CLASS:PUBLIC
DESCRIPTION:Veranstaltung: Hydrodynamik realer Fluide und Anlagenauslegung 
 (BTM2302)\nDozierende: Moser [msl1]\nRäume: E125\nCode: BTM2302c
X-ALT-DESC;FMTTYPE=text/html:Veranstaltung: Hydrodynamik realer Fluide und 
 Anlagenauslegung (BTM2302)<br>Dozierende: Moser [msl1]<br>Räume: E125<br>
 Code: BTM2302c
DTSTAMP:20260424T213154Z
END:VEVENT
BEGIN:VEVENT
UID:69ebe14ac39bc
DTSTART:20220331T082000Z
SEQUENCE:0
TRANSP:OPAQUE
DTEND:20220331T095500Z
LOCATION:M303
SUMMARY:Hydrodynamik realer Fluide und Anlagenauslegung
CLASS:PUBLIC
DESCRIPTION:Veranstaltung: Hydrodynamik realer Fluide und Anlagenauslegung 
 (BTM2302)\nDozierende: Moser [msl1]\nRäume: M303\nCode: BTM2302a
X-ALT-DESC;FMTTYPE=text/html:Veranstaltung: Hydrodynamik realer Fluide und 
 Anlagenauslegung (BTM2302)<br>Dozierende: Moser [msl1]<br>Räume: M303<br>
 Code: BTM2302a
DTSTAMP:20260424T213154Z
END:VEVENT
BEGIN:VEVENT
UID:69ebe14ac39e2
DTSTART:20220404T141500Z
SEQUENCE:0
TRANSP:OPAQUE
DTEND:20220404T155000Z
LOCATION:E125
SUMMARY:Hydrodynamik realer Fluide und Anlagenauslegung
CLASS:PUBLIC
DESCRIPTION:Veranstaltung: Hydrodynamik realer Fluide und Anlagenauslegung 
 (BTM2302)\nDozierende: Moser [msl1]\nRäume: E125\nCode: BTM2302c
X-ALT-DESC;FMTTYPE=text/html:Veranstaltung: Hydrodynamik realer Fluide und 
 Anlagenauslegung (BTM2302)<br>Dozierende: Moser [msl1]<br>Räume: E125<br>
 Code: BTM2302c
DTSTAMP:20260424T213154Z
END:VEVENT
BEGIN:VEVENT
UID:69ebe14ac3a09
DTSTART:20220407T082000Z
SEQUENCE:0
TRANSP:OPAQUE
DTEND:20220407T095500Z
LOCATION:M303
SUMMARY:Hydrodynamik realer Fluide und Anlagenauslegung
CLASS:PUBLIC
DESCRIPTION:Veranstaltung: Hydrodynamik realer Fluide und Anlagenauslegung 
 (BTM2302)\nDozierende: Moser [msl1]\nRäume: M303\nCode: BTM2302a
X-ALT-DESC;FMTTYPE=text/html:Veranstaltung: Hydrodynamik realer Fluide und 
 Anlagenauslegung (BTM2302)<br>Dozierende: Moser [msl1]<br>Räume: M303<br>
 Code: BTM2302a
DTSTAMP:20260424T213154Z
END:VEVENT
BEGIN:VEVENT
UID:69ebe14ac3a2f
DTSTART:20220421T082000Z
SEQUENCE:0
TRANSP:OPAQUE
DTEND:20220421T095500Z
LOCATION:M303
SUMMARY:Hydrodynamik realer Fluide und Anlagenauslegung
CLASS:PUBLIC
DESCRIPTION:Veranstaltung: Hydrodynamik realer Fluide und Anlagenauslegung 
 (BTM2302)\nDozierende: Moser [msl1]\nRäume: M303\nCode: BTM2302a
X-ALT-DESC;FMTTYPE=text/html:Veranstaltung: Hydrodynamik realer Fluide und 
 Anlagenauslegung (BTM2302)<br>Dozierende: Moser [msl1]<br>Räume: M303<br>
 Code: BTM2302a
DTSTAMP:20260424T213154Z
END:VEVENT
BEGIN:VEVENT
UID:69ebe14ac3a54
DTSTART:20220425T141500Z
SEQUENCE:0
TRANSP:OPAQUE
DTEND:20220425T155000Z
LOCATION:E125
SUMMARY:Hydrodynamik realer Fluide und Anlagenauslegung
CLASS:PUBLIC
DESCRIPTION:Veranstaltung: Hydrodynamik realer Fluide und Anlagenauslegung 
 (BTM2302)\nDozierende: Moser [msl1]\nRäume: E125\nCode: BTM2302c
X-ALT-DESC;FMTTYPE=text/html:Veranstaltung: Hydrodynamik realer Fluide und 
 Anlagenauslegung (BTM2302)<br>Dozierende: Moser [msl1]<br>Räume: E125<br>
 Code: BTM2302c
DTSTAMP:20260424T213154Z
END:VEVENT
BEGIN:VEVENT
UID:69ebe14ac3a7a
DTSTART:20220428T082000Z
SEQUENCE:0
TRANSP:OPAQUE
DTEND:20220428T095500Z
LOCATION:M303
SUMMARY:Hydrodynamik realer Fluide und Anlagenauslegung
CLASS:PUBLIC
DESCRIPTION:Veranstaltung: Hydrodynamik realer Fluide und Anlagenauslegung 
 (BTM2302)\nDozierende: Moser [msl1]\nRäume: M303\nCode: BTM2302a
X-ALT-DESC;FMTTYPE=text/html:Veranstaltung: Hydrodynamik realer Fluide und 
 Anlagenauslegung (BTM2302)<br>Dozierende: Moser [msl1]<br>Räume: M303<br>
 Code: BTM2302a
DTSTAMP:20260424T213154Z
END:VEVENT
BEGIN:VEVENT
UID:69ebe14ac3aa2
DTSTART:20220502T141500Z
SEQUENCE:0
TRANSP:OPAQUE
DTEND:20220502T155000Z
LOCATION:E125
SUMMARY:Hydrodynamik realer Fluide und Anlagenauslegung
CLASS:PUBLIC
DESCRIPTION:Veranstaltung: Hydrodynamik realer Fluide und Anlagenauslegung 
 (BTM2302)\nDozierende: Moser [msl1]\nRäume: E125\nCode: BTM2302c
X-ALT-DESC;FMTTYPE=text/html:Veranstaltung: Hydrodynamik realer Fluide und 
 Anlagenauslegung (BTM2302)<br>Dozierende: Moser [msl1]<br>Räume: E125<br>
 Code: BTM2302c
DTSTAMP:20260424T213154Z
END:VEVENT
BEGIN:VEVENT
UID:69ebe14ac3ac9
DTSTART:20220505T082000Z
SEQUENCE:0
TRANSP:OPAQUE
DTEND:20220505T095500Z
LOCATION:M303
SUMMARY:Hydrodynamik realer Fluide und Anlagenauslegung
CLASS:PUBLIC
DESCRIPTION:Veranstaltung: Hydrodynamik realer Fluide und Anlagenauslegung 
 (BTM2302)\nDozierende: Moser [msl1]\nRäume: M303\nCode: BTM2302a
X-ALT-DESC;FMTTYPE=text/html:Veranstaltung: Hydrodynamik realer Fluide und 
 Anlagenauslegung (BTM2302)<br>Dozierende: Moser [msl1]<br>Räume: M303<br>
 Code: BTM2302a
DTSTAMP:20260424T213154Z
END:VEVENT
BEGIN:VEVENT
UID:69ebe14ac3af0
DTSTART:20220509T141500Z
SEQUENCE:0
TRANSP:OPAQUE
DTEND:20220509T155000Z
LOCATION:E125
SUMMARY:Hydrodynamik realer Fluide und Anlagenauslegung
CLASS:PUBLIC
DESCRIPTION:Veranstaltung: Hydrodynamik realer Fluide und Anlagenauslegung 
 (BTM2302)\nDozierende: Moser [msl1]\nRäume: E125\nCode: BTM2302c
X-ALT-DESC;FMTTYPE=text/html:Veranstaltung: Hydrodynamik realer Fluide und 
 Anlagenauslegung (BTM2302)<br>Dozierende: Moser [msl1]<br>Räume: E125<br>
 Code: BTM2302c
DTSTAMP:20260424T213154Z
END:VEVENT
BEGIN:VEVENT
UID:69ebe14ac3b16
DTSTART:20220512T082000Z
SEQUENCE:0
TRANSP:OPAQUE
DTEND:20220512T095500Z
LOCATION:M303
SUMMARY:Hydrodynamik realer Fluide und Anlagenauslegung
CLASS:PUBLIC
DESCRIPTION:Veranstaltung: Hydrodynamik realer Fluide und Anlagenauslegung 
 (BTM2302)\nDozierende: Moser [msl1]\nRäume: M303\nCode: BTM2302a
X-ALT-DESC;FMTTYPE=text/html:Veranstaltung: Hydrodynamik realer Fluide und 
 Anlagenauslegung (BTM2302)<br>Dozierende: Moser [msl1]<br>Räume: M303<br>
 Code: BTM2302a
DTSTAMP:20260424T213154Z
END:VEVENT
BEGIN:VEVENT
UID:69ebe14ac3b3c
DTSTART:20220516T141500Z
SEQUENCE:0
TRANSP:OPAQUE
DTEND:20220516T155000Z
LOCATION:E125
SUMMARY:Hydrodynamik realer Fluide und Anlagenauslegung
CLASS:PUBLIC
DESCRIPTION:Veranstaltung: Hydrodynamik realer Fluide und Anlagenauslegung 
 (BTM2302)\nDozierende: Moser [msl1]\nRäume: E125\nCode: BTM2302c
X-ALT-DESC;FMTTYPE=text/html:Veranstaltung: Hydrodynamik realer Fluide und 
 Anlagenauslegung (BTM2302)<br>Dozierende: Moser [msl1]<br>Räume: E125<br>
 Code: BTM2302c
DTSTAMP:20260424T213154Z
END:VEVENT
BEGIN:VEVENT
UID:69ebe14ac3b63
DTSTART:20220519T082000Z
SEQUENCE:0
TRANSP:OPAQUE
DTEND:20220519T095500Z
LOCATION:M303
SUMMARY:Hydrodynamik realer Fluide und Anlagenauslegung
CLASS:PUBLIC
DESCRIPTION:Veranstaltung: Hydrodynamik realer Fluide und Anlagenauslegung 
 (BTM2302)\nDozierende: Moser [msl1]\nRäume: M303\nCode: BTM2302a
X-ALT-DESC;FMTTYPE=text/html:Veranstaltung: Hydrodynamik realer Fluide und 
 Anlagenauslegung (BTM2302)<br>Dozierende: Moser [msl1]<br>Räume: M303<br>
 Code: BTM2302a
DTSTAMP:20260424T213154Z
END:VEVENT
BEGIN:VEVENT
UID:69ebe14ac3b8a
DTSTART:20220523T141500Z
SEQUENCE:0
TRANSP:OPAQUE
DTEND:20220523T155000Z
LOCATION:E125
SUMMARY:Hydrodynamik realer Fluide und Anlagenauslegung
CLASS:PUBLIC
DESCRIPTION:Veranstaltung: Hydrodynamik realer Fluide und Anlagenauslegung 
 (BTM2302)\nDozierende: Moser [msl1]\nRäume: E125\nCode: BTM2302c
X-ALT-DESC;FMTTYPE=text/html:Veranstaltung: Hydrodynamik realer Fluide und 
 Anlagenauslegung (BTM2302)<br>Dozierende: Moser [msl1]<br>Räume: E125<br>
 Code: BTM2302c
DTSTAMP:20260424T213154Z
END:VEVENT
BEGIN:VEVENT
UID:69ebe14ac3bb0
DTSTART:20220530T141500Z
SEQUENCE:0
TRANSP:OPAQUE
DTEND:20220530T155000Z
LOCATION:E125
SUMMARY:Hydrodynamik realer Fluide und Anlagenauslegung
CLASS:PUBLIC
DESCRIPTION:Veranstaltung: Hydrodynamik realer Fluide und Anlagenauslegung 
 (BTM2302)\nDozierende: Moser [msl1]\nRäume: E125\nCode: BTM2302c
X-ALT-DESC;FMTTYPE=text/html:Veranstaltung: Hydrodynamik realer Fluide und 
 Anlagenauslegung (BTM2302)<br>Dozierende: Moser [msl1]<br>Räume: E125<br>
 Code: BTM2302c
DTSTAMP:20260424T213154Z
END:VEVENT
BEGIN:VEVENT
UID:69ebe14ac3bd6
DTSTART:20220602T082000Z
SEQUENCE:0
TRANSP:OPAQUE
DTEND:20220602T095500Z
LOCATION:M303
SUMMARY:Hydrodynamik realer Fluide und Anlagenauslegung
CLASS:PUBLIC
DESCRIPTION:Veranstaltung: Hydrodynamik realer Fluide und Anlagenauslegung 
 (BTM2302)\nDozierende: Moser [msl1]\nRäume: M303\nCode: BTM2302a
X-ALT-DESC;FMTTYPE=text/html:Veranstaltung: Hydrodynamik realer Fluide und 
 Anlagenauslegung (BTM2302)<br>Dozierende: Moser [msl1]<br>Räume: M303<br>
 Code: BTM2302a
DTSTAMP:20260424T213154Z
END:VEVENT
BEGIN:VEVENT
UID:69ebe14ac3bfc
DTSTART:20220609T082000Z
SEQUENCE:0
TRANSP:OPAQUE
DTEND:20220609T095500Z
LOCATION:M303
SUMMARY:Hydrodynamik realer Fluide und Anlagenauslegung
CLASS:PUBLIC
DESCRIPTION:Veranstaltung: Hydrodynamik realer Fluide und Anlagenauslegung 
 (BTM2302)\nDozierende: Moser [msl1]\nRäume: M303\nCode: BTM2302a
X-ALT-DESC;FMTTYPE=text/html:Veranstaltung: Hydrodynamik realer Fluide und 
 Anlagenauslegung (BTM2302)<br>Dozierende: Moser [msl1]<br>Räume: M303<br>
 Code: BTM2302a
DTSTAMP:20260424T213154Z
END:VEVENT
BEGIN:VEVENT
UID:69ebe14ac3c23
DTSTART:20220613T141500Z
SEQUENCE:0
TRANSP:OPAQUE
DTEND:20220613T155000Z
LOCATION:E125
SUMMARY:Hydrodynamik realer Fluide und Anlagenauslegung
CLASS:PUBLIC
DESCRIPTION:Veranstaltung: Hydrodynamik realer Fluide und Anlagenauslegung 
 (BTM2302)\nDozierende: Moser [msl1]\nRäume: E125\nCode: BTM2302c
X-ALT-DESC;FMTTYPE=text/html:Veranstaltung: Hydrodynamik realer Fluide und 
 Anlagenauslegung (BTM2302)<br>Dozierende: Moser [msl1]<br>Räume: E125<br>
 Code: BTM2302c
DTSTAMP:20260424T213154Z
END:VEVENT
BEGIN:VEVENT
UID:69ebe14ac3c4b
DTSTART:20220616T082000Z
SEQUENCE:0
TRANSP:OPAQUE
DTEND:20220616T095500Z
LOCATION:M303
SUMMARY:Hydrodynamik realer Fluide und Anlagenauslegung
CLASS:PUBLIC
DESCRIPTION:Veranstaltung: Hydrodynamik realer Fluide und Anlagenauslegung 
 (BTM2302)\nDozierende: Moser [msl1]\nRäume: M303\nCode: BTM2302a
X-ALT-DESC;FMTTYPE=text/html:Veranstaltung: Hydrodynamik realer Fluide und 
 Anlagenauslegung (BTM2302)<br>Dozierende: Moser [msl1]<br>Räume: M303<br>
 Code: BTM2302a
DTSTAMP:20260424T213154Z
END:VEVENT
END:VCALENDAR