BEGIN:VCALENDAR
VERSION:2.0
PRODID:www.bfh.ch
X-APPLE-CALENDAR-COLOR:Orange
X-OUTLOOK-COLOR:Orange
X-FUNAMBOL-COLOR:Orange
X-WR-CALNAME:Übersicht BTM2313
BEGIN:VEVENT
UID:69ebe63b1795a
DTSTART:20210921T062000Z
SEQUENCE:0
TRANSP:OPAQUE
DTEND:20210921T075500Z
LOCATION:T124
SUMMARY:Kreisprozesse ohne und mit Phasenwechsel
CLASS:PUBLIC
DESCRIPTION:Veranstaltung: Kreisprozesse ohne und mit Phasenwechsel (BTM231
 3)\nDozierende: Engelmann [ead1]\nRäume: T124\nCode: BTM2313a\nKommentar:
  Zusammengelegt
X-ALT-DESC;FMTTYPE=text/html:Veranstaltung: Kreisprozesse ohne und mit Phas
 enwechsel (BTM2313)<br>Dozierende: Engelmann [ead1]<br>Räume: T124<br>Cod
 e: BTM2313a<br>Kommentar: Zusammengelegt
DTSTAMP:20260424T215259Z
END:VEVENT
BEGIN:VEVENT
UID:69ebe63b17a0e
DTSTART:20210928T062000Z
SEQUENCE:0
TRANSP:OPAQUE
DTEND:20210928T075500Z
LOCATION:T124
SUMMARY:Kreisprozesse ohne und mit Phasenwechsel
CLASS:PUBLIC
DESCRIPTION:Veranstaltung: Kreisprozesse ohne und mit Phasenwechsel (BTM231
 3)\nDozierende: Engelmann [ead1]\nRäume: T124\nCode: BTM2313a\nKommentar:
  Zusammengelegt
X-ALT-DESC;FMTTYPE=text/html:Veranstaltung: Kreisprozesse ohne und mit Phas
 enwechsel (BTM2313)<br>Dozierende: Engelmann [ead1]<br>Räume: T124<br>Cod
 e: BTM2313a<br>Kommentar: Zusammengelegt
DTSTAMP:20260424T215259Z
END:VEVENT
BEGIN:VEVENT
UID:69ebe63b17a43
DTSTART:20211005T062000Z
SEQUENCE:0
TRANSP:OPAQUE
DTEND:20211005T075500Z
LOCATION:T124
SUMMARY:Kreisprozesse ohne und mit Phasenwechsel
CLASS:PUBLIC
DESCRIPTION:Veranstaltung: Kreisprozesse ohne und mit Phasenwechsel (BTM231
 3)\nDozierende: Engelmann [ead1]\nRäume: T124\nCode: BTM2313a\nKommentar:
  Zusammengelegt
X-ALT-DESC;FMTTYPE=text/html:Veranstaltung: Kreisprozesse ohne und mit Phas
 enwechsel (BTM2313)<br>Dozierende: Engelmann [ead1]<br>Räume: T124<br>Cod
 e: BTM2313a<br>Kommentar: Zusammengelegt
DTSTAMP:20260424T215259Z
END:VEVENT
BEGIN:VEVENT
UID:69ebe63b17a6f
DTSTART:20211012T062000Z
SEQUENCE:0
TRANSP:OPAQUE
DTEND:20211012T075500Z
LOCATION:T124
SUMMARY:Kreisprozesse ohne und mit Phasenwechsel
CLASS:PUBLIC
DESCRIPTION:Veranstaltung: Kreisprozesse ohne und mit Phasenwechsel (BTM231
 3)\nDozierende: Engelmann [ead1]\nRäume: T124\nCode: BTM2313a\nKommentar:
  Zusammengelegt
X-ALT-DESC;FMTTYPE=text/html:Veranstaltung: Kreisprozesse ohne und mit Phas
 enwechsel (BTM2313)<br>Dozierende: Engelmann [ead1]<br>Räume: T124<br>Cod
 e: BTM2313a<br>Kommentar: Zusammengelegt
DTSTAMP:20260424T215259Z
END:VEVENT
BEGIN:VEVENT
UID:69ebe63b17a98
DTSTART:20211019T062000Z
SEQUENCE:0
TRANSP:OPAQUE
DTEND:20211019T075500Z
LOCATION:T124
SUMMARY:Kreisprozesse ohne und mit Phasenwechsel
CLASS:PUBLIC
DESCRIPTION:Veranstaltung: Kreisprozesse ohne und mit Phasenwechsel (BTM231
 3)\nDozierende: Engelmann [ead1]\nRäume: T124\nCode: BTM2313a\nKommentar:
  Zusammengelegt
X-ALT-DESC;FMTTYPE=text/html:Veranstaltung: Kreisprozesse ohne und mit Phas
 enwechsel (BTM2313)<br>Dozierende: Engelmann [ead1]<br>Räume: T124<br>Cod
 e: BTM2313a<br>Kommentar: Zusammengelegt
DTSTAMP:20260424T215259Z
END:VEVENT
BEGIN:VEVENT
UID:69ebe63b17ac1
DTSTART:20211026T062000Z
SEQUENCE:0
TRANSP:OPAQUE
DTEND:20211026T075500Z
LOCATION:T124
SUMMARY:Kreisprozesse ohne und mit Phasenwechsel
CLASS:PUBLIC
DESCRIPTION:Veranstaltung: Kreisprozesse ohne und mit Phasenwechsel (BTM231
 3)\nDozierende: Engelmann [ead1]\nRäume: T124\nCode: BTM2313a\nKommentar:
  Zusammengelegt
X-ALT-DESC;FMTTYPE=text/html:Veranstaltung: Kreisprozesse ohne und mit Phas
 enwechsel (BTM2313)<br>Dozierende: Engelmann [ead1]<br>Räume: T124<br>Cod
 e: BTM2313a<br>Kommentar: Zusammengelegt
DTSTAMP:20260424T215259Z
END:VEVENT
BEGIN:VEVENT
UID:69ebe63b17aea
DTSTART:20211102T072000Z
SEQUENCE:0
TRANSP:OPAQUE
DTEND:20211102T085500Z
LOCATION:T124
SUMMARY:Kreisprozesse ohne und mit Phasenwechsel
CLASS:PUBLIC
DESCRIPTION:Veranstaltung: Kreisprozesse ohne und mit Phasenwechsel (BTM231
 3)\nDozierende: Engelmann [ead1]\nRäume: T124\nCode: BTM2313a\nKommentar:
  Zusammengelegt
X-ALT-DESC;FMTTYPE=text/html:Veranstaltung: Kreisprozesse ohne und mit Phas
 enwechsel (BTM2313)<br>Dozierende: Engelmann [ead1]<br>Räume: T124<br>Cod
 e: BTM2313a<br>Kommentar: Zusammengelegt
DTSTAMP:20260424T215259Z
END:VEVENT
BEGIN:VEVENT
UID:69ebe63b17b13
DTSTART:20211109T072000Z
SEQUENCE:0
TRANSP:OPAQUE
DTEND:20211109T085500Z
LOCATION:T124
SUMMARY:Kreisprozesse ohne und mit Phasenwechsel
CLASS:PUBLIC
DESCRIPTION:Veranstaltung: Kreisprozesse ohne und mit Phasenwechsel (BTM231
 3)\nDozierende: Engelmann [ead1]\nRäume: T124\nCode: BTM2313a\nKommentar:
  Zusammengelegt
X-ALT-DESC;FMTTYPE=text/html:Veranstaltung: Kreisprozesse ohne und mit Phas
 enwechsel (BTM2313)<br>Dozierende: Engelmann [ead1]<br>Räume: T124<br>Cod
 e: BTM2313a<br>Kommentar: Zusammengelegt
DTSTAMP:20260424T215259Z
END:VEVENT
BEGIN:VEVENT
UID:69ebe63b17b3d
DTSTART:20211116T072000Z
SEQUENCE:0
TRANSP:OPAQUE
DTEND:20211116T085500Z
LOCATION:T124
SUMMARY:Kreisprozesse ohne und mit Phasenwechsel
CLASS:PUBLIC
DESCRIPTION:Veranstaltung: Kreisprozesse ohne und mit Phasenwechsel (BTM231
 3)\nDozierende: Engelmann [ead1]\nRäume: T124\nCode: BTM2313a\nKommentar:
  Zusammengelegt
X-ALT-DESC;FMTTYPE=text/html:Veranstaltung: Kreisprozesse ohne und mit Phas
 enwechsel (BTM2313)<br>Dozierende: Engelmann [ead1]<br>Räume: T124<br>Cod
 e: BTM2313a<br>Kommentar: Zusammengelegt
DTSTAMP:20260424T215259Z
END:VEVENT
BEGIN:VEVENT
UID:69ebe63b17b65
DTSTART:20211123T072000Z
SEQUENCE:0
TRANSP:OPAQUE
DTEND:20211123T085500Z
LOCATION:T124
SUMMARY:Kreisprozesse ohne und mit Phasenwechsel
CLASS:PUBLIC
DESCRIPTION:Veranstaltung: Kreisprozesse ohne und mit Phasenwechsel (BTM231
 3)\nDozierende: Engelmann [ead1]\nRäume: T124\nCode: BTM2313a\nKommentar:
  Zusammengelegt
X-ALT-DESC;FMTTYPE=text/html:Veranstaltung: Kreisprozesse ohne und mit Phas
 enwechsel (BTM2313)<br>Dozierende: Engelmann [ead1]<br>Räume: T124<br>Cod
 e: BTM2313a<br>Kommentar: Zusammengelegt
DTSTAMP:20260424T215259Z
END:VEVENT
BEGIN:VEVENT
UID:69ebe63b17b8e
DTSTART:20211130T072000Z
SEQUENCE:0
TRANSP:OPAQUE
DTEND:20211130T085500Z
LOCATION:T124
SUMMARY:Kreisprozesse ohne und mit Phasenwechsel
CLASS:PUBLIC
DESCRIPTION:Veranstaltung: Kreisprozesse ohne und mit Phasenwechsel (BTM231
 3)\nDozierende: Engelmann [ead1]\nRäume: T124\nCode: BTM2313a\nKommentar:
  Zusammengelegt
X-ALT-DESC;FMTTYPE=text/html:Veranstaltung: Kreisprozesse ohne und mit Phas
 enwechsel (BTM2313)<br>Dozierende: Engelmann [ead1]<br>Räume: T124<br>Cod
 e: BTM2313a<br>Kommentar: Zusammengelegt
DTSTAMP:20260424T215259Z
END:VEVENT
BEGIN:VEVENT
UID:69ebe63b17bb5
DTSTART:20211207T072000Z
SEQUENCE:0
TRANSP:OPAQUE
DTEND:20211207T085500Z
LOCATION:T124
SUMMARY:Kreisprozesse ohne und mit Phasenwechsel
CLASS:PUBLIC
DESCRIPTION:Veranstaltung: Kreisprozesse ohne und mit Phasenwechsel (BTM231
 3)\nDozierende: Engelmann [ead1]\nRäume: T124\nCode: BTM2313a\nKommentar:
  Zusammengelegt
X-ALT-DESC;FMTTYPE=text/html:Veranstaltung: Kreisprozesse ohne und mit Phas
 enwechsel (BTM2313)<br>Dozierende: Engelmann [ead1]<br>Räume: T124<br>Cod
 e: BTM2313a<br>Kommentar: Zusammengelegt
DTSTAMP:20260424T215259Z
END:VEVENT
BEGIN:VEVENT
UID:69ebe63b17bdf
DTSTART:20211214T072000Z
SEQUENCE:0
TRANSP:OPAQUE
DTEND:20211214T085500Z
LOCATION:T124
SUMMARY:Kreisprozesse ohne und mit Phasenwechsel
CLASS:PUBLIC
DESCRIPTION:Veranstaltung: Kreisprozesse ohne und mit Phasenwechsel (BTM231
 3)\nDozierende: Engelmann [ead1]\nRäume: T124\nCode: BTM2313a\nKommentar:
  Zusammengelegt
X-ALT-DESC;FMTTYPE=text/html:Veranstaltung: Kreisprozesse ohne und mit Phas
 enwechsel (BTM2313)<br>Dozierende: Engelmann [ead1]<br>Räume: T124<br>Cod
 e: BTM2313a<br>Kommentar: Zusammengelegt
DTSTAMP:20260424T215259Z
END:VEVENT
BEGIN:VEVENT
UID:69ebe63b17c08
DTSTART:20211221T072000Z
SEQUENCE:0
TRANSP:OPAQUE
DTEND:20211221T085500Z
LOCATION:T124
SUMMARY:Kreisprozesse ohne und mit Phasenwechsel
CLASS:PUBLIC
DESCRIPTION:Veranstaltung: Kreisprozesse ohne und mit Phasenwechsel (BTM231
 3)\nDozierende: Engelmann [ead1]\nRäume: T124\nCode: BTM2313a\nKommentar:
  Zusammengelegt
X-ALT-DESC;FMTTYPE=text/html:Veranstaltung: Kreisprozesse ohne und mit Phas
 enwechsel (BTM2313)<br>Dozierende: Engelmann [ead1]<br>Räume: T124<br>Cod
 e: BTM2313a<br>Kommentar: Zusammengelegt
DTSTAMP:20260424T215259Z
END:VEVENT
BEGIN:VEVENT
UID:69ebe63b17c32
DTSTART:20220111T072000Z
SEQUENCE:0
TRANSP:OPAQUE
DTEND:20220111T085500Z
LOCATION:T124
SUMMARY:Kreisprozesse ohne und mit Phasenwechsel
CLASS:PUBLIC
DESCRIPTION:Veranstaltung: Kreisprozesse ohne und mit Phasenwechsel (BTM231
 3)\nDozierende: Engelmann [ead1]\nRäume: T124\nCode: BTM2313a\nKommentar:
  Zusammengelegt
X-ALT-DESC;FMTTYPE=text/html:Veranstaltung: Kreisprozesse ohne und mit Phas
 enwechsel (BTM2313)<br>Dozierende: Engelmann [ead1]<br>Räume: T124<br>Cod
 e: BTM2313a<br>Kommentar: Zusammengelegt
DTSTAMP:20260424T215259Z
END:VEVENT
BEGIN:VEVENT
UID:69ebe63b17c5a
DTSTART:20220118T072000Z
SEQUENCE:0
TRANSP:OPAQUE
DTEND:20220118T085500Z
LOCATION:T124
SUMMARY:Kreisprozesse ohne und mit Phasenwechsel
CLASS:PUBLIC
DESCRIPTION:Veranstaltung: Kreisprozesse ohne und mit Phasenwechsel (BTM231
 3)\nDozierende: Engelmann [ead1]\nRäume: T124\nCode: BTM2313a\nKommentar:
  Zusammengelegt
X-ALT-DESC;FMTTYPE=text/html:Veranstaltung: Kreisprozesse ohne und mit Phas
 enwechsel (BTM2313)<br>Dozierende: Engelmann [ead1]<br>Räume: T124<br>Cod
 e: BTM2313a<br>Kommentar: Zusammengelegt
DTSTAMP:20260424T215259Z
END:VEVENT
BEGIN:VEVENT
UID:69ebe63b17c83
DTSTART:20220922T122500Z
SEQUENCE:0
TRANSP:OPAQUE
DTEND:20220922T140000Z
LOCATION:Pest-E225
SUMMARY:Kreisprozesse ohne und mit Phasenwechsel
CLASS:PUBLIC
DESCRIPTION:Veranstaltung: Kreisprozesse ohne und mit Phasenwechsel (BTM231
 3)\nDozierende: Engelmann [ead1]\nRäume: Pest-E225\nCode: BTM2313a
X-ALT-DESC;FMTTYPE=text/html:Veranstaltung: Kreisprozesse ohne und mit Phas
 enwechsel (BTM2313)<br>Dozierende: Engelmann [ead1]<br>Räume: Pest-E225<b
 r>Code: BTM2313a
DTSTAMP:20260424T215259Z
END:VEVENT
BEGIN:VEVENT
UID:69ebe63b17caa
DTSTART:20220929T122500Z
SEQUENCE:0
TRANSP:OPAQUE
DTEND:20220929T140000Z
LOCATION:Pest-E225
SUMMARY:Kreisprozesse ohne und mit Phasenwechsel
CLASS:PUBLIC
DESCRIPTION:Veranstaltung: Kreisprozesse ohne und mit Phasenwechsel (BTM231
 3)\nDozierende: Engelmann [ead1]\nRäume: Pest-E225\nCode: BTM2313a
X-ALT-DESC;FMTTYPE=text/html:Veranstaltung: Kreisprozesse ohne und mit Phas
 enwechsel (BTM2313)<br>Dozierende: Engelmann [ead1]<br>Räume: Pest-E225<b
 r>Code: BTM2313a
DTSTAMP:20260424T215259Z
END:VEVENT
BEGIN:VEVENT
UID:69ebe63b17cd3
DTSTART:20221006T122500Z
SEQUENCE:0
TRANSP:OPAQUE
DTEND:20221006T140000Z
LOCATION:Pest-E225
SUMMARY:Kreisprozesse ohne und mit Phasenwechsel
CLASS:PUBLIC
DESCRIPTION:Veranstaltung: Kreisprozesse ohne und mit Phasenwechsel (BTM231
 3)\nDozierende: Engelmann [ead1]\nRäume: Pest-E225\nCode: BTM2313a
X-ALT-DESC;FMTTYPE=text/html:Veranstaltung: Kreisprozesse ohne und mit Phas
 enwechsel (BTM2313)<br>Dozierende: Engelmann [ead1]<br>Räume: Pest-E225<b
 r>Code: BTM2313a
DTSTAMP:20260424T215259Z
END:VEVENT
BEGIN:VEVENT
UID:69ebe63b17cfa
DTSTART:20221013T122500Z
SEQUENCE:0
TRANSP:OPAQUE
DTEND:20221013T140000Z
LOCATION:Pest-E225
SUMMARY:Kreisprozesse ohne und mit Phasenwechsel
CLASS:PUBLIC
DESCRIPTION:Veranstaltung: Kreisprozesse ohne und mit Phasenwechsel (BTM231
 3)\nDozierende: Engelmann [ead1]\nRäume: Pest-E225\nCode: BTM2313a
X-ALT-DESC;FMTTYPE=text/html:Veranstaltung: Kreisprozesse ohne und mit Phas
 enwechsel (BTM2313)<br>Dozierende: Engelmann [ead1]<br>Räume: Pest-E225<b
 r>Code: BTM2313a
DTSTAMP:20260424T215259Z
END:VEVENT
BEGIN:VEVENT
UID:69ebe63b17d20
DTSTART:20221020T122500Z
SEQUENCE:0
TRANSP:OPAQUE
DTEND:20221020T140000Z
LOCATION:Pest-E225
SUMMARY:Kreisprozesse ohne und mit Phasenwechsel
CLASS:PUBLIC
DESCRIPTION:Veranstaltung: Kreisprozesse ohne und mit Phasenwechsel (BTM231
 3)\nDozierende: Engelmann [ead1]\nRäume: Pest-E225\nCode: BTM2313a
X-ALT-DESC;FMTTYPE=text/html:Veranstaltung: Kreisprozesse ohne und mit Phas
 enwechsel (BTM2313)<br>Dozierende: Engelmann [ead1]<br>Räume: Pest-E225<b
 r>Code: BTM2313a
DTSTAMP:20260424T215259Z
END:VEVENT
BEGIN:VEVENT
UID:69ebe63b17d47
DTSTART:20221027T122500Z
SEQUENCE:0
TRANSP:OPAQUE
DTEND:20221027T140000Z
LOCATION:Pest-E225
SUMMARY:Kreisprozesse ohne und mit Phasenwechsel
CLASS:PUBLIC
DESCRIPTION:Veranstaltung: Kreisprozesse ohne und mit Phasenwechsel (BTM231
 3)\nDozierende: Engelmann [ead1]\nRäume: Pest-E225\nCode: BTM2313a
X-ALT-DESC;FMTTYPE=text/html:Veranstaltung: Kreisprozesse ohne und mit Phas
 enwechsel (BTM2313)<br>Dozierende: Engelmann [ead1]<br>Räume: Pest-E225<b
 r>Code: BTM2313a
DTSTAMP:20260424T215259Z
END:VEVENT
BEGIN:VEVENT
UID:69ebe63b17d6d
DTSTART:20221103T132500Z
SEQUENCE:0
TRANSP:OPAQUE
DTEND:20221103T150000Z
LOCATION:Pest-E225
SUMMARY:Kreisprozesse ohne und mit Phasenwechsel
CLASS:PUBLIC
DESCRIPTION:Veranstaltung: Kreisprozesse ohne und mit Phasenwechsel (BTM231
 3)\nDozierende: Engelmann [ead1]\nRäume: Pest-E225\nCode: BTM2313a
X-ALT-DESC;FMTTYPE=text/html:Veranstaltung: Kreisprozesse ohne und mit Phas
 enwechsel (BTM2313)<br>Dozierende: Engelmann [ead1]<br>Räume: Pest-E225<b
 r>Code: BTM2313a
DTSTAMP:20260424T215259Z
END:VEVENT
BEGIN:VEVENT
UID:69ebe63b17d93
DTSTART:20221110T132500Z
SEQUENCE:0
TRANSP:OPAQUE
DTEND:20221110T150000Z
LOCATION:Pest-E225
SUMMARY:Kreisprozesse ohne und mit Phasenwechsel
CLASS:PUBLIC
DESCRIPTION:Veranstaltung: Kreisprozesse ohne und mit Phasenwechsel (BTM231
 3)\nDozierende: Engelmann [ead1]\nRäume: Pest-E225\nCode: BTM2313a
X-ALT-DESC;FMTTYPE=text/html:Veranstaltung: Kreisprozesse ohne und mit Phas
 enwechsel (BTM2313)<br>Dozierende: Engelmann [ead1]<br>Räume: Pest-E225<b
 r>Code: BTM2313a
DTSTAMP:20260424T215259Z
END:VEVENT
BEGIN:VEVENT
UID:69ebe63b17dba
DTSTART:20221117T132500Z
SEQUENCE:0
TRANSP:OPAQUE
DTEND:20221117T150000Z
LOCATION:Pest-E225
SUMMARY:Kreisprozesse ohne und mit Phasenwechsel
CLASS:PUBLIC
DESCRIPTION:Veranstaltung: Kreisprozesse ohne und mit Phasenwechsel (BTM231
 3)\nDozierende: Engelmann [ead1]\nRäume: Pest-E225\nCode: BTM2313a
X-ALT-DESC;FMTTYPE=text/html:Veranstaltung: Kreisprozesse ohne und mit Phas
 enwechsel (BTM2313)<br>Dozierende: Engelmann [ead1]<br>Räume: Pest-E225<b
 r>Code: BTM2313a
DTSTAMP:20260424T215259Z
END:VEVENT
BEGIN:VEVENT
UID:69ebe63b17de1
DTSTART:20221124T132500Z
SEQUENCE:0
TRANSP:OPAQUE
DTEND:20221124T150000Z
LOCATION:Pest-E225
SUMMARY:Kreisprozesse ohne und mit Phasenwechsel
CLASS:PUBLIC
DESCRIPTION:Veranstaltung: Kreisprozesse ohne und mit Phasenwechsel (BTM231
 3)\nDozierende: Engelmann [ead1]\nRäume: Pest-E225\nCode: BTM2313a
X-ALT-DESC;FMTTYPE=text/html:Veranstaltung: Kreisprozesse ohne und mit Phas
 enwechsel (BTM2313)<br>Dozierende: Engelmann [ead1]<br>Räume: Pest-E225<b
 r>Code: BTM2313a
DTSTAMP:20260424T215259Z
END:VEVENT
BEGIN:VEVENT
UID:69ebe63b17e08
DTSTART:20221201T132500Z
SEQUENCE:0
TRANSP:OPAQUE
DTEND:20221201T150000Z
LOCATION:Pest-E225
SUMMARY:Kreisprozesse ohne und mit Phasenwechsel
CLASS:PUBLIC
DESCRIPTION:Veranstaltung: Kreisprozesse ohne und mit Phasenwechsel (BTM231
 3)\nDozierende: Engelmann [ead1]\nRäume: Pest-E225\nCode: BTM2313a
X-ALT-DESC;FMTTYPE=text/html:Veranstaltung: Kreisprozesse ohne und mit Phas
 enwechsel (BTM2313)<br>Dozierende: Engelmann [ead1]<br>Räume: Pest-E225<b
 r>Code: BTM2313a
DTSTAMP:20260424T215259Z
END:VEVENT
BEGIN:VEVENT
UID:69ebe63b17e30
DTSTART:20221208T132500Z
SEQUENCE:0
TRANSP:OPAQUE
DTEND:20221208T150000Z
LOCATION:Pest-E225
SUMMARY:Kreisprozesse ohne und mit Phasenwechsel
CLASS:PUBLIC
DESCRIPTION:Veranstaltung: Kreisprozesse ohne und mit Phasenwechsel (BTM231
 3)\nDozierende: Engelmann [ead1]\nRäume: Pest-E225\nCode: BTM2313a
X-ALT-DESC;FMTTYPE=text/html:Veranstaltung: Kreisprozesse ohne und mit Phas
 enwechsel (BTM2313)<br>Dozierende: Engelmann [ead1]<br>Räume: Pest-E225<b
 r>Code: BTM2313a
DTSTAMP:20260424T215259Z
END:VEVENT
BEGIN:VEVENT
UID:69ebe63b17e58
DTSTART:20221215T132500Z
SEQUENCE:0
TRANSP:OPAQUE
DTEND:20221215T150000Z
LOCATION:Pest-E225
SUMMARY:Kreisprozesse ohne und mit Phasenwechsel
CLASS:PUBLIC
DESCRIPTION:Veranstaltung: Kreisprozesse ohne und mit Phasenwechsel (BTM231
 3)\nDozierende: Engelmann [ead1]\nRäume: Pest-E225\nCode: BTM2313a
X-ALT-DESC;FMTTYPE=text/html:Veranstaltung: Kreisprozesse ohne und mit Phas
 enwechsel (BTM2313)<br>Dozierende: Engelmann [ead1]<br>Räume: Pest-E225<b
 r>Code: BTM2313a
DTSTAMP:20260424T215259Z
END:VEVENT
BEGIN:VEVENT
UID:69ebe63b17e7f
DTSTART:20221222T132500Z
SEQUENCE:0
TRANSP:OPAQUE
DTEND:20221222T150000Z
LOCATION:Pest-E225
SUMMARY:Kreisprozesse ohne und mit Phasenwechsel
CLASS:PUBLIC
DESCRIPTION:Veranstaltung: Kreisprozesse ohne und mit Phasenwechsel (BTM231
 3)\nDozierende: Engelmann [ead1]\nRäume: Pest-E225\nCode: BTM2313a
X-ALT-DESC;FMTTYPE=text/html:Veranstaltung: Kreisprozesse ohne und mit Phas
 enwechsel (BTM2313)<br>Dozierende: Engelmann [ead1]<br>Räume: Pest-E225<b
 r>Code: BTM2313a
DTSTAMP:20260424T215259Z
END:VEVENT
BEGIN:VEVENT
UID:69ebe63b17ea6
DTSTART:20230112T132500Z
SEQUENCE:0
TRANSP:OPAQUE
DTEND:20230112T150000Z
LOCATION:Pest-E225
SUMMARY:Kreisprozesse ohne und mit Phasenwechsel
CLASS:PUBLIC
DESCRIPTION:Veranstaltung: Kreisprozesse ohne und mit Phasenwechsel (BTM231
 3)\nDozierende: Engelmann [ead1]\nRäume: Pest-E225\nCode: BTM2313a
X-ALT-DESC;FMTTYPE=text/html:Veranstaltung: Kreisprozesse ohne und mit Phas
 enwechsel (BTM2313)<br>Dozierende: Engelmann [ead1]<br>Räume: Pest-E225<b
 r>Code: BTM2313a
DTSTAMP:20260424T215259Z
END:VEVENT
BEGIN:VEVENT
UID:69ebe63b17ecd
DTSTART:20230119T132500Z
SEQUENCE:0
TRANSP:OPAQUE
DTEND:20230119T150000Z
LOCATION:Pest-E225
SUMMARY:Kreisprozesse ohne und mit Phasenwechsel
CLASS:PUBLIC
DESCRIPTION:Veranstaltung: Kreisprozesse ohne und mit Phasenwechsel (BTM231
 3)\nDozierende: Engelmann [ead1]\nRäume: Pest-E225\nCode: BTM2313a
X-ALT-DESC;FMTTYPE=text/html:Veranstaltung: Kreisprozesse ohne und mit Phas
 enwechsel (BTM2313)<br>Dozierende: Engelmann [ead1]<br>Räume: Pest-E225<b
 r>Code: BTM2313a
DTSTAMP:20260424T215259Z
END:VEVENT
BEGIN:VEVENT
UID:69ebe63b17ef5
DTSTART:20280921T122500Z
SEQUENCE:0
TRANSP:OPAQUE
DTEND:20280921T140000Z
LOCATION:CBB-E225
SUMMARY:Kreisprozesse ohne und mit Phasenwechsel
CLASS:PUBLIC
DESCRIPTION:Veranstaltung: Kreisprozesse ohne und mit Phasenwechsel (BTM231
 3)\nDozierende: Engelmann [ead1]\nRäume: CBB-E225\nCode: BTM2313a
X-ALT-DESC;FMTTYPE=text/html:Veranstaltung: Kreisprozesse ohne und mit Phas
 enwechsel (BTM2313)<br>Dozierende: Engelmann [ead1]<br>Räume: CBB-E225<br
 >Code: BTM2313a
DTSTAMP:20260424T215259Z
END:VEVENT
END:VCALENDAR