BEGIN:VCALENDAR
VERSION:2.0
PRODID:www.bfh.ch
X-APPLE-CALENDAR-COLOR:Orange
X-OUTLOOK-COLOR:Orange
X-FUNAMBOL-COLOR:Orange
X-WR-CALNAME:Übersicht BTM3601
BEGIN:VEVENT
UID:69eba87ff0835
DTSTART:20220222T072000Z
SEQUENCE:0
TRANSP:OPAQUE
DTEND:20220222T105500Z
LOCATION:E125
SUMMARY:Roboter in der Rehabilitationstechnik
CLASS:PUBLIC
DESCRIPTION:Veranstaltung: Roboter in der Rehabilitationstechnik (BTM3601)\
 nDozierende: Hunt [huk2]\nRäume: E125\nCode: BTM3601a\nKommentar: DI / Do
  / Fr: Zimmer E125
X-ALT-DESC;FMTTYPE=text/html:Veranstaltung: Roboter in der Rehabilitationst
 echnik (BTM3601)<br>Dozierende: Hunt [huk2]<br>Räume: E125<br>Code: BTM36
 01a<br>Kommentar: DI / Do / Fr: Zimmer E125
DTSTAMP:20260424T172935Z
END:VEVENT
BEGIN:VEVENT
UID:69eba87ff08fc
DTSTART:20220222T114500Z
SEQUENCE:0
TRANSP:OPAQUE
DTEND:20220222T160000Z
LOCATION:E125
SUMMARY:Roboter in der Rehabilitationstechnik
CLASS:PUBLIC
DESCRIPTION:Veranstaltung: Roboter in der Rehabilitationstechnik (BTM3601)\
 nDozierende: Hunt [huk2]\nRäume: E125\nCode: BTM3601a\nKommentar: DI / Do
  / Fr: Zimmer E125
X-ALT-DESC;FMTTYPE=text/html:Veranstaltung: Roboter in der Rehabilitationst
 echnik (BTM3601)<br>Dozierende: Hunt [huk2]<br>Räume: E125<br>Code: BTM36
 01a<br>Kommentar: DI / Do / Fr: Zimmer E125
DTSTAMP:20260424T172935Z
END:VEVENT
BEGIN:VEVENT
UID:69eba87ff0932
DTSTART:20220301T072000Z
SEQUENCE:0
TRANSP:OPAQUE
DTEND:20220301T105500Z
LOCATION:E125
SUMMARY:Roboter in der Rehabilitationstechnik
CLASS:PUBLIC
DESCRIPTION:Veranstaltung: Roboter in der Rehabilitationstechnik (BTM3601)\
 nDozierende: Hunt [huk2]\nRäume: E125\nCode: BTM3601a\nKommentar: DI / Do
  / Fr: Zimmer E125
X-ALT-DESC;FMTTYPE=text/html:Veranstaltung: Roboter in der Rehabilitationst
 echnik (BTM3601)<br>Dozierende: Hunt [huk2]<br>Räume: E125<br>Code: BTM36
 01a<br>Kommentar: DI / Do / Fr: Zimmer E125
DTSTAMP:20260424T172935Z
END:VEVENT
BEGIN:VEVENT
UID:69eba87ff095f
DTSTART:20220301T114500Z
SEQUENCE:0
TRANSP:OPAQUE
DTEND:20220301T160000Z
LOCATION:E125
SUMMARY:Roboter in der Rehabilitationstechnik
CLASS:PUBLIC
DESCRIPTION:Veranstaltung: Roboter in der Rehabilitationstechnik (BTM3601)\
 nDozierende: Hunt [huk2]\nRäume: E125\nCode: BTM3601a\nKommentar: DI / Do
  / Fr: Zimmer E125
X-ALT-DESC;FMTTYPE=text/html:Veranstaltung: Roboter in der Rehabilitationst
 echnik (BTM3601)<br>Dozierende: Hunt [huk2]<br>Räume: E125<br>Code: BTM36
 01a<br>Kommentar: DI / Do / Fr: Zimmer E125
DTSTAMP:20260424T172935Z
END:VEVENT
BEGIN:VEVENT
UID:69eba87ff098b
DTSTART:20220308T072000Z
SEQUENCE:0
TRANSP:OPAQUE
DTEND:20220308T105500Z
LOCATION:E125
SUMMARY:Roboter in der Rehabilitationstechnik
CLASS:PUBLIC
DESCRIPTION:Veranstaltung: Roboter in der Rehabilitationstechnik (BTM3601)\
 nDozierende: Hunt [huk2]\nRäume: E125\nCode: BTM3601a\nKommentar: DI / Do
  / Fr: Zimmer E125
X-ALT-DESC;FMTTYPE=text/html:Veranstaltung: Roboter in der Rehabilitationst
 echnik (BTM3601)<br>Dozierende: Hunt [huk2]<br>Räume: E125<br>Code: BTM36
 01a<br>Kommentar: DI / Do / Fr: Zimmer E125
DTSTAMP:20260424T172935Z
END:VEVENT
BEGIN:VEVENT
UID:69eba87ff09b5
DTSTART:20220308T114500Z
SEQUENCE:0
TRANSP:OPAQUE
DTEND:20220308T160000Z
LOCATION:E125
SUMMARY:Roboter in der Rehabilitationstechnik
CLASS:PUBLIC
DESCRIPTION:Veranstaltung: Roboter in der Rehabilitationstechnik (BTM3601)\
 nDozierende: Hunt [huk2]\nRäume: E125\nCode: BTM3601a\nKommentar: DI / Do
  / Fr: Zimmer E125
X-ALT-DESC;FMTTYPE=text/html:Veranstaltung: Roboter in der Rehabilitationst
 echnik (BTM3601)<br>Dozierende: Hunt [huk2]<br>Räume: E125<br>Code: BTM36
 01a<br>Kommentar: DI / Do / Fr: Zimmer E125
DTSTAMP:20260424T172935Z
END:VEVENT
BEGIN:VEVENT
UID:69eba87ff09df
DTSTART:20220315T072000Z
SEQUENCE:0
TRANSP:OPAQUE
DTEND:20220315T105500Z
LOCATION:E125
SUMMARY:Roboter in der Rehabilitationstechnik
CLASS:PUBLIC
DESCRIPTION:Veranstaltung: Roboter in der Rehabilitationstechnik (BTM3601)\
 nDozierende: Hunt [huk2]\nRäume: E125\nCode: BTM3601a\nKommentar: DI / Do
  / Fr: Zimmer E125
X-ALT-DESC;FMTTYPE=text/html:Veranstaltung: Roboter in der Rehabilitationst
 echnik (BTM3601)<br>Dozierende: Hunt [huk2]<br>Räume: E125<br>Code: BTM36
 01a<br>Kommentar: DI / Do / Fr: Zimmer E125
DTSTAMP:20260424T172935Z
END:VEVENT
BEGIN:VEVENT
UID:69eba87ff0a09
DTSTART:20220315T114500Z
SEQUENCE:0
TRANSP:OPAQUE
DTEND:20220315T160000Z
LOCATION:E125
SUMMARY:Roboter in der Rehabilitationstechnik
CLASS:PUBLIC
DESCRIPTION:Veranstaltung: Roboter in der Rehabilitationstechnik (BTM3601)\
 nDozierende: Hunt [huk2]\nRäume: E125\nCode: BTM3601a\nKommentar: DI / Do
  / Fr: Zimmer E125
X-ALT-DESC;FMTTYPE=text/html:Veranstaltung: Roboter in der Rehabilitationst
 echnik (BTM3601)<br>Dozierende: Hunt [huk2]<br>Räume: E125<br>Code: BTM36
 01a<br>Kommentar: DI / Do / Fr: Zimmer E125
DTSTAMP:20260424T172935Z
END:VEVENT
BEGIN:VEVENT
UID:69eba87ff0a35
DTSTART:20220322T072000Z
SEQUENCE:0
TRANSP:OPAQUE
DTEND:20220322T105500Z
LOCATION:E125
SUMMARY:Roboter in der Rehabilitationstechnik
CLASS:PUBLIC
DESCRIPTION:Veranstaltung: Roboter in der Rehabilitationstechnik (BTM3601)\
 nDozierende: Hunt [huk2]\nRäume: E125\nCode: BTM3601a\nKommentar: DI / Do
  / Fr: Zimmer E125
X-ALT-DESC;FMTTYPE=text/html:Veranstaltung: Roboter in der Rehabilitationst
 echnik (BTM3601)<br>Dozierende: Hunt [huk2]<br>Räume: E125<br>Code: BTM36
 01a<br>Kommentar: DI / Do / Fr: Zimmer E125
DTSTAMP:20260424T172935Z
END:VEVENT
BEGIN:VEVENT
UID:69eba87ff0a60
DTSTART:20220322T114500Z
SEQUENCE:0
TRANSP:OPAQUE
DTEND:20220322T160000Z
LOCATION:E125
SUMMARY:Roboter in der Rehabilitationstechnik
CLASS:PUBLIC
DESCRIPTION:Veranstaltung: Roboter in der Rehabilitationstechnik (BTM3601)\
 nDozierende: Hunt [huk2]\nRäume: E125\nCode: BTM3601a\nKommentar: DI / Do
  / Fr: Zimmer E125
X-ALT-DESC;FMTTYPE=text/html:Veranstaltung: Roboter in der Rehabilitationst
 echnik (BTM3601)<br>Dozierende: Hunt [huk2]<br>Räume: E125<br>Code: BTM36
 01a<br>Kommentar: DI / Do / Fr: Zimmer E125
DTSTAMP:20260424T172935Z
END:VEVENT
BEGIN:VEVENT
UID:69eba87ff0a8d
DTSTART:20220329T062000Z
SEQUENCE:0
TRANSP:OPAQUE
DTEND:20220329T095500Z
LOCATION:E125
SUMMARY:Roboter in der Rehabilitationstechnik
CLASS:PUBLIC
DESCRIPTION:Veranstaltung: Roboter in der Rehabilitationstechnik (BTM3601)\
 nDozierende: Hunt [huk2]\nRäume: E125\nCode: BTM3601a\nKommentar: DI / Do
  / Fr: Zimmer E125
X-ALT-DESC;FMTTYPE=text/html:Veranstaltung: Roboter in der Rehabilitationst
 echnik (BTM3601)<br>Dozierende: Hunt [huk2]<br>Räume: E125<br>Code: BTM36
 01a<br>Kommentar: DI / Do / Fr: Zimmer E125
DTSTAMP:20260424T172935Z
END:VEVENT
BEGIN:VEVENT
UID:69eba87ff0ab8
DTSTART:20220329T104500Z
SEQUENCE:0
TRANSP:OPAQUE
DTEND:20220329T150000Z
LOCATION:E125
SUMMARY:Roboter in der Rehabilitationstechnik
CLASS:PUBLIC
DESCRIPTION:Veranstaltung: Roboter in der Rehabilitationstechnik (BTM3601)\
 nDozierende: Hunt [huk2]\nRäume: E125\nCode: BTM3601a\nKommentar: DI / Do
  / Fr: Zimmer E125
X-ALT-DESC;FMTTYPE=text/html:Veranstaltung: Roboter in der Rehabilitationst
 echnik (BTM3601)<br>Dozierende: Hunt [huk2]<br>Räume: E125<br>Code: BTM36
 01a<br>Kommentar: DI / Do / Fr: Zimmer E125
DTSTAMP:20260424T172935Z
END:VEVENT
BEGIN:VEVENT
UID:69eba87ff0ae2
DTSTART:20220405T062000Z
SEQUENCE:0
TRANSP:OPAQUE
DTEND:20220405T095500Z
LOCATION:E125
SUMMARY:Roboter in der Rehabilitationstechnik
CLASS:PUBLIC
DESCRIPTION:Veranstaltung: Roboter in der Rehabilitationstechnik (BTM3601)\
 nDozierende: Hunt [huk2]\nRäume: E125\nCode: BTM3601a\nKommentar: DI / Do
  / Fr: Zimmer E125
X-ALT-DESC;FMTTYPE=text/html:Veranstaltung: Roboter in der Rehabilitationst
 echnik (BTM3601)<br>Dozierende: Hunt [huk2]<br>Räume: E125<br>Code: BTM36
 01a<br>Kommentar: DI / Do / Fr: Zimmer E125
DTSTAMP:20260424T172935Z
END:VEVENT
BEGIN:VEVENT
UID:69eba87ff0b0c
DTSTART:20220405T104500Z
SEQUENCE:0
TRANSP:OPAQUE
DTEND:20220405T150000Z
LOCATION:E125
SUMMARY:Roboter in der Rehabilitationstechnik
CLASS:PUBLIC
DESCRIPTION:Veranstaltung: Roboter in der Rehabilitationstechnik (BTM3601)\
 nDozierende: Hunt [huk2]\nRäume: E125\nCode: BTM3601a\nKommentar: DI / Do
  / Fr: Zimmer E125
X-ALT-DESC;FMTTYPE=text/html:Veranstaltung: Roboter in der Rehabilitationst
 echnik (BTM3601)<br>Dozierende: Hunt [huk2]<br>Räume: E125<br>Code: BTM36
 01a<br>Kommentar: DI / Do / Fr: Zimmer E125
DTSTAMP:20260424T172935Z
END:VEVENT
BEGIN:VEVENT
UID:69eba87ff0b37
DTSTART:20220419T062000Z
SEQUENCE:0
TRANSP:OPAQUE
DTEND:20220419T095500Z
LOCATION:E125
SUMMARY:Roboter in der Rehabilitationstechnik
CLASS:PUBLIC
DESCRIPTION:Veranstaltung: Roboter in der Rehabilitationstechnik (BTM3601)\
 nDozierende: Hunt [huk2]\nRäume: E125\nCode: BTM3601a\nKommentar: DI / Do
  / Fr: Zimmer E125
X-ALT-DESC;FMTTYPE=text/html:Veranstaltung: Roboter in der Rehabilitationst
 echnik (BTM3601)<br>Dozierende: Hunt [huk2]<br>Räume: E125<br>Code: BTM36
 01a<br>Kommentar: DI / Do / Fr: Zimmer E125
DTSTAMP:20260424T172935Z
END:VEVENT
BEGIN:VEVENT
UID:69eba87ff0b62
DTSTART:20220419T104500Z
SEQUENCE:0
TRANSP:OPAQUE
DTEND:20220419T150000Z
LOCATION:E125
SUMMARY:Roboter in der Rehabilitationstechnik
CLASS:PUBLIC
DESCRIPTION:Veranstaltung: Roboter in der Rehabilitationstechnik (BTM3601)\
 nDozierende: Hunt [huk2]\nRäume: E125\nCode: BTM3601a\nKommentar: DI / Do
  / Fr: Zimmer E125
X-ALT-DESC;FMTTYPE=text/html:Veranstaltung: Roboter in der Rehabilitationst
 echnik (BTM3601)<br>Dozierende: Hunt [huk2]<br>Räume: E125<br>Code: BTM36
 01a<br>Kommentar: DI / Do / Fr: Zimmer E125
DTSTAMP:20260424T172935Z
END:VEVENT
BEGIN:VEVENT
UID:69eba87ff0b8c
DTSTART:20220426T062000Z
SEQUENCE:0
TRANSP:OPAQUE
DTEND:20220426T095500Z
LOCATION:E125
SUMMARY:Roboter in der Rehabilitationstechnik
CLASS:PUBLIC
DESCRIPTION:Veranstaltung: Roboter in der Rehabilitationstechnik (BTM3601)\
 nDozierende: Hunt [huk2]\nRäume: E125\nCode: BTM3601a\nKommentar: DI / Do
  / Fr: Zimmer E125
X-ALT-DESC;FMTTYPE=text/html:Veranstaltung: Roboter in der Rehabilitationst
 echnik (BTM3601)<br>Dozierende: Hunt [huk2]<br>Räume: E125<br>Code: BTM36
 01a<br>Kommentar: DI / Do / Fr: Zimmer E125
DTSTAMP:20260424T172935Z
END:VEVENT
BEGIN:VEVENT
UID:69eba87ff0bb5
DTSTART:20220426T104500Z
SEQUENCE:0
TRANSP:OPAQUE
DTEND:20220426T150000Z
LOCATION:E125
SUMMARY:Roboter in der Rehabilitationstechnik
CLASS:PUBLIC
DESCRIPTION:Veranstaltung: Roboter in der Rehabilitationstechnik (BTM3601)\
 nDozierende: Hunt [huk2]\nRäume: E125\nCode: BTM3601a\nKommentar: DI / Do
  / Fr: Zimmer E125
X-ALT-DESC;FMTTYPE=text/html:Veranstaltung: Roboter in der Rehabilitationst
 echnik (BTM3601)<br>Dozierende: Hunt [huk2]<br>Räume: E125<br>Code: BTM36
 01a<br>Kommentar: DI / Do / Fr: Zimmer E125
DTSTAMP:20260424T172935Z
END:VEVENT
BEGIN:VEVENT
UID:69eba87ff0bdf
DTSTART:20220503T062000Z
SEQUENCE:0
TRANSP:OPAQUE
DTEND:20220503T095500Z
LOCATION:E125
SUMMARY:Roboter in der Rehabilitationstechnik
CLASS:PUBLIC
DESCRIPTION:Veranstaltung: Roboter in der Rehabilitationstechnik (BTM3601)\
 nDozierende: Hunt [huk2]\nRäume: E125\nCode: BTM3601a\nKommentar: DI / Do
  / Fr: Zimmer E125
X-ALT-DESC;FMTTYPE=text/html:Veranstaltung: Roboter in der Rehabilitationst
 echnik (BTM3601)<br>Dozierende: Hunt [huk2]<br>Räume: E125<br>Code: BTM36
 01a<br>Kommentar: DI / Do / Fr: Zimmer E125
DTSTAMP:20260424T172935Z
END:VEVENT
BEGIN:VEVENT
UID:69eba87ff0c08
DTSTART:20220503T104500Z
SEQUENCE:0
TRANSP:OPAQUE
DTEND:20220503T150000Z
LOCATION:E125
SUMMARY:Roboter in der Rehabilitationstechnik
CLASS:PUBLIC
DESCRIPTION:Veranstaltung: Roboter in der Rehabilitationstechnik (BTM3601)\
 nDozierende: Hunt [huk2]\nRäume: E125\nCode: BTM3601a\nKommentar: DI / Do
  / Fr: Zimmer E125
X-ALT-DESC;FMTTYPE=text/html:Veranstaltung: Roboter in der Rehabilitationst
 echnik (BTM3601)<br>Dozierende: Hunt [huk2]<br>Räume: E125<br>Code: BTM36
 01a<br>Kommentar: DI / Do / Fr: Zimmer E125
DTSTAMP:20260424T172935Z
END:VEVENT
BEGIN:VEVENT
UID:69eba87ff0c31
DTSTART:20220510T062000Z
SEQUENCE:0
TRANSP:OPAQUE
DTEND:20220510T095500Z
LOCATION:E125
SUMMARY:Roboter in der Rehabilitationstechnik
CLASS:PUBLIC
DESCRIPTION:Veranstaltung: Roboter in der Rehabilitationstechnik (BTM3601)\
 nDozierende: Hunt [huk2]\nRäume: E125\nCode: BTM3601a\nKommentar: DI / Do
  / Fr: Zimmer E125
X-ALT-DESC;FMTTYPE=text/html:Veranstaltung: Roboter in der Rehabilitationst
 echnik (BTM3601)<br>Dozierende: Hunt [huk2]<br>Räume: E125<br>Code: BTM36
 01a<br>Kommentar: DI / Do / Fr: Zimmer E125
DTSTAMP:20260424T172935Z
END:VEVENT
BEGIN:VEVENT
UID:69eba87ff0c5a
DTSTART:20220510T104500Z
SEQUENCE:0
TRANSP:OPAQUE
DTEND:20220510T150000Z
LOCATION:E125
SUMMARY:Roboter in der Rehabilitationstechnik
CLASS:PUBLIC
DESCRIPTION:Veranstaltung: Roboter in der Rehabilitationstechnik (BTM3601)\
 nDozierende: Hunt [huk2]\nRäume: E125\nCode: BTM3601a\nKommentar: DI / Do
  / Fr: Zimmer E125
X-ALT-DESC;FMTTYPE=text/html:Veranstaltung: Roboter in der Rehabilitationst
 echnik (BTM3601)<br>Dozierende: Hunt [huk2]<br>Räume: E125<br>Code: BTM36
 01a<br>Kommentar: DI / Do / Fr: Zimmer E125
DTSTAMP:20260424T172935Z
END:VEVENT
BEGIN:VEVENT
UID:69eba87ff0c85
DTSTART:20220517T062000Z
SEQUENCE:0
TRANSP:OPAQUE
DTEND:20220517T095500Z
LOCATION:E125
SUMMARY:Roboter in der Rehabilitationstechnik
CLASS:PUBLIC
DESCRIPTION:Veranstaltung: Roboter in der Rehabilitationstechnik (BTM3601)\
 nDozierende: Hunt [huk2]\nRäume: E125\nCode: BTM3601a\nKommentar: DI / Do
  / Fr: Zimmer E125
X-ALT-DESC;FMTTYPE=text/html:Veranstaltung: Roboter in der Rehabilitationst
 echnik (BTM3601)<br>Dozierende: Hunt [huk2]<br>Räume: E125<br>Code: BTM36
 01a<br>Kommentar: DI / Do / Fr: Zimmer E125
DTSTAMP:20260424T172935Z
END:VEVENT
BEGIN:VEVENT
UID:69eba87ff0cae
DTSTART:20220517T104500Z
SEQUENCE:0
TRANSP:OPAQUE
DTEND:20220517T150000Z
LOCATION:E125
SUMMARY:Roboter in der Rehabilitationstechnik
CLASS:PUBLIC
DESCRIPTION:Veranstaltung: Roboter in der Rehabilitationstechnik (BTM3601)\
 nDozierende: Hunt [huk2]\nRäume: E125\nCode: BTM3601a\nKommentar: DI / Do
  / Fr: Zimmer E125
X-ALT-DESC;FMTTYPE=text/html:Veranstaltung: Roboter in der Rehabilitationst
 echnik (BTM3601)<br>Dozierende: Hunt [huk2]<br>Räume: E125<br>Code: BTM36
 01a<br>Kommentar: DI / Do / Fr: Zimmer E125
DTSTAMP:20260424T172935Z
END:VEVENT
BEGIN:VEVENT
UID:69eba87ff0cd7
DTSTART:20220524T062000Z
SEQUENCE:0
TRANSP:OPAQUE
DTEND:20220524T095500Z
LOCATION:E125
SUMMARY:Roboter in der Rehabilitationstechnik
CLASS:PUBLIC
DESCRIPTION:Veranstaltung: Roboter in der Rehabilitationstechnik (BTM3601)\
 nDozierende: Hunt [huk2]\nRäume: E125\nCode: BTM3601a\nKommentar: DI / Do
  / Fr: Zimmer E125
X-ALT-DESC;FMTTYPE=text/html:Veranstaltung: Roboter in der Rehabilitationst
 echnik (BTM3601)<br>Dozierende: Hunt [huk2]<br>Räume: E125<br>Code: BTM36
 01a<br>Kommentar: DI / Do / Fr: Zimmer E125
DTSTAMP:20260424T172935Z
END:VEVENT
BEGIN:VEVENT
UID:69eba87ff0d01
DTSTART:20220524T104500Z
SEQUENCE:0
TRANSP:OPAQUE
DTEND:20220524T150000Z
LOCATION:E125
SUMMARY:Roboter in der Rehabilitationstechnik
CLASS:PUBLIC
DESCRIPTION:Veranstaltung: Roboter in der Rehabilitationstechnik (BTM3601)\
 nDozierende: Hunt [huk2]\nRäume: E125\nCode: BTM3601a\nKommentar: DI / Do
  / Fr: Zimmer E125
X-ALT-DESC;FMTTYPE=text/html:Veranstaltung: Roboter in der Rehabilitationst
 echnik (BTM3601)<br>Dozierende: Hunt [huk2]<br>Räume: E125<br>Code: BTM36
 01a<br>Kommentar: DI / Do / Fr: Zimmer E125
DTSTAMP:20260424T172935Z
END:VEVENT
BEGIN:VEVENT
UID:69eba87ff0d2b
DTSTART:20220531T062000Z
SEQUENCE:0
TRANSP:OPAQUE
DTEND:20220531T095500Z
LOCATION:E125
SUMMARY:Roboter in der Rehabilitationstechnik
CLASS:PUBLIC
DESCRIPTION:Veranstaltung: Roboter in der Rehabilitationstechnik (BTM3601)\
 nDozierende: Hunt [huk2]\nRäume: E125\nCode: BTM3601a\nKommentar: DI / Do
  / Fr: Zimmer E125
X-ALT-DESC;FMTTYPE=text/html:Veranstaltung: Roboter in der Rehabilitationst
 echnik (BTM3601)<br>Dozierende: Hunt [huk2]<br>Räume: E125<br>Code: BTM36
 01a<br>Kommentar: DI / Do / Fr: Zimmer E125
DTSTAMP:20260424T172935Z
END:VEVENT
BEGIN:VEVENT
UID:69eba87ff0d56
DTSTART:20220531T104500Z
SEQUENCE:0
TRANSP:OPAQUE
DTEND:20220531T150000Z
LOCATION:E125
SUMMARY:Roboter in der Rehabilitationstechnik
CLASS:PUBLIC
DESCRIPTION:Veranstaltung: Roboter in der Rehabilitationstechnik (BTM3601)\
 nDozierende: Hunt [huk2]\nRäume: E125\nCode: BTM3601a\nKommentar: DI / Do
  / Fr: Zimmer E125
X-ALT-DESC;FMTTYPE=text/html:Veranstaltung: Roboter in der Rehabilitationst
 echnik (BTM3601)<br>Dozierende: Hunt [huk2]<br>Räume: E125<br>Code: BTM36
 01a<br>Kommentar: DI / Do / Fr: Zimmer E125
DTSTAMP:20260424T172935Z
END:VEVENT
BEGIN:VEVENT
UID:69eba87ff0d7e
DTSTART:20220607T062000Z
SEQUENCE:0
TRANSP:OPAQUE
DTEND:20220607T095500Z
LOCATION:E125
SUMMARY:Roboter in der Rehabilitationstechnik
CLASS:PUBLIC
DESCRIPTION:Veranstaltung: Roboter in der Rehabilitationstechnik (BTM3601)\
 nDozierende: Hunt [huk2]\nRäume: E125\nCode: BTM3601a\nKommentar: DI / Do
  / Fr: Zimmer E125
X-ALT-DESC;FMTTYPE=text/html:Veranstaltung: Roboter in der Rehabilitationst
 echnik (BTM3601)<br>Dozierende: Hunt [huk2]<br>Räume: E125<br>Code: BTM36
 01a<br>Kommentar: DI / Do / Fr: Zimmer E125
DTSTAMP:20260424T172935Z
END:VEVENT
BEGIN:VEVENT
UID:69eba87ff0da9
DTSTART:20220607T104500Z
SEQUENCE:0
TRANSP:OPAQUE
DTEND:20220607T150000Z
LOCATION:E125
SUMMARY:Roboter in der Rehabilitationstechnik
CLASS:PUBLIC
DESCRIPTION:Veranstaltung: Roboter in der Rehabilitationstechnik (BTM3601)\
 nDozierende: Hunt [huk2]\nRäume: E125\nCode: BTM3601a\nKommentar: DI / Do
  / Fr: Zimmer E125
X-ALT-DESC;FMTTYPE=text/html:Veranstaltung: Roboter in der Rehabilitationst
 echnik (BTM3601)<br>Dozierende: Hunt [huk2]<br>Räume: E125<br>Code: BTM36
 01a<br>Kommentar: DI / Do / Fr: Zimmer E125
DTSTAMP:20260424T172935Z
END:VEVENT
BEGIN:VEVENT
UID:69eba87ff0dd2
DTSTART:20220614T062000Z
SEQUENCE:0
TRANSP:OPAQUE
DTEND:20220614T095500Z
LOCATION:E125
SUMMARY:Roboter in der Rehabilitationstechnik
CLASS:PUBLIC
DESCRIPTION:Veranstaltung: Roboter in der Rehabilitationstechnik (BTM3601)\
 nDozierende: Hunt [huk2]\nRäume: E125\nCode: BTM3601a\nKommentar: DI / Do
  / Fr: Zimmer E125
X-ALT-DESC;FMTTYPE=text/html:Veranstaltung: Roboter in der Rehabilitationst
 echnik (BTM3601)<br>Dozierende: Hunt [huk2]<br>Räume: E125<br>Code: BTM36
 01a<br>Kommentar: DI / Do / Fr: Zimmer E125
DTSTAMP:20260424T172935Z
END:VEVENT
BEGIN:VEVENT
UID:69eba87ff0e13
DTSTART:20220614T104500Z
SEQUENCE:0
TRANSP:OPAQUE
DTEND:20220614T150000Z
LOCATION:E125
SUMMARY:Roboter in der Rehabilitationstechnik
CLASS:PUBLIC
DESCRIPTION:Veranstaltung: Roboter in der Rehabilitationstechnik (BTM3601)\
 nDozierende: Hunt [huk2]\nRäume: E125\nCode: BTM3601a\nKommentar: DI / Do
  / Fr: Zimmer E125
X-ALT-DESC;FMTTYPE=text/html:Veranstaltung: Roboter in der Rehabilitationst
 echnik (BTM3601)<br>Dozierende: Hunt [huk2]<br>Räume: E125<br>Code: BTM36
 01a<br>Kommentar: DI / Do / Fr: Zimmer E125
DTSTAMP:20260424T172935Z
END:VEVENT
END:VCALENDAR