BEGIN:VCALENDAR
VERSION:2.0
PRODID:www.bfh.ch
X-APPLE-CALENDAR-COLOR:Orange
X-OUTLOOK-COLOR:Orange
X-FUNAMBOL-COLOR:Orange
X-WR-CALNAME:Übersicht BTM3603
BEGIN:VEVENT
UID:69ec34fe8b0d4
DTSTART:20220225T072000Z
SEQUENCE:0
TRANSP:OPAQUE
DTEND:20220225T105500Z
LOCATION:E125
SUMMARY:Werkzeugmaschinen
CLASS:PUBLIC
DESCRIPTION:Veranstaltung: Werkzeugmaschinen (BTM3603)\nDozierende: Fischer
  [fhr3]\nRäume: E125\nCode: BTM3603a\nKommentar: DI / Do / Fr: Zimmer E12
 5
X-ALT-DESC;FMTTYPE=text/html:Veranstaltung: Werkzeugmaschinen (BTM3603)<br>
 Dozierende: Fischer [fhr3]<br>Räume: E125<br>Code: BTM3603a<br>Kommentar:
  DI / Do / Fr: Zimmer E125
DTSTAMP:20260425T032902Z
END:VEVENT
BEGIN:VEVENT
UID:69ec34fe8b162
DTSTART:20220225T114500Z
SEQUENCE:0
TRANSP:OPAQUE
DTEND:20220225T160000Z
LOCATION:E125
SUMMARY:Werkzeugmaschinen
CLASS:PUBLIC
DESCRIPTION:Veranstaltung: Werkzeugmaschinen (BTM3603)\nDozierende: Fischer
  [fhr3]\nRäume: E125\nCode: BTM3603a\nKommentar: DI / Do / Fr: Zimmer E12
 5
X-ALT-DESC;FMTTYPE=text/html:Veranstaltung: Werkzeugmaschinen (BTM3603)<br>
 Dozierende: Fischer [fhr3]<br>Räume: E125<br>Code: BTM3603a<br>Kommentar:
  DI / Do / Fr: Zimmer E125
DTSTAMP:20260425T032902Z
END:VEVENT
BEGIN:VEVENT
UID:69ec34fe8b17e
DTSTART:20220304T072000Z
SEQUENCE:0
TRANSP:OPAQUE
DTEND:20220304T105500Z
LOCATION:E125
SUMMARY:Werkzeugmaschinen
CLASS:PUBLIC
DESCRIPTION:Veranstaltung: Werkzeugmaschinen (BTM3603)\nDozierende: Fischer
  [fhr3]\nRäume: E125\nCode: BTM3603a\nKommentar: DI / Do / Fr: Zimmer E12
 5
X-ALT-DESC;FMTTYPE=text/html:Veranstaltung: Werkzeugmaschinen (BTM3603)<br>
 Dozierende: Fischer [fhr3]<br>Räume: E125<br>Code: BTM3603a<br>Kommentar:
  DI / Do / Fr: Zimmer E125
DTSTAMP:20260425T032902Z
END:VEVENT
BEGIN:VEVENT
UID:69ec34fe8b197
DTSTART:20220304T114500Z
SEQUENCE:0
TRANSP:OPAQUE
DTEND:20220304T160000Z
LOCATION:E125
SUMMARY:Werkzeugmaschinen
CLASS:PUBLIC
DESCRIPTION:Veranstaltung: Werkzeugmaschinen (BTM3603)\nDozierende: Fischer
  [fhr3]\nRäume: E125\nCode: BTM3603a\nKommentar: DI / Do / Fr: Zimmer E12
 5
X-ALT-DESC;FMTTYPE=text/html:Veranstaltung: Werkzeugmaschinen (BTM3603)<br>
 Dozierende: Fischer [fhr3]<br>Räume: E125<br>Code: BTM3603a<br>Kommentar:
  DI / Do / Fr: Zimmer E125
DTSTAMP:20260425T032902Z
END:VEVENT
BEGIN:VEVENT
UID:69ec34fe8b1ad
DTSTART:20220311T072000Z
SEQUENCE:0
TRANSP:OPAQUE
DTEND:20220311T105500Z
LOCATION:E125
SUMMARY:Werkzeugmaschinen
CLASS:PUBLIC
DESCRIPTION:Veranstaltung: Werkzeugmaschinen (BTM3603)\nDozierende: Fischer
  [fhr3]\nRäume: E125\nCode: BTM3603a\nKommentar: DI / Do / Fr: Zimmer E12
 5
X-ALT-DESC;FMTTYPE=text/html:Veranstaltung: Werkzeugmaschinen (BTM3603)<br>
 Dozierende: Fischer [fhr3]<br>Räume: E125<br>Code: BTM3603a<br>Kommentar:
  DI / Do / Fr: Zimmer E125
DTSTAMP:20260425T032902Z
END:VEVENT
BEGIN:VEVENT
UID:69ec34fe8b1c5
DTSTART:20220311T114500Z
SEQUENCE:0
TRANSP:OPAQUE
DTEND:20220311T160000Z
LOCATION:E125
SUMMARY:Werkzeugmaschinen
CLASS:PUBLIC
DESCRIPTION:Veranstaltung: Werkzeugmaschinen (BTM3603)\nDozierende: Fischer
  [fhr3]\nRäume: E125\nCode: BTM3603a\nKommentar: DI / Do / Fr: Zimmer E12
 5
X-ALT-DESC;FMTTYPE=text/html:Veranstaltung: Werkzeugmaschinen (BTM3603)<br>
 Dozierende: Fischer [fhr3]<br>Räume: E125<br>Code: BTM3603a<br>Kommentar:
  DI / Do / Fr: Zimmer E125
DTSTAMP:20260425T032902Z
END:VEVENT
BEGIN:VEVENT
UID:69ec34fe8b1db
DTSTART:20220318T072000Z
SEQUENCE:0
TRANSP:OPAQUE
DTEND:20220318T105500Z
LOCATION:E125
SUMMARY:Werkzeugmaschinen
CLASS:PUBLIC
DESCRIPTION:Veranstaltung: Werkzeugmaschinen (BTM3603)\nDozierende: Fischer
  [fhr3]\nRäume: E125\nCode: BTM3603a\nKommentar: DI / Do / Fr: Zimmer E12
 5
X-ALT-DESC;FMTTYPE=text/html:Veranstaltung: Werkzeugmaschinen (BTM3603)<br>
 Dozierende: Fischer [fhr3]<br>Räume: E125<br>Code: BTM3603a<br>Kommentar:
  DI / Do / Fr: Zimmer E125
DTSTAMP:20260425T032902Z
END:VEVENT
BEGIN:VEVENT
UID:69ec34fe8b1f2
DTSTART:20220318T114500Z
SEQUENCE:0
TRANSP:OPAQUE
DTEND:20220318T160000Z
LOCATION:E125
SUMMARY:Werkzeugmaschinen
CLASS:PUBLIC
DESCRIPTION:Veranstaltung: Werkzeugmaschinen (BTM3603)\nDozierende: Fischer
  [fhr3]\nRäume: E125\nCode: BTM3603a\nKommentar: DI / Do / Fr: Zimmer E12
 5
X-ALT-DESC;FMTTYPE=text/html:Veranstaltung: Werkzeugmaschinen (BTM3603)<br>
 Dozierende: Fischer [fhr3]<br>Räume: E125<br>Code: BTM3603a<br>Kommentar:
  DI / Do / Fr: Zimmer E125
DTSTAMP:20260425T032902Z
END:VEVENT
BEGIN:VEVENT
UID:69ec34fe8b208
DTSTART:20220325T072000Z
SEQUENCE:0
TRANSP:OPAQUE
DTEND:20220325T105500Z
LOCATION:E125
SUMMARY:Werkzeugmaschinen
CLASS:PUBLIC
DESCRIPTION:Veranstaltung: Werkzeugmaschinen (BTM3603)\nDozierende: Fischer
  [fhr3]\nRäume: E125\nCode: BTM3603a\nKommentar: DI / Do / Fr: Zimmer E12
 5
X-ALT-DESC;FMTTYPE=text/html:Veranstaltung: Werkzeugmaschinen (BTM3603)<br>
 Dozierende: Fischer [fhr3]<br>Räume: E125<br>Code: BTM3603a<br>Kommentar:
  DI / Do / Fr: Zimmer E125
DTSTAMP:20260425T032902Z
END:VEVENT
BEGIN:VEVENT
UID:69ec34fe8b21e
DTSTART:20220325T114500Z
SEQUENCE:0
TRANSP:OPAQUE
DTEND:20220325T160000Z
LOCATION:E125
SUMMARY:Werkzeugmaschinen
CLASS:PUBLIC
DESCRIPTION:Veranstaltung: Werkzeugmaschinen (BTM3603)\nDozierende: Fischer
  [fhr3]\nRäume: E125\nCode: BTM3603a\nKommentar: DI / Do / Fr: Zimmer E12
 5
X-ALT-DESC;FMTTYPE=text/html:Veranstaltung: Werkzeugmaschinen (BTM3603)<br>
 Dozierende: Fischer [fhr3]<br>Räume: E125<br>Code: BTM3603a<br>Kommentar:
  DI / Do / Fr: Zimmer E125
DTSTAMP:20260425T032902Z
END:VEVENT
BEGIN:VEVENT
UID:69ec34fe8b234
DTSTART:20220401T062000Z
SEQUENCE:0
TRANSP:OPAQUE
DTEND:20220401T095500Z
LOCATION:E125
SUMMARY:Werkzeugmaschinen
CLASS:PUBLIC
DESCRIPTION:Veranstaltung: Werkzeugmaschinen (BTM3603)\nDozierende: Fischer
  [fhr3]\nRäume: E125\nCode: BTM3603a\nKommentar: DI / Do / Fr: Zimmer E12
 5
X-ALT-DESC;FMTTYPE=text/html:Veranstaltung: Werkzeugmaschinen (BTM3603)<br>
 Dozierende: Fischer [fhr3]<br>Räume: E125<br>Code: BTM3603a<br>Kommentar:
  DI / Do / Fr: Zimmer E125
DTSTAMP:20260425T032902Z
END:VEVENT
BEGIN:VEVENT
UID:69ec34fe8b24a
DTSTART:20220401T104500Z
SEQUENCE:0
TRANSP:OPAQUE
DTEND:20220401T150000Z
LOCATION:E125
SUMMARY:Werkzeugmaschinen
CLASS:PUBLIC
DESCRIPTION:Veranstaltung: Werkzeugmaschinen (BTM3603)\nDozierende: Fischer
  [fhr3]\nRäume: E125\nCode: BTM3603a\nKommentar: DI / Do / Fr: Zimmer E12
 5
X-ALT-DESC;FMTTYPE=text/html:Veranstaltung: Werkzeugmaschinen (BTM3603)<br>
 Dozierende: Fischer [fhr3]<br>Räume: E125<br>Code: BTM3603a<br>Kommentar:
  DI / Do / Fr: Zimmer E125
DTSTAMP:20260425T032902Z
END:VEVENT
BEGIN:VEVENT
UID:69ec34fe8b25f
DTSTART:20220408T062000Z
SEQUENCE:0
TRANSP:OPAQUE
DTEND:20220408T095500Z
LOCATION:E125
SUMMARY:Werkzeugmaschinen
CLASS:PUBLIC
DESCRIPTION:Veranstaltung: Werkzeugmaschinen (BTM3603)\nDozierende: Fischer
  [fhr3]\nRäume: E125\nCode: BTM3603a\nKommentar: DI / Do / Fr: Zimmer E12
 5
X-ALT-DESC;FMTTYPE=text/html:Veranstaltung: Werkzeugmaschinen (BTM3603)<br>
 Dozierende: Fischer [fhr3]<br>Räume: E125<br>Code: BTM3603a<br>Kommentar:
  DI / Do / Fr: Zimmer E125
DTSTAMP:20260425T032902Z
END:VEVENT
BEGIN:VEVENT
UID:69ec34fe8b274
DTSTART:20220408T104500Z
SEQUENCE:0
TRANSP:OPAQUE
DTEND:20220408T150000Z
LOCATION:E125
SUMMARY:Werkzeugmaschinen
CLASS:PUBLIC
DESCRIPTION:Veranstaltung: Werkzeugmaschinen (BTM3603)\nDozierende: Fischer
  [fhr3]\nRäume: E125\nCode: BTM3603a\nKommentar: DI / Do / Fr: Zimmer E12
 5
X-ALT-DESC;FMTTYPE=text/html:Veranstaltung: Werkzeugmaschinen (BTM3603)<br>
 Dozierende: Fischer [fhr3]<br>Räume: E125<br>Code: BTM3603a<br>Kommentar:
  DI / Do / Fr: Zimmer E125
DTSTAMP:20260425T032902Z
END:VEVENT
BEGIN:VEVENT
UID:69ec34fe8b28b
DTSTART:20220422T062000Z
SEQUENCE:0
TRANSP:OPAQUE
DTEND:20220422T095500Z
LOCATION:E125
SUMMARY:Werkzeugmaschinen
CLASS:PUBLIC
DESCRIPTION:Veranstaltung: Werkzeugmaschinen (BTM3603)\nDozierende: Fischer
  [fhr3]\nRäume: E125\nCode: BTM3603a\nKommentar: DI / Do / Fr: Zimmer E12
 5
X-ALT-DESC;FMTTYPE=text/html:Veranstaltung: Werkzeugmaschinen (BTM3603)<br>
 Dozierende: Fischer [fhr3]<br>Räume: E125<br>Code: BTM3603a<br>Kommentar:
  DI / Do / Fr: Zimmer E125
DTSTAMP:20260425T032902Z
END:VEVENT
BEGIN:VEVENT
UID:69ec34fe8b2a1
DTSTART:20220422T104500Z
SEQUENCE:0
TRANSP:OPAQUE
DTEND:20220422T150000Z
LOCATION:E125
SUMMARY:Werkzeugmaschinen
CLASS:PUBLIC
DESCRIPTION:Veranstaltung: Werkzeugmaschinen (BTM3603)\nDozierende: Fischer
  [fhr3]\nRäume: E125\nCode: BTM3603a\nKommentar: DI / Do / Fr: Zimmer E12
 5
X-ALT-DESC;FMTTYPE=text/html:Veranstaltung: Werkzeugmaschinen (BTM3603)<br>
 Dozierende: Fischer [fhr3]<br>Räume: E125<br>Code: BTM3603a<br>Kommentar:
  DI / Do / Fr: Zimmer E125
DTSTAMP:20260425T032902Z
END:VEVENT
BEGIN:VEVENT
UID:69ec34fe8b2b7
DTSTART:20220429T062000Z
SEQUENCE:0
TRANSP:OPAQUE
DTEND:20220429T095500Z
LOCATION:E125
SUMMARY:Werkzeugmaschinen
CLASS:PUBLIC
DESCRIPTION:Veranstaltung: Werkzeugmaschinen (BTM3603)\nDozierende: Fischer
  [fhr3]\nRäume: E125\nCode: BTM3603a\nKommentar: DI / Do / Fr: Zimmer E12
 5
X-ALT-DESC;FMTTYPE=text/html:Veranstaltung: Werkzeugmaschinen (BTM3603)<br>
 Dozierende: Fischer [fhr3]<br>Räume: E125<br>Code: BTM3603a<br>Kommentar:
  DI / Do / Fr: Zimmer E125
DTSTAMP:20260425T032902Z
END:VEVENT
BEGIN:VEVENT
UID:69ec34fe8b2ce
DTSTART:20220429T104500Z
SEQUENCE:0
TRANSP:OPAQUE
DTEND:20220429T150000Z
LOCATION:E125
SUMMARY:Werkzeugmaschinen
CLASS:PUBLIC
DESCRIPTION:Veranstaltung: Werkzeugmaschinen (BTM3603)\nDozierende: Fischer
  [fhr3]\nRäume: E125\nCode: BTM3603a\nKommentar: DI / Do / Fr: Zimmer E12
 5
X-ALT-DESC;FMTTYPE=text/html:Veranstaltung: Werkzeugmaschinen (BTM3603)<br>
 Dozierende: Fischer [fhr3]<br>Räume: E125<br>Code: BTM3603a<br>Kommentar:
  DI / Do / Fr: Zimmer E125
DTSTAMP:20260425T032902Z
END:VEVENT
BEGIN:VEVENT
UID:69ec34fe8b2ea
DTSTART:20220506T062000Z
SEQUENCE:0
TRANSP:OPAQUE
DTEND:20220506T095500Z
LOCATION:E125
SUMMARY:Werkzeugmaschinen
CLASS:PUBLIC
DESCRIPTION:Veranstaltung: Werkzeugmaschinen (BTM3603)\nDozierende: Fischer
  [fhr3]\nRäume: E125\nCode: BTM3603a\nKommentar: DI / Do / Fr: Zimmer E12
 5
X-ALT-DESC;FMTTYPE=text/html:Veranstaltung: Werkzeugmaschinen (BTM3603)<br>
 Dozierende: Fischer [fhr3]<br>Räume: E125<br>Code: BTM3603a<br>Kommentar:
  DI / Do / Fr: Zimmer E125
DTSTAMP:20260425T032902Z
END:VEVENT
BEGIN:VEVENT
UID:69ec34fe8b300
DTSTART:20220506T104500Z
SEQUENCE:0
TRANSP:OPAQUE
DTEND:20220506T150000Z
LOCATION:E125
SUMMARY:Werkzeugmaschinen
CLASS:PUBLIC
DESCRIPTION:Veranstaltung: Werkzeugmaschinen (BTM3603)\nDozierende: Fischer
  [fhr3]\nRäume: E125\nCode: BTM3603a\nKommentar: DI / Do / Fr: Zimmer E12
 5
X-ALT-DESC;FMTTYPE=text/html:Veranstaltung: Werkzeugmaschinen (BTM3603)<br>
 Dozierende: Fischer [fhr3]<br>Räume: E125<br>Code: BTM3603a<br>Kommentar:
  DI / Do / Fr: Zimmer E125
DTSTAMP:20260425T032902Z
END:VEVENT
BEGIN:VEVENT
UID:69ec34fe8b317
DTSTART:20220513T062000Z
SEQUENCE:0
TRANSP:OPAQUE
DTEND:20220513T095500Z
LOCATION:E125
SUMMARY:Werkzeugmaschinen
CLASS:PUBLIC
DESCRIPTION:Veranstaltung: Werkzeugmaschinen (BTM3603)\nDozierende: Fischer
  [fhr3]\nRäume: E125\nCode: BTM3603a\nKommentar: DI / Do / Fr: Zimmer E12
 5
X-ALT-DESC;FMTTYPE=text/html:Veranstaltung: Werkzeugmaschinen (BTM3603)<br>
 Dozierende: Fischer [fhr3]<br>Räume: E125<br>Code: BTM3603a<br>Kommentar:
  DI / Do / Fr: Zimmer E125
DTSTAMP:20260425T032902Z
END:VEVENT
BEGIN:VEVENT
UID:69ec34fe8b32f
DTSTART:20220513T104500Z
SEQUENCE:0
TRANSP:OPAQUE
DTEND:20220513T150000Z
LOCATION:E125
SUMMARY:Werkzeugmaschinen
CLASS:PUBLIC
DESCRIPTION:Veranstaltung: Werkzeugmaschinen (BTM3603)\nDozierende: Fischer
  [fhr3]\nRäume: E125\nCode: BTM3603a\nKommentar: DI / Do / Fr: Zimmer E12
 5
X-ALT-DESC;FMTTYPE=text/html:Veranstaltung: Werkzeugmaschinen (BTM3603)<br>
 Dozierende: Fischer [fhr3]<br>Räume: E125<br>Code: BTM3603a<br>Kommentar:
  DI / Do / Fr: Zimmer E125
DTSTAMP:20260425T032902Z
END:VEVENT
BEGIN:VEVENT
UID:69ec34fe8b348
DTSTART:20220520T062000Z
SEQUENCE:0
TRANSP:OPAQUE
DTEND:20220520T095500Z
LOCATION:E125
SUMMARY:Werkzeugmaschinen
CLASS:PUBLIC
DESCRIPTION:Veranstaltung: Werkzeugmaschinen (BTM3603)\nDozierende: Fischer
  [fhr3]\nRäume: E125\nCode: BTM3603a\nKommentar: DI / Do / Fr: Zimmer E12
 5
X-ALT-DESC;FMTTYPE=text/html:Veranstaltung: Werkzeugmaschinen (BTM3603)<br>
 Dozierende: Fischer [fhr3]<br>Räume: E125<br>Code: BTM3603a<br>Kommentar:
  DI / Do / Fr: Zimmer E125
DTSTAMP:20260425T032902Z
END:VEVENT
BEGIN:VEVENT
UID:69ec34fe8b360
DTSTART:20220520T104500Z
SEQUENCE:0
TRANSP:OPAQUE
DTEND:20220520T150000Z
LOCATION:E125
SUMMARY:Werkzeugmaschinen
CLASS:PUBLIC
DESCRIPTION:Veranstaltung: Werkzeugmaschinen (BTM3603)\nDozierende: Fischer
  [fhr3]\nRäume: E125\nCode: BTM3603a\nKommentar: DI / Do / Fr: Zimmer E12
 5
X-ALT-DESC;FMTTYPE=text/html:Veranstaltung: Werkzeugmaschinen (BTM3603)<br>
 Dozierende: Fischer [fhr3]<br>Räume: E125<br>Code: BTM3603a<br>Kommentar:
  DI / Do / Fr: Zimmer E125
DTSTAMP:20260425T032902Z
END:VEVENT
BEGIN:VEVENT
UID:69ec34fe8b377
DTSTART:20220603T062000Z
SEQUENCE:0
TRANSP:OPAQUE
DTEND:20220603T095500Z
LOCATION:E125
SUMMARY:Werkzeugmaschinen
CLASS:PUBLIC
DESCRIPTION:Veranstaltung: Werkzeugmaschinen (BTM3603)\nDozierende: Fischer
  [fhr3]\nRäume: E125\nCode: BTM3603a\nKommentar: DI / Do / Fr: Zimmer E12
 5
X-ALT-DESC;FMTTYPE=text/html:Veranstaltung: Werkzeugmaschinen (BTM3603)<br>
 Dozierende: Fischer [fhr3]<br>Räume: E125<br>Code: BTM3603a<br>Kommentar:
  DI / Do / Fr: Zimmer E125
DTSTAMP:20260425T032902Z
END:VEVENT
BEGIN:VEVENT
UID:69ec34fe8b38f
DTSTART:20220603T104500Z
SEQUENCE:0
TRANSP:OPAQUE
DTEND:20220603T150000Z
LOCATION:E125
SUMMARY:Werkzeugmaschinen
CLASS:PUBLIC
DESCRIPTION:Veranstaltung: Werkzeugmaschinen (BTM3603)\nDozierende: Fischer
  [fhr3]\nRäume: E125\nCode: BTM3603a\nKommentar: DI / Do / Fr: Zimmer E12
 5
X-ALT-DESC;FMTTYPE=text/html:Veranstaltung: Werkzeugmaschinen (BTM3603)<br>
 Dozierende: Fischer [fhr3]<br>Räume: E125<br>Code: BTM3603a<br>Kommentar:
  DI / Do / Fr: Zimmer E125
DTSTAMP:20260425T032902Z
END:VEVENT
BEGIN:VEVENT
UID:69ec34fe8b3a7
DTSTART:20220610T062000Z
SEQUENCE:0
TRANSP:OPAQUE
DTEND:20220610T095500Z
LOCATION:E125
SUMMARY:Werkzeugmaschinen
CLASS:PUBLIC
DESCRIPTION:Veranstaltung: Werkzeugmaschinen (BTM3603)\nDozierende: Fischer
  [fhr3]\nRäume: E125\nCode: BTM3603a\nKommentar: DI / Do / Fr: Zimmer E12
 5
X-ALT-DESC;FMTTYPE=text/html:Veranstaltung: Werkzeugmaschinen (BTM3603)<br>
 Dozierende: Fischer [fhr3]<br>Räume: E125<br>Code: BTM3603a<br>Kommentar:
  DI / Do / Fr: Zimmer E125
DTSTAMP:20260425T032902Z
END:VEVENT
BEGIN:VEVENT
UID:69ec34fe8b3c0
DTSTART:20220610T104500Z
SEQUENCE:0
TRANSP:OPAQUE
DTEND:20220610T150000Z
LOCATION:E125
SUMMARY:Werkzeugmaschinen
CLASS:PUBLIC
DESCRIPTION:Veranstaltung: Werkzeugmaschinen (BTM3603)\nDozierende: Fischer
  [fhr3]\nRäume: E125\nCode: BTM3603a\nKommentar: DI / Do / Fr: Zimmer E12
 5
X-ALT-DESC;FMTTYPE=text/html:Veranstaltung: Werkzeugmaschinen (BTM3603)<br>
 Dozierende: Fischer [fhr3]<br>Räume: E125<br>Code: BTM3603a<br>Kommentar:
  DI / Do / Fr: Zimmer E125
DTSTAMP:20260425T032902Z
END:VEVENT
BEGIN:VEVENT
UID:69ec34fe8b3d8
DTSTART:20220617T062000Z
SEQUENCE:0
TRANSP:OPAQUE
DTEND:20220617T095500Z
LOCATION:E125
SUMMARY:Werkzeugmaschinen
CLASS:PUBLIC
DESCRIPTION:Veranstaltung: Werkzeugmaschinen (BTM3603)\nDozierende: Fischer
  [fhr3]\nRäume: E125\nCode: BTM3603a\nKommentar: DI / Do / Fr: Zimmer E12
 5
X-ALT-DESC;FMTTYPE=text/html:Veranstaltung: Werkzeugmaschinen (BTM3603)<br>
 Dozierende: Fischer [fhr3]<br>Räume: E125<br>Code: BTM3603a<br>Kommentar:
  DI / Do / Fr: Zimmer E125
DTSTAMP:20260425T032902Z
END:VEVENT
BEGIN:VEVENT
UID:69ec34fe8b3f0
DTSTART:20220617T104500Z
SEQUENCE:0
TRANSP:OPAQUE
DTEND:20220617T150000Z
LOCATION:E125
SUMMARY:Werkzeugmaschinen
CLASS:PUBLIC
DESCRIPTION:Veranstaltung: Werkzeugmaschinen (BTM3603)\nDozierende: Fischer
  [fhr3]\nRäume: E125\nCode: BTM3603a\nKommentar: DI / Do / Fr: Zimmer E12
 5
X-ALT-DESC;FMTTYPE=text/html:Veranstaltung: Werkzeugmaschinen (BTM3603)<br>
 Dozierende: Fischer [fhr3]<br>Räume: E125<br>Code: BTM3603a<br>Kommentar:
  DI / Do / Fr: Zimmer E125
DTSTAMP:20260425T032902Z
END:VEVENT
END:VCALENDAR