BEGIN:VCALENDAR
VERSION:2.0
PRODID:www.bfh.ch
X-APPLE-CALENDAR-COLOR:Orange
X-OUTLOOK-COLOR:Orange
X-FUNAMBOL-COLOR:Orange
X-WR-CALNAME:Übersicht BTM3702
BEGIN:VEVENT
UID:69ec34ff5f1bf
DTSTART:20220224T072000Z
SEQUENCE:0
TRANSP:OPAQUE
DTEND:20220224T105500Z
LOCATION:M203
SUMMARY:Gedruckte Funktionsschichten (AM)
CLASS:PUBLIC
DESCRIPTION:Veranstaltung: Gedruckte Funktionsschichten (AM) (BTM3702)\nDoz
 ierende: Kramer [kmt1]\nRäume: M203\nCode: BTM3702a\nKommentar: DI / Do /
  Fr: Zimmer M203
X-ALT-DESC;FMTTYPE=text/html:Veranstaltung: Gedruckte Funktionsschichten (A
 M) (BTM3702)<br>Dozierende: Kramer [kmt1]<br>Räume: M203<br>Code: BTM3702
 a<br>Kommentar: DI / Do / Fr: Zimmer M203
DTSTAMP:20260425T032903Z
END:VEVENT
BEGIN:VEVENT
UID:69ec34ff5f263
DTSTART:20220224T114500Z
SEQUENCE:0
TRANSP:OPAQUE
DTEND:20220224T160000Z
LOCATION:M203
SUMMARY:Gedruckte Funktionsschichten (AM)
CLASS:PUBLIC
DESCRIPTION:Veranstaltung: Gedruckte Funktionsschichten (AM) (BTM3702)\nDoz
 ierende: Kramer [kmt1]\nRäume: M203\nCode: BTM3702a\nKommentar: DI / Do /
  Fr: Zimmer M203
X-ALT-DESC;FMTTYPE=text/html:Veranstaltung: Gedruckte Funktionsschichten (A
 M) (BTM3702)<br>Dozierende: Kramer [kmt1]<br>Räume: M203<br>Code: BTM3702
 a<br>Kommentar: DI / Do / Fr: Zimmer M203
DTSTAMP:20260425T032903Z
END:VEVENT
BEGIN:VEVENT
UID:69ec34ff5f294
DTSTART:20220303T072000Z
SEQUENCE:0
TRANSP:OPAQUE
DTEND:20220303T105500Z
LOCATION:M203
SUMMARY:Gedruckte Funktionsschichten (AM)
CLASS:PUBLIC
DESCRIPTION:Veranstaltung: Gedruckte Funktionsschichten (AM) (BTM3702)\nDoz
 ierende: Kramer [kmt1]\nRäume: M203\nCode: BTM3702a\nKommentar: DI / Do /
  Fr: Zimmer M203
X-ALT-DESC;FMTTYPE=text/html:Veranstaltung: Gedruckte Funktionsschichten (A
 M) (BTM3702)<br>Dozierende: Kramer [kmt1]<br>Räume: M203<br>Code: BTM3702
 a<br>Kommentar: DI / Do / Fr: Zimmer M203
DTSTAMP:20260425T032903Z
END:VEVENT
BEGIN:VEVENT
UID:69ec34ff5f2be
DTSTART:20220303T114500Z
SEQUENCE:0
TRANSP:OPAQUE
DTEND:20220303T160000Z
LOCATION:M203
SUMMARY:Gedruckte Funktionsschichten (AM)
CLASS:PUBLIC
DESCRIPTION:Veranstaltung: Gedruckte Funktionsschichten (AM) (BTM3702)\nDoz
 ierende: Kramer [kmt1]\nRäume: M203\nCode: BTM3702a\nKommentar: DI / Do /
  Fr: Zimmer M203
X-ALT-DESC;FMTTYPE=text/html:Veranstaltung: Gedruckte Funktionsschichten (A
 M) (BTM3702)<br>Dozierende: Kramer [kmt1]<br>Räume: M203<br>Code: BTM3702
 a<br>Kommentar: DI / Do / Fr: Zimmer M203
DTSTAMP:20260425T032903Z
END:VEVENT
BEGIN:VEVENT
UID:69ec34ff5f2e7
DTSTART:20220310T072000Z
SEQUENCE:0
TRANSP:OPAQUE
DTEND:20220310T105500Z
LOCATION:M203
SUMMARY:Gedruckte Funktionsschichten (AM)
CLASS:PUBLIC
DESCRIPTION:Veranstaltung: Gedruckte Funktionsschichten (AM) (BTM3702)\nDoz
 ierende: Kramer [kmt1]\nRäume: M203\nCode: BTM3702a\nKommentar: DI / Do /
  Fr: Zimmer M203
X-ALT-DESC;FMTTYPE=text/html:Veranstaltung: Gedruckte Funktionsschichten (A
 M) (BTM3702)<br>Dozierende: Kramer [kmt1]<br>Räume: M203<br>Code: BTM3702
 a<br>Kommentar: DI / Do / Fr: Zimmer M203
DTSTAMP:20260425T032903Z
END:VEVENT
BEGIN:VEVENT
UID:69ec34ff5f30f
DTSTART:20220310T114500Z
SEQUENCE:0
TRANSP:OPAQUE
DTEND:20220310T160000Z
LOCATION:M203
SUMMARY:Gedruckte Funktionsschichten (AM)
CLASS:PUBLIC
DESCRIPTION:Veranstaltung: Gedruckte Funktionsschichten (AM) (BTM3702)\nDoz
 ierende: Kramer [kmt1]\nRäume: M203\nCode: BTM3702a\nKommentar: DI / Do /
  Fr: Zimmer M203
X-ALT-DESC;FMTTYPE=text/html:Veranstaltung: Gedruckte Funktionsschichten (A
 M) (BTM3702)<br>Dozierende: Kramer [kmt1]<br>Räume: M203<br>Code: BTM3702
 a<br>Kommentar: DI / Do / Fr: Zimmer M203
DTSTAMP:20260425T032903Z
END:VEVENT
BEGIN:VEVENT
UID:69ec34ff5f337
DTSTART:20220317T072000Z
SEQUENCE:0
TRANSP:OPAQUE
DTEND:20220317T105500Z
LOCATION:M203
SUMMARY:Gedruckte Funktionsschichten (AM)
CLASS:PUBLIC
DESCRIPTION:Veranstaltung: Gedruckte Funktionsschichten (AM) (BTM3702)\nDoz
 ierende: Kramer [kmt1]\nRäume: M203\nCode: BTM3702a\nKommentar: DI / Do /
  Fr: Zimmer M203
X-ALT-DESC;FMTTYPE=text/html:Veranstaltung: Gedruckte Funktionsschichten (A
 M) (BTM3702)<br>Dozierende: Kramer [kmt1]<br>Räume: M203<br>Code: BTM3702
 a<br>Kommentar: DI / Do / Fr: Zimmer M203
DTSTAMP:20260425T032903Z
END:VEVENT
BEGIN:VEVENT
UID:69ec34ff5f35f
DTSTART:20220317T114500Z
SEQUENCE:0
TRANSP:OPAQUE
DTEND:20220317T160000Z
LOCATION:M203
SUMMARY:Gedruckte Funktionsschichten (AM)
CLASS:PUBLIC
DESCRIPTION:Veranstaltung: Gedruckte Funktionsschichten (AM) (BTM3702)\nDoz
 ierende: Kramer [kmt1]\nRäume: M203\nCode: BTM3702a\nKommentar: DI / Do /
  Fr: Zimmer M203
X-ALT-DESC;FMTTYPE=text/html:Veranstaltung: Gedruckte Funktionsschichten (A
 M) (BTM3702)<br>Dozierende: Kramer [kmt1]<br>Räume: M203<br>Code: BTM3702
 a<br>Kommentar: DI / Do / Fr: Zimmer M203
DTSTAMP:20260425T032903Z
END:VEVENT
BEGIN:VEVENT
UID:69ec34ff5f388
DTSTART:20220324T072000Z
SEQUENCE:0
TRANSP:OPAQUE
DTEND:20220324T105500Z
LOCATION:M203
SUMMARY:Gedruckte Funktionsschichten (AM)
CLASS:PUBLIC
DESCRIPTION:Veranstaltung: Gedruckte Funktionsschichten (AM) (BTM3702)\nDoz
 ierende: Kramer [kmt1]\nRäume: M203\nCode: BTM3702a\nKommentar: DI / Do /
  Fr: Zimmer M203
X-ALT-DESC;FMTTYPE=text/html:Veranstaltung: Gedruckte Funktionsschichten (A
 M) (BTM3702)<br>Dozierende: Kramer [kmt1]<br>Räume: M203<br>Code: BTM3702
 a<br>Kommentar: DI / Do / Fr: Zimmer M203
DTSTAMP:20260425T032903Z
END:VEVENT
BEGIN:VEVENT
UID:69ec34ff5f3b1
DTSTART:20220324T114500Z
SEQUENCE:0
TRANSP:OPAQUE
DTEND:20220324T160000Z
LOCATION:M203
SUMMARY:Gedruckte Funktionsschichten (AM)
CLASS:PUBLIC
DESCRIPTION:Veranstaltung: Gedruckte Funktionsschichten (AM) (BTM3702)\nDoz
 ierende: Kramer [kmt1]\nRäume: M203\nCode: BTM3702a\nKommentar: DI / Do /
  Fr: Zimmer M203
X-ALT-DESC;FMTTYPE=text/html:Veranstaltung: Gedruckte Funktionsschichten (A
 M) (BTM3702)<br>Dozierende: Kramer [kmt1]<br>Räume: M203<br>Code: BTM3702
 a<br>Kommentar: DI / Do / Fr: Zimmer M203
DTSTAMP:20260425T032903Z
END:VEVENT
BEGIN:VEVENT
UID:69ec34ff5f3d9
DTSTART:20220331T062000Z
SEQUENCE:0
TRANSP:OPAQUE
DTEND:20220331T095500Z
LOCATION:M203
SUMMARY:Gedruckte Funktionsschichten (AM)
CLASS:PUBLIC
DESCRIPTION:Veranstaltung: Gedruckte Funktionsschichten (AM) (BTM3702)\nDoz
 ierende: Kramer [kmt1]\nRäume: M203\nCode: BTM3702a\nKommentar: DI / Do /
  Fr: Zimmer M203
X-ALT-DESC;FMTTYPE=text/html:Veranstaltung: Gedruckte Funktionsschichten (A
 M) (BTM3702)<br>Dozierende: Kramer [kmt1]<br>Räume: M203<br>Code: BTM3702
 a<br>Kommentar: DI / Do / Fr: Zimmer M203
DTSTAMP:20260425T032903Z
END:VEVENT
BEGIN:VEVENT
UID:69ec34ff5f400
DTSTART:20220331T104500Z
SEQUENCE:0
TRANSP:OPAQUE
DTEND:20220331T150000Z
LOCATION:M203
SUMMARY:Gedruckte Funktionsschichten (AM)
CLASS:PUBLIC
DESCRIPTION:Veranstaltung: Gedruckte Funktionsschichten (AM) (BTM3702)\nDoz
 ierende: Kramer [kmt1]\nRäume: M203\nCode: BTM3702a\nKommentar: DI / Do /
  Fr: Zimmer M203
X-ALT-DESC;FMTTYPE=text/html:Veranstaltung: Gedruckte Funktionsschichten (A
 M) (BTM3702)<br>Dozierende: Kramer [kmt1]<br>Räume: M203<br>Code: BTM3702
 a<br>Kommentar: DI / Do / Fr: Zimmer M203
DTSTAMP:20260425T032903Z
END:VEVENT
BEGIN:VEVENT
UID:69ec34ff5f426
DTSTART:20220407T062000Z
SEQUENCE:0
TRANSP:OPAQUE
DTEND:20220407T095500Z
LOCATION:M203
SUMMARY:Gedruckte Funktionsschichten (AM)
CLASS:PUBLIC
DESCRIPTION:Veranstaltung: Gedruckte Funktionsschichten (AM) (BTM3702)\nDoz
 ierende: Kramer [kmt1]\nRäume: M203\nCode: BTM3702a\nKommentar: DI / Do /
  Fr: Zimmer M203
X-ALT-DESC;FMTTYPE=text/html:Veranstaltung: Gedruckte Funktionsschichten (A
 M) (BTM3702)<br>Dozierende: Kramer [kmt1]<br>Räume: M203<br>Code: BTM3702
 a<br>Kommentar: DI / Do / Fr: Zimmer M203
DTSTAMP:20260425T032903Z
END:VEVENT
BEGIN:VEVENT
UID:69ec34ff5f44e
DTSTART:20220407T104500Z
SEQUENCE:0
TRANSP:OPAQUE
DTEND:20220407T150000Z
LOCATION:M203
SUMMARY:Gedruckte Funktionsschichten (AM)
CLASS:PUBLIC
DESCRIPTION:Veranstaltung: Gedruckte Funktionsschichten (AM) (BTM3702)\nDoz
 ierende: Kramer [kmt1]\nRäume: M203\nCode: BTM3702a\nKommentar: DI / Do /
  Fr: Zimmer M203
X-ALT-DESC;FMTTYPE=text/html:Veranstaltung: Gedruckte Funktionsschichten (A
 M) (BTM3702)<br>Dozierende: Kramer [kmt1]<br>Räume: M203<br>Code: BTM3702
 a<br>Kommentar: DI / Do / Fr: Zimmer M203
DTSTAMP:20260425T032903Z
END:VEVENT
BEGIN:VEVENT
UID:69ec34ff5f475
DTSTART:20220421T062000Z
SEQUENCE:0
TRANSP:OPAQUE
DTEND:20220421T095500Z
LOCATION:M203
SUMMARY:Gedruckte Funktionsschichten (AM)
CLASS:PUBLIC
DESCRIPTION:Veranstaltung: Gedruckte Funktionsschichten (AM) (BTM3702)\nDoz
 ierende: Kramer [kmt1]\nRäume: M203\nCode: BTM3702a\nKommentar: DI / Do /
  Fr: Zimmer M203
X-ALT-DESC;FMTTYPE=text/html:Veranstaltung: Gedruckte Funktionsschichten (A
 M) (BTM3702)<br>Dozierende: Kramer [kmt1]<br>Räume: M203<br>Code: BTM3702
 a<br>Kommentar: DI / Do / Fr: Zimmer M203
DTSTAMP:20260425T032903Z
END:VEVENT
BEGIN:VEVENT
UID:69ec34ff5f49e
DTSTART:20220421T104500Z
SEQUENCE:0
TRANSP:OPAQUE
DTEND:20220421T150000Z
LOCATION:M203
SUMMARY:Gedruckte Funktionsschichten (AM)
CLASS:PUBLIC
DESCRIPTION:Veranstaltung: Gedruckte Funktionsschichten (AM) (BTM3702)\nDoz
 ierende: Kramer [kmt1]\nRäume: M203\nCode: BTM3702a\nKommentar: DI / Do /
  Fr: Zimmer M203
X-ALT-DESC;FMTTYPE=text/html:Veranstaltung: Gedruckte Funktionsschichten (A
 M) (BTM3702)<br>Dozierende: Kramer [kmt1]<br>Räume: M203<br>Code: BTM3702
 a<br>Kommentar: DI / Do / Fr: Zimmer M203
DTSTAMP:20260425T032903Z
END:VEVENT
BEGIN:VEVENT
UID:69ec34ff5f4c7
DTSTART:20220428T062000Z
SEQUENCE:0
TRANSP:OPAQUE
DTEND:20220428T095500Z
LOCATION:M203
SUMMARY:Gedruckte Funktionsschichten (AM)
CLASS:PUBLIC
DESCRIPTION:Veranstaltung: Gedruckte Funktionsschichten (AM) (BTM3702)\nDoz
 ierende: Kramer [kmt1]\nRäume: M203\nCode: BTM3702a\nKommentar: DI / Do /
  Fr: Zimmer M203
X-ALT-DESC;FMTTYPE=text/html:Veranstaltung: Gedruckte Funktionsschichten (A
 M) (BTM3702)<br>Dozierende: Kramer [kmt1]<br>Räume: M203<br>Code: BTM3702
 a<br>Kommentar: DI / Do / Fr: Zimmer M203
DTSTAMP:20260425T032903Z
END:VEVENT
BEGIN:VEVENT
UID:69ec34ff5f4ed
DTSTART:20220428T104500Z
SEQUENCE:0
TRANSP:OPAQUE
DTEND:20220428T150000Z
LOCATION:M203
SUMMARY:Gedruckte Funktionsschichten (AM)
CLASS:PUBLIC
DESCRIPTION:Veranstaltung: Gedruckte Funktionsschichten (AM) (BTM3702)\nDoz
 ierende: Kramer [kmt1]\nRäume: M203\nCode: BTM3702a\nKommentar: DI / Do /
  Fr: Zimmer M203
X-ALT-DESC;FMTTYPE=text/html:Veranstaltung: Gedruckte Funktionsschichten (A
 M) (BTM3702)<br>Dozierende: Kramer [kmt1]<br>Räume: M203<br>Code: BTM3702
 a<br>Kommentar: DI / Do / Fr: Zimmer M203
DTSTAMP:20260425T032903Z
END:VEVENT
BEGIN:VEVENT
UID:69ec34ff5f514
DTSTART:20220505T062000Z
SEQUENCE:0
TRANSP:OPAQUE
DTEND:20220505T095500Z
LOCATION:M203
SUMMARY:Gedruckte Funktionsschichten (AM)
CLASS:PUBLIC
DESCRIPTION:Veranstaltung: Gedruckte Funktionsschichten (AM) (BTM3702)\nDoz
 ierende: Kramer [kmt1]\nRäume: M203\nCode: BTM3702a\nKommentar: DI / Do /
  Fr: Zimmer M203
X-ALT-DESC;FMTTYPE=text/html:Veranstaltung: Gedruckte Funktionsschichten (A
 M) (BTM3702)<br>Dozierende: Kramer [kmt1]<br>Räume: M203<br>Code: BTM3702
 a<br>Kommentar: DI / Do / Fr: Zimmer M203
DTSTAMP:20260425T032903Z
END:VEVENT
BEGIN:VEVENT
UID:69ec34ff5f53b
DTSTART:20220505T104500Z
SEQUENCE:0
TRANSP:OPAQUE
DTEND:20220505T150000Z
LOCATION:M203
SUMMARY:Gedruckte Funktionsschichten (AM)
CLASS:PUBLIC
DESCRIPTION:Veranstaltung: Gedruckte Funktionsschichten (AM) (BTM3702)\nDoz
 ierende: Kramer [kmt1]\nRäume: M203\nCode: BTM3702a\nKommentar: DI / Do /
  Fr: Zimmer M203
X-ALT-DESC;FMTTYPE=text/html:Veranstaltung: Gedruckte Funktionsschichten (A
 M) (BTM3702)<br>Dozierende: Kramer [kmt1]<br>Räume: M203<br>Code: BTM3702
 a<br>Kommentar: DI / Do / Fr: Zimmer M203
DTSTAMP:20260425T032903Z
END:VEVENT
BEGIN:VEVENT
UID:69ec34ff5f563
DTSTART:20220512T062000Z
SEQUENCE:0
TRANSP:OPAQUE
DTEND:20220512T095500Z
LOCATION:M203
SUMMARY:Gedruckte Funktionsschichten (AM)
CLASS:PUBLIC
DESCRIPTION:Veranstaltung: Gedruckte Funktionsschichten (AM) (BTM3702)\nDoz
 ierende: Kramer [kmt1]\nRäume: M203\nCode: BTM3702a\nKommentar: DI / Do /
  Fr: Zimmer M203
X-ALT-DESC;FMTTYPE=text/html:Veranstaltung: Gedruckte Funktionsschichten (A
 M) (BTM3702)<br>Dozierende: Kramer [kmt1]<br>Räume: M203<br>Code: BTM3702
 a<br>Kommentar: DI / Do / Fr: Zimmer M203
DTSTAMP:20260425T032903Z
END:VEVENT
BEGIN:VEVENT
UID:69ec34ff5f58a
DTSTART:20220512T104500Z
SEQUENCE:0
TRANSP:OPAQUE
DTEND:20220512T150000Z
LOCATION:M203
SUMMARY:Gedruckte Funktionsschichten (AM)
CLASS:PUBLIC
DESCRIPTION:Veranstaltung: Gedruckte Funktionsschichten (AM) (BTM3702)\nDoz
 ierende: Kramer [kmt1]\nRäume: M203\nCode: BTM3702a\nKommentar: DI / Do /
  Fr: Zimmer M203
X-ALT-DESC;FMTTYPE=text/html:Veranstaltung: Gedruckte Funktionsschichten (A
 M) (BTM3702)<br>Dozierende: Kramer [kmt1]<br>Räume: M203<br>Code: BTM3702
 a<br>Kommentar: DI / Do / Fr: Zimmer M203
DTSTAMP:20260425T032903Z
END:VEVENT
BEGIN:VEVENT
UID:69ec34ff5f5b1
DTSTART:20220519T062000Z
SEQUENCE:0
TRANSP:OPAQUE
DTEND:20220519T095500Z
LOCATION:M203
SUMMARY:Gedruckte Funktionsschichten (AM)
CLASS:PUBLIC
DESCRIPTION:Veranstaltung: Gedruckte Funktionsschichten (AM) (BTM3702)\nDoz
 ierende: Kramer [kmt1]\nRäume: M203\nCode: BTM3702a\nKommentar: DI / Do /
  Fr: Zimmer M203
X-ALT-DESC;FMTTYPE=text/html:Veranstaltung: Gedruckte Funktionsschichten (A
 M) (BTM3702)<br>Dozierende: Kramer [kmt1]<br>Räume: M203<br>Code: BTM3702
 a<br>Kommentar: DI / Do / Fr: Zimmer M203
DTSTAMP:20260425T032903Z
END:VEVENT
BEGIN:VEVENT
UID:69ec34ff5f5ea
DTSTART:20220519T104500Z
SEQUENCE:0
TRANSP:OPAQUE
DTEND:20220519T150000Z
LOCATION:M203
SUMMARY:Gedruckte Funktionsschichten (AM)
CLASS:PUBLIC
DESCRIPTION:Veranstaltung: Gedruckte Funktionsschichten (AM) (BTM3702)\nDoz
 ierende: Kramer [kmt1]\nRäume: M203\nCode: BTM3702a\nKommentar: DI / Do /
  Fr: Zimmer M203
X-ALT-DESC;FMTTYPE=text/html:Veranstaltung: Gedruckte Funktionsschichten (A
 M) (BTM3702)<br>Dozierende: Kramer [kmt1]<br>Räume: M203<br>Code: BTM3702
 a<br>Kommentar: DI / Do / Fr: Zimmer M203
DTSTAMP:20260425T032903Z
END:VEVENT
BEGIN:VEVENT
UID:69ec34ff5f612
DTSTART:20220602T062000Z
SEQUENCE:0
TRANSP:OPAQUE
DTEND:20220602T095500Z
LOCATION:M203
SUMMARY:Gedruckte Funktionsschichten (AM)
CLASS:PUBLIC
DESCRIPTION:Veranstaltung: Gedruckte Funktionsschichten (AM) (BTM3702)\nDoz
 ierende: Kramer [kmt1]\nRäume: M203\nCode: BTM3702a\nKommentar: DI / Do /
  Fr: Zimmer M203
X-ALT-DESC;FMTTYPE=text/html:Veranstaltung: Gedruckte Funktionsschichten (A
 M) (BTM3702)<br>Dozierende: Kramer [kmt1]<br>Räume: M203<br>Code: BTM3702
 a<br>Kommentar: DI / Do / Fr: Zimmer M203
DTSTAMP:20260425T032903Z
END:VEVENT
BEGIN:VEVENT
UID:69ec34ff5f638
DTSTART:20220602T104500Z
SEQUENCE:0
TRANSP:OPAQUE
DTEND:20220602T150000Z
LOCATION:M203
SUMMARY:Gedruckte Funktionsschichten (AM)
CLASS:PUBLIC
DESCRIPTION:Veranstaltung: Gedruckte Funktionsschichten (AM) (BTM3702)\nDoz
 ierende: Kramer [kmt1]\nRäume: M203\nCode: BTM3702a\nKommentar: DI / Do /
  Fr: Zimmer M203
X-ALT-DESC;FMTTYPE=text/html:Veranstaltung: Gedruckte Funktionsschichten (A
 M) (BTM3702)<br>Dozierende: Kramer [kmt1]<br>Räume: M203<br>Code: BTM3702
 a<br>Kommentar: DI / Do / Fr: Zimmer M203
DTSTAMP:20260425T032903Z
END:VEVENT
BEGIN:VEVENT
UID:69ec34ff5f65f
DTSTART:20220609T062000Z
SEQUENCE:0
TRANSP:OPAQUE
DTEND:20220609T095500Z
LOCATION:M203
SUMMARY:Gedruckte Funktionsschichten (AM)
CLASS:PUBLIC
DESCRIPTION:Veranstaltung: Gedruckte Funktionsschichten (AM) (BTM3702)\nDoz
 ierende: Kramer [kmt1]\nRäume: M203\nCode: BTM3702a\nKommentar: DI / Do /
  Fr: Zimmer M203
X-ALT-DESC;FMTTYPE=text/html:Veranstaltung: Gedruckte Funktionsschichten (A
 M) (BTM3702)<br>Dozierende: Kramer [kmt1]<br>Räume: M203<br>Code: BTM3702
 a<br>Kommentar: DI / Do / Fr: Zimmer M203
DTSTAMP:20260425T032903Z
END:VEVENT
BEGIN:VEVENT
UID:69ec34ff5f686
DTSTART:20220609T104500Z
SEQUENCE:0
TRANSP:OPAQUE
DTEND:20220609T150000Z
LOCATION:M203
SUMMARY:Gedruckte Funktionsschichten (AM)
CLASS:PUBLIC
DESCRIPTION:Veranstaltung: Gedruckte Funktionsschichten (AM) (BTM3702)\nDoz
 ierende: Kramer [kmt1]\nRäume: M203\nCode: BTM3702a\nKommentar: DI / Do /
  Fr: Zimmer M203
X-ALT-DESC;FMTTYPE=text/html:Veranstaltung: Gedruckte Funktionsschichten (A
 M) (BTM3702)<br>Dozierende: Kramer [kmt1]<br>Räume: M203<br>Code: BTM3702
 a<br>Kommentar: DI / Do / Fr: Zimmer M203
DTSTAMP:20260425T032903Z
END:VEVENT
BEGIN:VEVENT
UID:69ec34ff5f6ac
DTSTART:20220616T062000Z
SEQUENCE:0
TRANSP:OPAQUE
DTEND:20220616T095500Z
LOCATION:M203
SUMMARY:Gedruckte Funktionsschichten (AM)
CLASS:PUBLIC
DESCRIPTION:Veranstaltung: Gedruckte Funktionsschichten (AM) (BTM3702)\nDoz
 ierende: Kramer [kmt1]\nRäume: M203\nCode: BTM3702a\nKommentar: DI / Do /
  Fr: Zimmer M203
X-ALT-DESC;FMTTYPE=text/html:Veranstaltung: Gedruckte Funktionsschichten (A
 M) (BTM3702)<br>Dozierende: Kramer [kmt1]<br>Räume: M203<br>Code: BTM3702
 a<br>Kommentar: DI / Do / Fr: Zimmer M203
DTSTAMP:20260425T032903Z
END:VEVENT
BEGIN:VEVENT
UID:69ec34ff5f6d3
DTSTART:20220616T104500Z
SEQUENCE:0
TRANSP:OPAQUE
DTEND:20220616T150000Z
LOCATION:M203
SUMMARY:Gedruckte Funktionsschichten (AM)
CLASS:PUBLIC
DESCRIPTION:Veranstaltung: Gedruckte Funktionsschichten (AM) (BTM3702)\nDoz
 ierende: Kramer [kmt1]\nRäume: M203\nCode: BTM3702a\nKommentar: DI / Do /
  Fr: Zimmer M203
X-ALT-DESC;FMTTYPE=text/html:Veranstaltung: Gedruckte Funktionsschichten (A
 M) (BTM3702)<br>Dozierende: Kramer [kmt1]<br>Räume: M203<br>Code: BTM3702
 a<br>Kommentar: DI / Do / Fr: Zimmer M203
DTSTAMP:20260425T032903Z
END:VEVENT
END:VCALENDAR