BEGIN:VCALENDAR
VERSION:2.0
PRODID:www.bfh.ch
X-APPLE-CALENDAR-COLOR:Orange
X-OUTLOOK-COLOR:Orange
X-FUNAMBOL-COLOR:Orange
X-WR-CALNAME:Übersicht BTX8007
BEGIN:VEVENT
UID:69ebbfa5980d1
DTSTART:20220224T092000Z
SEQUENCE:0
TRANSP:OPAQUE
DTEND:20220224T105500Z
LOCATION:N421
SUMMARY:Abrechnungssysteme
CLASS:PUBLIC
DESCRIPTION:Veranstaltung: Abrechnungssysteme (BTX8007)\nDozierende: Lehman
 n [lam9]\nRäume: N421\nCode: BTX8007a
X-ALT-DESC;FMTTYPE=text/html:Veranstaltung: Abrechnungssysteme (BTX8007)<br
 >Dozierende: Lehmann [lam9]<br>Räume: N421<br>Code: BTX8007a
DTSTAMP:20260424T190821Z
END:VEVENT
BEGIN:VEVENT
UID:69ebbfa598194
DTSTART:20220303T092000Z
SEQUENCE:0
TRANSP:OPAQUE
DTEND:20220303T105500Z
LOCATION:N319
SUMMARY:Abrechnungssysteme
CLASS:PUBLIC
DESCRIPTION:Veranstaltung: Abrechnungssysteme (BTX8007)\nDozierende: Lehman
 n [lam9]\nRäume: N319\nCode: BTX8007a
X-ALT-DESC;FMTTYPE=text/html:Veranstaltung: Abrechnungssysteme (BTX8007)<br
 >Dozierende: Lehmann [lam9]<br>Räume: N319<br>Code: BTX8007a
DTSTAMP:20260424T190821Z
END:VEVENT
BEGIN:VEVENT
UID:69ebbfa5981c7
DTSTART:20220310T092000Z
SEQUENCE:0
TRANSP:OPAQUE
DTEND:20220310T105500Z
LOCATION:N319
SUMMARY:Abrechnungssysteme
CLASS:PUBLIC
DESCRIPTION:Veranstaltung: Abrechnungssysteme (BTX8007)\nDozierende: Lehman
 n [lam9]\nRäume: N319\nCode: BTX8007a
X-ALT-DESC;FMTTYPE=text/html:Veranstaltung: Abrechnungssysteme (BTX8007)<br
 >Dozierende: Lehmann [lam9]<br>Räume: N319<br>Code: BTX8007a
DTSTAMP:20260424T190821Z
END:VEVENT
BEGIN:VEVENT
UID:69ebbfa5981f0
DTSTART:20220317T092000Z
SEQUENCE:0
TRANSP:OPAQUE
DTEND:20220317T105500Z
LOCATION:N319
SUMMARY:Abrechnungssysteme
CLASS:PUBLIC
DESCRIPTION:Veranstaltung: Abrechnungssysteme (BTX8007)\nDozierende: Lehman
 n [lam9]\nRäume: N319\nCode: BTX8007a
X-ALT-DESC;FMTTYPE=text/html:Veranstaltung: Abrechnungssysteme (BTX8007)<br
 >Dozierende: Lehmann [lam9]<br>Räume: N319<br>Code: BTX8007a
DTSTAMP:20260424T190821Z
END:VEVENT
BEGIN:VEVENT
UID:69ebbfa598219
DTSTART:20220324T092000Z
SEQUENCE:0
TRANSP:OPAQUE
DTEND:20220324T105500Z
LOCATION:N319
SUMMARY:Abrechnungssysteme
CLASS:PUBLIC
DESCRIPTION:Veranstaltung: Abrechnungssysteme (BTX8007)\nDozierende: Lehman
 n [lam9]\nRäume: N319\nCode: BTX8007a
X-ALT-DESC;FMTTYPE=text/html:Veranstaltung: Abrechnungssysteme (BTX8007)<br
 >Dozierende: Lehmann [lam9]<br>Räume: N319<br>Code: BTX8007a
DTSTAMP:20260424T190821Z
END:VEVENT
BEGIN:VEVENT
UID:69ebbfa598242
DTSTART:20220331T082000Z
SEQUENCE:0
TRANSP:OPAQUE
DTEND:20220331T095500Z
LOCATION:N421
SUMMARY:Abrechnungssysteme
CLASS:PUBLIC
DESCRIPTION:Veranstaltung: Abrechnungssysteme (BTX8007)\nDozierende: Lehman
 n [lam9]\nRäume: N421\nCode: BTX8007a
X-ALT-DESC;FMTTYPE=text/html:Veranstaltung: Abrechnungssysteme (BTX8007)<br
 >Dozierende: Lehmann [lam9]<br>Räume: N421<br>Code: BTX8007a
DTSTAMP:20260424T190821Z
END:VEVENT
BEGIN:VEVENT
UID:69ebbfa59826c
DTSTART:20220407T082000Z
SEQUENCE:0
TRANSP:OPAQUE
DTEND:20220407T095500Z
LOCATION:N421
SUMMARY:Abrechnungssysteme
CLASS:PUBLIC
DESCRIPTION:Veranstaltung: Abrechnungssysteme (BTX8007)\nDozierende: Lehman
 n [lam9]\nRäume: N421\nCode: BTX8007a
X-ALT-DESC;FMTTYPE=text/html:Veranstaltung: Abrechnungssysteme (BTX8007)<br
 >Dozierende: Lehmann [lam9]<br>Räume: N421<br>Code: BTX8007a
DTSTAMP:20260424T190821Z
END:VEVENT
BEGIN:VEVENT
UID:69ebbfa598296
DTSTART:20220421T082000Z
SEQUENCE:0
TRANSP:OPAQUE
DTEND:20220421T095500Z
LOCATION:N421
SUMMARY:Abrechnungssysteme
CLASS:PUBLIC
DESCRIPTION:Veranstaltung: Abrechnungssysteme (BTX8007)\nDozierende: Lehman
 n [lam9]\nRäume: N421\nCode: BTX8007a
X-ALT-DESC;FMTTYPE=text/html:Veranstaltung: Abrechnungssysteme (BTX8007)<br
 >Dozierende: Lehmann [lam9]<br>Räume: N421<br>Code: BTX8007a
DTSTAMP:20260424T190821Z
END:VEVENT
BEGIN:VEVENT
UID:69ebbfa5982c0
DTSTART:20220428T082000Z
SEQUENCE:0
TRANSP:OPAQUE
DTEND:20220428T095500Z
LOCATION:N421
SUMMARY:Abrechnungssysteme
CLASS:PUBLIC
DESCRIPTION:Veranstaltung: Abrechnungssysteme (BTX8007)\nDozierende: Lehman
 n [lam9]\nRäume: N421\nCode: BTX8007a
X-ALT-DESC;FMTTYPE=text/html:Veranstaltung: Abrechnungssysteme (BTX8007)<br
 >Dozierende: Lehmann [lam9]<br>Räume: N421<br>Code: BTX8007a
DTSTAMP:20260424T190821Z
END:VEVENT
BEGIN:VEVENT
UID:69ebbfa5982e8
DTSTART:20220505T082000Z
SEQUENCE:0
TRANSP:OPAQUE
DTEND:20220505T095500Z
LOCATION:N421
SUMMARY:Abrechnungssysteme
CLASS:PUBLIC
DESCRIPTION:Veranstaltung: Abrechnungssysteme (BTX8007)\nDozierende: Lehman
 n [lam9]\nRäume: N421\nCode: BTX8007a
X-ALT-DESC;FMTTYPE=text/html:Veranstaltung: Abrechnungssysteme (BTX8007)<br
 >Dozierende: Lehmann [lam9]<br>Räume: N421<br>Code: BTX8007a
DTSTAMP:20260424T190821Z
END:VEVENT
BEGIN:VEVENT
UID:69ebbfa598311
DTSTART:20220512T082000Z
SEQUENCE:0
TRANSP:OPAQUE
DTEND:20220512T095500Z
LOCATION:N421
SUMMARY:Abrechnungssysteme
CLASS:PUBLIC
DESCRIPTION:Veranstaltung: Abrechnungssysteme (BTX8007)\nDozierende: Lehman
 n [lam9]\nRäume: N421\nCode: BTX8007a
X-ALT-DESC;FMTTYPE=text/html:Veranstaltung: Abrechnungssysteme (BTX8007)<br
 >Dozierende: Lehmann [lam9]<br>Räume: N421<br>Code: BTX8007a
DTSTAMP:20260424T190821Z
END:VEVENT
BEGIN:VEVENT
UID:69ebbfa59833b
DTSTART:20220519T082000Z
SEQUENCE:0
TRANSP:OPAQUE
DTEND:20220519T095500Z
LOCATION:N421
SUMMARY:Abrechnungssysteme
CLASS:PUBLIC
DESCRIPTION:Veranstaltung: Abrechnungssysteme (BTX8007)\nDozierende: Lehman
 n [lam9]\nRäume: N421\nCode: BTX8007a
X-ALT-DESC;FMTTYPE=text/html:Veranstaltung: Abrechnungssysteme (BTX8007)<br
 >Dozierende: Lehmann [lam9]<br>Räume: N421<br>Code: BTX8007a
DTSTAMP:20260424T190821Z
END:VEVENT
BEGIN:VEVENT
UID:69ebbfa598362
DTSTART:20220602T082000Z
SEQUENCE:0
TRANSP:OPAQUE
DTEND:20220602T095500Z
LOCATION:N421
SUMMARY:Abrechnungssysteme
CLASS:PUBLIC
DESCRIPTION:Veranstaltung: Abrechnungssysteme (BTX8007)\nDozierende: Lehman
 n [lam9]\nRäume: N421\nCode: BTX8007a
X-ALT-DESC;FMTTYPE=text/html:Veranstaltung: Abrechnungssysteme (BTX8007)<br
 >Dozierende: Lehmann [lam9]<br>Räume: N421<br>Code: BTX8007a
DTSTAMP:20260424T190821Z
END:VEVENT
BEGIN:VEVENT
UID:69ebbfa598389
DTSTART:20220609T082000Z
SEQUENCE:0
TRANSP:OPAQUE
DTEND:20220609T095500Z
LOCATION:N421
SUMMARY:Abrechnungssysteme
CLASS:PUBLIC
DESCRIPTION:Veranstaltung: Abrechnungssysteme (BTX8007)\nDozierende: Lehman
 n [lam9]\nRäume: N421\nCode: BTX8007a
X-ALT-DESC;FMTTYPE=text/html:Veranstaltung: Abrechnungssysteme (BTX8007)<br
 >Dozierende: Lehmann [lam9]<br>Räume: N421<br>Code: BTX8007a
DTSTAMP:20260424T190821Z
END:VEVENT
BEGIN:VEVENT
UID:69ebbfa5983b1
DTSTART:20220616T082000Z
SEQUENCE:0
TRANSP:OPAQUE
DTEND:20220616T095500Z
LOCATION:N421
SUMMARY:Abrechnungssysteme
CLASS:PUBLIC
DESCRIPTION:Veranstaltung: Abrechnungssysteme (BTX8007)\nDozierende: Lehman
 n [lam9]\nRäume: N421\nCode: BTX8007a
X-ALT-DESC;FMTTYPE=text/html:Veranstaltung: Abrechnungssysteme (BTX8007)<br
 >Dozierende: Lehmann [lam9]<br>Räume: N421<br>Code: BTX8007a
DTSTAMP:20260424T190821Z
END:VEVENT
END:VCALENDAR