BEGIN:VCALENDAR
VERSION:2.0
PRODID:www.bfh.ch
X-APPLE-CALENDAR-COLOR:Orange
X-OUTLOOK-COLOR:Orange
X-FUNAMBOL-COLOR:Orange
X-WR-CALNAME:Übersicht BTX8102
BEGIN:VEVENT
UID:69ec093b6a9b3
DTSTART:20210924T104500Z
SEQUENCE:0
TRANSP:OPAQUE
DTEND:20210924T140000Z
SUMMARY:Projektmanagement
CLASS:PUBLIC
DESCRIPTION:Veranstaltung: Projektmanagement (BTX8102)\nDozierende: Helblin
 g [hif1]\nRäume: \nCode: BTX8102a
X-ALT-DESC;FMTTYPE=text/html:Veranstaltung: Projektmanagement (BTX8102)<br>
 Dozierende: Helbling [hif1]<br>Räume: <br>Code: BTX8102a
DTSTAMP:20260425T002219Z
END:VEVENT
BEGIN:VEVENT
UID:69ec093b6aac2
DTSTART:20210924T104500Z
SEQUENCE:0
TRANSP:OPAQUE
DTEND:20210924T140000Z
LOCATION:N522
SUMMARY:Projektmanagement
CLASS:PUBLIC
DESCRIPTION:Veranstaltung: Projektmanagement (BTX8102)\nDozierende: Gasenze
 r [gzr1]\nRäume: N522\nCode: BTX8102a
X-ALT-DESC;FMTTYPE=text/html:Veranstaltung: Projektmanagement (BTX8102)<br>
 Dozierende: Gasenzer [gzr1]<br>Räume: N522<br>Code: BTX8102a
DTSTAMP:20260425T002219Z
END:VEVENT
BEGIN:VEVENT
UID:69ec093b6ab07
DTSTART:20211001T104500Z
SEQUENCE:0
TRANSP:OPAQUE
DTEND:20211001T140000Z
SUMMARY:Projektmanagement
CLASS:PUBLIC
DESCRIPTION:Veranstaltung: Projektmanagement (BTX8102)\nDozierende: Helblin
 g [hif1]\nRäume: \nCode: BTX8102a
X-ALT-DESC;FMTTYPE=text/html:Veranstaltung: Projektmanagement (BTX8102)<br>
 Dozierende: Helbling [hif1]<br>Räume: <br>Code: BTX8102a
DTSTAMP:20260425T002219Z
END:VEVENT
BEGIN:VEVENT
UID:69ec093b6ab3e
DTSTART:20211001T104500Z
SEQUENCE:0
TRANSP:OPAQUE
DTEND:20211001T140000Z
LOCATION:N522
SUMMARY:Projektmanagement
CLASS:PUBLIC
DESCRIPTION:Veranstaltung: Projektmanagement (BTX8102)\nDozierende: Gasenze
 r [gzr1]\nRäume: N522\nCode: BTX8102a
X-ALT-DESC;FMTTYPE=text/html:Veranstaltung: Projektmanagement (BTX8102)<br>
 Dozierende: Gasenzer [gzr1]<br>Räume: N522<br>Code: BTX8102a
DTSTAMP:20260425T002219Z
END:VEVENT
BEGIN:VEVENT
UID:69ec093b6ab75
DTSTART:20211008T104500Z
SEQUENCE:0
TRANSP:OPAQUE
DTEND:20211008T140000Z
SUMMARY:Projektmanagement
CLASS:PUBLIC
DESCRIPTION:Veranstaltung: Projektmanagement (BTX8102)\nDozierende: Helblin
 g [hif1]\nRäume: \nCode: BTX8102a
X-ALT-DESC;FMTTYPE=text/html:Veranstaltung: Projektmanagement (BTX8102)<br>
 Dozierende: Helbling [hif1]<br>Räume: <br>Code: BTX8102a
DTSTAMP:20260425T002219Z
END:VEVENT
BEGIN:VEVENT
UID:69ec093b6abaa
DTSTART:20211008T104500Z
SEQUENCE:0
TRANSP:OPAQUE
DTEND:20211008T140000Z
LOCATION:N522
SUMMARY:Projektmanagement
CLASS:PUBLIC
DESCRIPTION:Veranstaltung: Projektmanagement (BTX8102)\nDozierende: Gasenze
 r [gzr1]\nRäume: N522\nCode: BTX8102a
X-ALT-DESC;FMTTYPE=text/html:Veranstaltung: Projektmanagement (BTX8102)<br>
 Dozierende: Gasenzer [gzr1]<br>Räume: N522<br>Code: BTX8102a
DTSTAMP:20260425T002219Z
END:VEVENT
BEGIN:VEVENT
UID:69ec093b6abde
DTSTART:20211015T104500Z
SEQUENCE:0
TRANSP:OPAQUE
DTEND:20211015T140000Z
SUMMARY:Projektmanagement
CLASS:PUBLIC
DESCRIPTION:Veranstaltung: Projektmanagement (BTX8102)\nDozierende: Helblin
 g [hif1]\nRäume: \nCode: BTX8102a
X-ALT-DESC;FMTTYPE=text/html:Veranstaltung: Projektmanagement (BTX8102)<br>
 Dozierende: Helbling [hif1]<br>Räume: <br>Code: BTX8102a
DTSTAMP:20260425T002219Z
END:VEVENT
BEGIN:VEVENT
UID:69ec093b6ac11
DTSTART:20211015T104500Z
SEQUENCE:0
TRANSP:OPAQUE
DTEND:20211015T140000Z
LOCATION:N522
SUMMARY:Projektmanagement
CLASS:PUBLIC
DESCRIPTION:Veranstaltung: Projektmanagement (BTX8102)\nDozierende: Gasenze
 r [gzr1]\nRäume: N522\nCode: BTX8102a
X-ALT-DESC;FMTTYPE=text/html:Veranstaltung: Projektmanagement (BTX8102)<br>
 Dozierende: Gasenzer [gzr1]<br>Räume: N522<br>Code: BTX8102a
DTSTAMP:20260425T002219Z
END:VEVENT
BEGIN:VEVENT
UID:69ec093b6ac46
DTSTART:20211022T104500Z
SEQUENCE:0
TRANSP:OPAQUE
DTEND:20211022T140000Z
SUMMARY:Projektmanagement
CLASS:PUBLIC
DESCRIPTION:Veranstaltung: Projektmanagement (BTX8102)\nDozierende: Helblin
 g [hif1]\nRäume: \nCode: BTX8102a
X-ALT-DESC;FMTTYPE=text/html:Veranstaltung: Projektmanagement (BTX8102)<br>
 Dozierende: Helbling [hif1]<br>Räume: <br>Code: BTX8102a
DTSTAMP:20260425T002219Z
END:VEVENT
BEGIN:VEVENT
UID:69ec093b6ac7a
DTSTART:20211022T104500Z
SEQUENCE:0
TRANSP:OPAQUE
DTEND:20211022T140000Z
LOCATION:N522
SUMMARY:Projektmanagement
CLASS:PUBLIC
DESCRIPTION:Veranstaltung: Projektmanagement (BTX8102)\nDozierende: Gasenze
 r [gzr1]\nRäume: N522\nCode: BTX8102a
X-ALT-DESC;FMTTYPE=text/html:Veranstaltung: Projektmanagement (BTX8102)<br>
 Dozierende: Gasenzer [gzr1]<br>Räume: N522<br>Code: BTX8102a
DTSTAMP:20260425T002219Z
END:VEVENT
BEGIN:VEVENT
UID:69ec093b6acaf
DTSTART:20211029T104500Z
SEQUENCE:0
TRANSP:OPAQUE
DTEND:20211029T140000Z
SUMMARY:Projektmanagement
CLASS:PUBLIC
DESCRIPTION:Veranstaltung: Projektmanagement (BTX8102)\nDozierende: Helblin
 g [hif1]\nRäume: \nCode: BTX8102a
X-ALT-DESC;FMTTYPE=text/html:Veranstaltung: Projektmanagement (BTX8102)<br>
 Dozierende: Helbling [hif1]<br>Räume: <br>Code: BTX8102a
DTSTAMP:20260425T002219Z
END:VEVENT
BEGIN:VEVENT
UID:69ec093b6ace1
DTSTART:20211029T104500Z
SEQUENCE:0
TRANSP:OPAQUE
DTEND:20211029T140000Z
LOCATION:N522
SUMMARY:Projektmanagement
CLASS:PUBLIC
DESCRIPTION:Veranstaltung: Projektmanagement (BTX8102)\nDozierende: Gasenze
 r [gzr1]\nRäume: N522\nCode: BTX8102a
X-ALT-DESC;FMTTYPE=text/html:Veranstaltung: Projektmanagement (BTX8102)<br>
 Dozierende: Gasenzer [gzr1]<br>Räume: N522<br>Code: BTX8102a
DTSTAMP:20260425T002219Z
END:VEVENT
BEGIN:VEVENT
UID:69ec093b6ad18
DTSTART:20211105T114500Z
SEQUENCE:0
TRANSP:OPAQUE
DTEND:20211105T150000Z
SUMMARY:Projektmanagement
CLASS:PUBLIC
DESCRIPTION:Veranstaltung: Projektmanagement (BTX8102)\nDozierende: Helblin
 g [hif1]\nRäume: \nCode: BTX8102a
X-ALT-DESC;FMTTYPE=text/html:Veranstaltung: Projektmanagement (BTX8102)<br>
 Dozierende: Helbling [hif1]<br>Räume: <br>Code: BTX8102a
DTSTAMP:20260425T002219Z
END:VEVENT
BEGIN:VEVENT
UID:69ec093b6ad4c
DTSTART:20211105T114500Z
SEQUENCE:0
TRANSP:OPAQUE
DTEND:20211105T150000Z
LOCATION:N522
SUMMARY:Projektmanagement
CLASS:PUBLIC
DESCRIPTION:Veranstaltung: Projektmanagement (BTX8102)\nDozierende: Gasenze
 r [gzr1]\nRäume: N522\nCode: BTX8102a
X-ALT-DESC;FMTTYPE=text/html:Veranstaltung: Projektmanagement (BTX8102)<br>
 Dozierende: Gasenzer [gzr1]<br>Räume: N522<br>Code: BTX8102a
DTSTAMP:20260425T002219Z
END:VEVENT
BEGIN:VEVENT
UID:69ec093b6ad80
DTSTART:20211112T114500Z
SEQUENCE:0
TRANSP:OPAQUE
DTEND:20211112T150000Z
SUMMARY:Projektmanagement
CLASS:PUBLIC
DESCRIPTION:Veranstaltung: Projektmanagement (BTX8102)\nDozierende: Helblin
 g [hif1]\nRäume: \nCode: BTX8102a
X-ALT-DESC;FMTTYPE=text/html:Veranstaltung: Projektmanagement (BTX8102)<br>
 Dozierende: Helbling [hif1]<br>Räume: <br>Code: BTX8102a
DTSTAMP:20260425T002219Z
END:VEVENT
BEGIN:VEVENT
UID:69ec093b6adb4
DTSTART:20211112T114500Z
SEQUENCE:0
TRANSP:OPAQUE
DTEND:20211112T150000Z
LOCATION:N522
SUMMARY:Projektmanagement
CLASS:PUBLIC
DESCRIPTION:Veranstaltung: Projektmanagement (BTX8102)\nDozierende: Gasenze
 r [gzr1]\nRäume: N522\nCode: BTX8102a
X-ALT-DESC;FMTTYPE=text/html:Veranstaltung: Projektmanagement (BTX8102)<br>
 Dozierende: Gasenzer [gzr1]<br>Räume: N522<br>Code: BTX8102a
DTSTAMP:20260425T002219Z
END:VEVENT
BEGIN:VEVENT
UID:69ec093b6ade7
DTSTART:20211119T114500Z
SEQUENCE:0
TRANSP:OPAQUE
DTEND:20211119T150000Z
SUMMARY:Projektmanagement
CLASS:PUBLIC
DESCRIPTION:Veranstaltung: Projektmanagement (BTX8102)\nDozierende: Helblin
 g [hif1]\nRäume: \nCode: BTX8102a
X-ALT-DESC;FMTTYPE=text/html:Veranstaltung: Projektmanagement (BTX8102)<br>
 Dozierende: Helbling [hif1]<br>Räume: <br>Code: BTX8102a
DTSTAMP:20260425T002219Z
END:VEVENT
BEGIN:VEVENT
UID:69ec093b6ae19
DTSTART:20211119T114500Z
SEQUENCE:0
TRANSP:OPAQUE
DTEND:20211119T150000Z
LOCATION:N522
SUMMARY:Projektmanagement
CLASS:PUBLIC
DESCRIPTION:Veranstaltung: Projektmanagement (BTX8102)\nDozierende: Gasenze
 r [gzr1]\nRäume: N522\nCode: BTX8102a
X-ALT-DESC;FMTTYPE=text/html:Veranstaltung: Projektmanagement (BTX8102)<br>
 Dozierende: Gasenzer [gzr1]<br>Räume: N522<br>Code: BTX8102a
DTSTAMP:20260425T002219Z
END:VEVENT
BEGIN:VEVENT
UID:69ec093b6ae4e
DTSTART:20211126T114500Z
SEQUENCE:0
TRANSP:OPAQUE
DTEND:20211126T150000Z
SUMMARY:Projektmanagement
CLASS:PUBLIC
DESCRIPTION:Veranstaltung: Projektmanagement (BTX8102)\nDozierende: Helblin
 g [hif1]\nRäume: \nCode: BTX8102a
X-ALT-DESC;FMTTYPE=text/html:Veranstaltung: Projektmanagement (BTX8102)<br>
 Dozierende: Helbling [hif1]<br>Räume: <br>Code: BTX8102a
DTSTAMP:20260425T002219Z
END:VEVENT
BEGIN:VEVENT
UID:69ec093b6ae80
DTSTART:20211126T114500Z
SEQUENCE:0
TRANSP:OPAQUE
DTEND:20211126T150000Z
LOCATION:N522
SUMMARY:Projektmanagement
CLASS:PUBLIC
DESCRIPTION:Veranstaltung: Projektmanagement (BTX8102)\nDozierende: Gasenze
 r [gzr1]\nRäume: N522\nCode: BTX8102a
X-ALT-DESC;FMTTYPE=text/html:Veranstaltung: Projektmanagement (BTX8102)<br>
 Dozierende: Gasenzer [gzr1]<br>Räume: N522<br>Code: BTX8102a
DTSTAMP:20260425T002219Z
END:VEVENT
BEGIN:VEVENT
UID:69ec093b6aeb5
DTSTART:20211203T114500Z
SEQUENCE:0
TRANSP:OPAQUE
DTEND:20211203T150000Z
SUMMARY:Projektmanagement
CLASS:PUBLIC
DESCRIPTION:Veranstaltung: Projektmanagement (BTX8102)\nDozierende: Helblin
 g [hif1]\nRäume: \nCode: BTX8102a
X-ALT-DESC;FMTTYPE=text/html:Veranstaltung: Projektmanagement (BTX8102)<br>
 Dozierende: Helbling [hif1]<br>Räume: <br>Code: BTX8102a
DTSTAMP:20260425T002219Z
END:VEVENT
BEGIN:VEVENT
UID:69ec093b6aee8
DTSTART:20211203T114500Z
SEQUENCE:0
TRANSP:OPAQUE
DTEND:20211203T150000Z
LOCATION:N522
SUMMARY:Projektmanagement
CLASS:PUBLIC
DESCRIPTION:Veranstaltung: Projektmanagement (BTX8102)\nDozierende: Gasenze
 r [gzr1]\nRäume: N522\nCode: BTX8102a
X-ALT-DESC;FMTTYPE=text/html:Veranstaltung: Projektmanagement (BTX8102)<br>
 Dozierende: Gasenzer [gzr1]<br>Räume: N522<br>Code: BTX8102a
DTSTAMP:20260425T002219Z
END:VEVENT
BEGIN:VEVENT
UID:69ec093b6af1e
DTSTART:20211210T114500Z
SEQUENCE:0
TRANSP:OPAQUE
DTEND:20211210T150000Z
SUMMARY:Projektmanagement
CLASS:PUBLIC
DESCRIPTION:Veranstaltung: Projektmanagement (BTX8102)\nDozierende: Helblin
 g [hif1]\nRäume: \nCode: BTX8102a
X-ALT-DESC;FMTTYPE=text/html:Veranstaltung: Projektmanagement (BTX8102)<br>
 Dozierende: Helbling [hif1]<br>Räume: <br>Code: BTX8102a
DTSTAMP:20260425T002219Z
END:VEVENT
BEGIN:VEVENT
UID:69ec093b6af52
DTSTART:20211210T114500Z
SEQUENCE:0
TRANSP:OPAQUE
DTEND:20211210T150000Z
LOCATION:N522
SUMMARY:Projektmanagement
CLASS:PUBLIC
DESCRIPTION:Veranstaltung: Projektmanagement (BTX8102)\nDozierende: Gasenze
 r [gzr1]\nRäume: N522\nCode: BTX8102a
X-ALT-DESC;FMTTYPE=text/html:Veranstaltung: Projektmanagement (BTX8102)<br>
 Dozierende: Gasenzer [gzr1]<br>Räume: N522<br>Code: BTX8102a
DTSTAMP:20260425T002219Z
END:VEVENT
BEGIN:VEVENT
UID:69ec093b6af86
DTSTART:20211217T114500Z
SEQUENCE:0
TRANSP:OPAQUE
DTEND:20211217T150000Z
SUMMARY:Projektmanagement
CLASS:PUBLIC
DESCRIPTION:Veranstaltung: Projektmanagement (BTX8102)\nDozierende: Helblin
 g [hif1]\nRäume: \nCode: BTX8102a
X-ALT-DESC;FMTTYPE=text/html:Veranstaltung: Projektmanagement (BTX8102)<br>
 Dozierende: Helbling [hif1]<br>Räume: <br>Code: BTX8102a
DTSTAMP:20260425T002219Z
END:VEVENT
BEGIN:VEVENT
UID:69ec093b6afb9
DTSTART:20211217T114500Z
SEQUENCE:0
TRANSP:OPAQUE
DTEND:20211217T150000Z
LOCATION:N522
SUMMARY:Projektmanagement
CLASS:PUBLIC
DESCRIPTION:Veranstaltung: Projektmanagement (BTX8102)\nDozierende: Gasenze
 r [gzr1]\nRäume: N522\nCode: BTX8102a
X-ALT-DESC;FMTTYPE=text/html:Veranstaltung: Projektmanagement (BTX8102)<br>
 Dozierende: Gasenzer [gzr1]<br>Räume: N522<br>Code: BTX8102a
DTSTAMP:20260425T002219Z
END:VEVENT
BEGIN:VEVENT
UID:69ec093b6afed
DTSTART:20211224T114500Z
SEQUENCE:0
TRANSP:OPAQUE
DTEND:20211224T150000Z
SUMMARY:Projektmanagement
CLASS:PUBLIC
DESCRIPTION:Veranstaltung: Projektmanagement (BTX8102)\nDozierende: Helblin
 g [hif1]\nRäume: \nCode: BTX8102a
X-ALT-DESC;FMTTYPE=text/html:Veranstaltung: Projektmanagement (BTX8102)<br>
 Dozierende: Helbling [hif1]<br>Räume: <br>Code: BTX8102a
DTSTAMP:20260425T002219Z
END:VEVENT
BEGIN:VEVENT
UID:69ec093b6b020
DTSTART:20211224T114500Z
SEQUENCE:0
TRANSP:OPAQUE
DTEND:20211224T150000Z
LOCATION:N522
SUMMARY:Projektmanagement
CLASS:PUBLIC
DESCRIPTION:Veranstaltung: Projektmanagement (BTX8102)\nDozierende: Gasenze
 r [gzr1]\nRäume: N522\nCode: BTX8102a
X-ALT-DESC;FMTTYPE=text/html:Veranstaltung: Projektmanagement (BTX8102)<br>
 Dozierende: Gasenzer [gzr1]<br>Räume: N522<br>Code: BTX8102a
DTSTAMP:20260425T002219Z
END:VEVENT
BEGIN:VEVENT
UID:69ec093b6b053
DTSTART:20220114T114500Z
SEQUENCE:0
TRANSP:OPAQUE
DTEND:20220114T150000Z
SUMMARY:Projektmanagement
CLASS:PUBLIC
DESCRIPTION:Veranstaltung: Projektmanagement (BTX8102)\nDozierende: Helblin
 g [hif1]\nRäume: \nCode: BTX8102a
X-ALT-DESC;FMTTYPE=text/html:Veranstaltung: Projektmanagement (BTX8102)<br>
 Dozierende: Helbling [hif1]<br>Räume: <br>Code: BTX8102a
DTSTAMP:20260425T002219Z
END:VEVENT
BEGIN:VEVENT
UID:69ec093b6b086
DTSTART:20220114T114500Z
SEQUENCE:0
TRANSP:OPAQUE
DTEND:20220114T150000Z
LOCATION:N522
SUMMARY:Projektmanagement
CLASS:PUBLIC
DESCRIPTION:Veranstaltung: Projektmanagement (BTX8102)\nDozierende: Gasenze
 r [gzr1]\nRäume: N522\nCode: BTX8102a
X-ALT-DESC;FMTTYPE=text/html:Veranstaltung: Projektmanagement (BTX8102)<br>
 Dozierende: Gasenzer [gzr1]<br>Räume: N522<br>Code: BTX8102a
DTSTAMP:20260425T002219Z
END:VEVENT
BEGIN:VEVENT
UID:69ec093b6b0bb
DTSTART:20220121T114500Z
SEQUENCE:0
TRANSP:OPAQUE
DTEND:20220121T150000Z
SUMMARY:Projektmanagement
CLASS:PUBLIC
DESCRIPTION:Veranstaltung: Projektmanagement (BTX8102)\nDozierende: Helblin
 g [hif1]\nRäume: \nCode: BTX8102a
X-ALT-DESC;FMTTYPE=text/html:Veranstaltung: Projektmanagement (BTX8102)<br>
 Dozierende: Helbling [hif1]<br>Räume: <br>Code: BTX8102a
DTSTAMP:20260425T002219Z
END:VEVENT
BEGIN:VEVENT
UID:69ec093b6b0ec
DTSTART:20220121T114500Z
SEQUENCE:0
TRANSP:OPAQUE
DTEND:20220121T150000Z
LOCATION:N522
SUMMARY:Projektmanagement
CLASS:PUBLIC
DESCRIPTION:Veranstaltung: Projektmanagement (BTX8102)\nDozierende: Gasenze
 r [gzr1]\nRäume: N522\nCode: BTX8102a
X-ALT-DESC;FMTTYPE=text/html:Veranstaltung: Projektmanagement (BTX8102)<br>
 Dozierende: Gasenzer [gzr1]<br>Räume: N522<br>Code: BTX8102a
DTSTAMP:20260425T002219Z
END:VEVENT
BEGIN:VEVENT
UID:69ec093b6b120
DTSTART:20220922T062000Z
SEQUENCE:0
TRANSP:OPAQUE
DTEND:20220922T095500Z
LOCATION:Höhe-N321
SUMMARY:Projektmanagement
CLASS:PUBLIC
DESCRIPTION:Veranstaltung: Projektmanagement (BTX8102)\nDozierende: Gasenze
 r [gzr1]\, Helbling [hif1]\nRäume: Höhe-N321\nCode: BTX8102a
X-ALT-DESC;FMTTYPE=text/html:Veranstaltung: Projektmanagement (BTX8102)<br>
 Dozierende: Gasenzer [gzr1]\, Helbling [hif1]<br>Räume: Höhe-N321<br>Cod
 e: BTX8102a
DTSTAMP:20260425T002219Z
END:VEVENT
BEGIN:VEVENT
UID:69ec093b6b229
DTSTART:20220929T062000Z
SEQUENCE:0
TRANSP:OPAQUE
DTEND:20220929T095500Z
LOCATION:Höhe-N321
SUMMARY:Projektmanagement
CLASS:PUBLIC
DESCRIPTION:Veranstaltung: Projektmanagement (BTX8102)\nDozierende: Gasenze
 r [gzr1]\, Helbling [hif1]\nRäume: Höhe-N321\nCode: BTX8102a
X-ALT-DESC;FMTTYPE=text/html:Veranstaltung: Projektmanagement (BTX8102)<br>
 Dozierende: Gasenzer [gzr1]\, Helbling [hif1]<br>Räume: Höhe-N321<br>Cod
 e: BTX8102a
DTSTAMP:20260425T002219Z
END:VEVENT
BEGIN:VEVENT
UID:69ec093b6b260
DTSTART:20221006T062000Z
SEQUENCE:0
TRANSP:OPAQUE
DTEND:20221006T095500Z
LOCATION:Höhe-N321
SUMMARY:Projektmanagement
CLASS:PUBLIC
DESCRIPTION:Veranstaltung: Projektmanagement (BTX8102)\nDozierende: Gasenze
 r [gzr1]\, Helbling [hif1]\nRäume: Höhe-N321\nCode: BTX8102a
X-ALT-DESC;FMTTYPE=text/html:Veranstaltung: Projektmanagement (BTX8102)<br>
 Dozierende: Gasenzer [gzr1]\, Helbling [hif1]<br>Räume: Höhe-N321<br>Cod
 e: BTX8102a
DTSTAMP:20260425T002219Z
END:VEVENT
BEGIN:VEVENT
UID:69ec093b6b297
DTSTART:20221013T062000Z
SEQUENCE:0
TRANSP:OPAQUE
DTEND:20221013T095500Z
LOCATION:Höhe-N321
SUMMARY:Projektmanagement
CLASS:PUBLIC
DESCRIPTION:Veranstaltung: Projektmanagement (BTX8102)\nDozierende: Gasenze
 r [gzr1]\, Helbling [hif1]\nRäume: Höhe-N321\nCode: BTX8102a
X-ALT-DESC;FMTTYPE=text/html:Veranstaltung: Projektmanagement (BTX8102)<br>
 Dozierende: Gasenzer [gzr1]\, Helbling [hif1]<br>Räume: Höhe-N321<br>Cod
 e: BTX8102a
DTSTAMP:20260425T002219Z
END:VEVENT
BEGIN:VEVENT
UID:69ec093b6b2ce
DTSTART:20221020T062000Z
SEQUENCE:0
TRANSP:OPAQUE
DTEND:20221020T095500Z
LOCATION:Höhe-N321
SUMMARY:Projektmanagement
CLASS:PUBLIC
DESCRIPTION:Veranstaltung: Projektmanagement (BTX8102)\nDozierende: Gasenze
 r [gzr1]\, Helbling [hif1]\nRäume: Höhe-N321\nCode: BTX8102a
X-ALT-DESC;FMTTYPE=text/html:Veranstaltung: Projektmanagement (BTX8102)<br>
 Dozierende: Gasenzer [gzr1]\, Helbling [hif1]<br>Räume: Höhe-N321<br>Cod
 e: BTX8102a
DTSTAMP:20260425T002219Z
END:VEVENT
BEGIN:VEVENT
UID:69ec093b6b303
DTSTART:20221027T062000Z
SEQUENCE:0
TRANSP:OPAQUE
DTEND:20221027T095500Z
LOCATION:Höhe-N321
SUMMARY:Projektmanagement
CLASS:PUBLIC
DESCRIPTION:Veranstaltung: Projektmanagement (BTX8102)\nDozierende: Gasenze
 r [gzr1]\, Helbling [hif1]\nRäume: Höhe-N321\nCode: BTX8102a
X-ALT-DESC;FMTTYPE=text/html:Veranstaltung: Projektmanagement (BTX8102)<br>
 Dozierende: Gasenzer [gzr1]\, Helbling [hif1]<br>Räume: Höhe-N321<br>Cod
 e: BTX8102a
DTSTAMP:20260425T002219Z
END:VEVENT
BEGIN:VEVENT
UID:69ec093b6b339
DTSTART:20221103T072000Z
SEQUENCE:0
TRANSP:OPAQUE
DTEND:20221103T105500Z
LOCATION:Höhe-N321
SUMMARY:Projektmanagement
CLASS:PUBLIC
DESCRIPTION:Veranstaltung: Projektmanagement (BTX8102)\nDozierende: Gasenze
 r [gzr1]\, Helbling [hif1]\nRäume: Höhe-N321\nCode: BTX8102a
X-ALT-DESC;FMTTYPE=text/html:Veranstaltung: Projektmanagement (BTX8102)<br>
 Dozierende: Gasenzer [gzr1]\, Helbling [hif1]<br>Räume: Höhe-N321<br>Cod
 e: BTX8102a
DTSTAMP:20260425T002219Z
END:VEVENT
BEGIN:VEVENT
UID:69ec093b6b370
DTSTART:20221110T072000Z
SEQUENCE:0
TRANSP:OPAQUE
DTEND:20221110T105500Z
LOCATION:Höhe-N321
SUMMARY:Projektmanagement
CLASS:PUBLIC
DESCRIPTION:Veranstaltung: Projektmanagement (BTX8102)\nDozierende: Gasenze
 r [gzr1]\, Helbling [hif1]\nRäume: Höhe-N321\nCode: BTX8102a
X-ALT-DESC;FMTTYPE=text/html:Veranstaltung: Projektmanagement (BTX8102)<br>
 Dozierende: Gasenzer [gzr1]\, Helbling [hif1]<br>Räume: Höhe-N321<br>Cod
 e: BTX8102a
DTSTAMP:20260425T002219Z
END:VEVENT
BEGIN:VEVENT
UID:69ec093b6b3a5
DTSTART:20221117T072000Z
SEQUENCE:0
TRANSP:OPAQUE
DTEND:20221117T105500Z
LOCATION:Höhe-N321
SUMMARY:Projektmanagement
CLASS:PUBLIC
DESCRIPTION:Veranstaltung: Projektmanagement (BTX8102)\nDozierende: Gasenze
 r [gzr1]\, Helbling [hif1]\nRäume: Höhe-N321\nCode: BTX8102a
X-ALT-DESC;FMTTYPE=text/html:Veranstaltung: Projektmanagement (BTX8102)<br>
 Dozierende: Gasenzer [gzr1]\, Helbling [hif1]<br>Räume: Höhe-N321<br>Cod
 e: BTX8102a
DTSTAMP:20260425T002219Z
END:VEVENT
BEGIN:VEVENT
UID:69ec093b6b3dc
DTSTART:20221124T072000Z
SEQUENCE:0
TRANSP:OPAQUE
DTEND:20221124T105500Z
LOCATION:Höhe-N321
SUMMARY:Projektmanagement
CLASS:PUBLIC
DESCRIPTION:Veranstaltung: Projektmanagement (BTX8102)\nDozierende: Gasenze
 r [gzr1]\, Helbling [hif1]\nRäume: Höhe-N321\nCode: BTX8102a
X-ALT-DESC;FMTTYPE=text/html:Veranstaltung: Projektmanagement (BTX8102)<br>
 Dozierende: Gasenzer [gzr1]\, Helbling [hif1]<br>Räume: Höhe-N321<br>Cod
 e: BTX8102a
DTSTAMP:20260425T002219Z
END:VEVENT
BEGIN:VEVENT
UID:69ec093b6b412
DTSTART:20221201T072000Z
SEQUENCE:0
TRANSP:OPAQUE
DTEND:20221201T105500Z
LOCATION:Höhe-N321
SUMMARY:Projektmanagement
CLASS:PUBLIC
DESCRIPTION:Veranstaltung: Projektmanagement (BTX8102)\nDozierende: Gasenze
 r [gzr1]\, Helbling [hif1]\nRäume: Höhe-N321\nCode: BTX8102a
X-ALT-DESC;FMTTYPE=text/html:Veranstaltung: Projektmanagement (BTX8102)<br>
 Dozierende: Gasenzer [gzr1]\, Helbling [hif1]<br>Räume: Höhe-N321<br>Cod
 e: BTX8102a
DTSTAMP:20260425T002219Z
END:VEVENT
BEGIN:VEVENT
UID:69ec093b6b44a
DTSTART:20221208T072000Z
SEQUENCE:0
TRANSP:OPAQUE
DTEND:20221208T105500Z
LOCATION:Höhe-N321
SUMMARY:Projektmanagement
CLASS:PUBLIC
DESCRIPTION:Veranstaltung: Projektmanagement (BTX8102)\nDozierende: Gasenze
 r [gzr1]\, Helbling [hif1]\nRäume: Höhe-N321\nCode: BTX8102a
X-ALT-DESC;FMTTYPE=text/html:Veranstaltung: Projektmanagement (BTX8102)<br>
 Dozierende: Gasenzer [gzr1]\, Helbling [hif1]<br>Räume: Höhe-N321<br>Cod
 e: BTX8102a
DTSTAMP:20260425T002219Z
END:VEVENT
BEGIN:VEVENT
UID:69ec093b6b47f
DTSTART:20221215T072000Z
SEQUENCE:0
TRANSP:OPAQUE
DTEND:20221215T105500Z
LOCATION:Höhe-N321
SUMMARY:Projektmanagement
CLASS:PUBLIC
DESCRIPTION:Veranstaltung: Projektmanagement (BTX8102)\nDozierende: Gasenze
 r [gzr1]\, Helbling [hif1]\nRäume: Höhe-N321\nCode: BTX8102a
X-ALT-DESC;FMTTYPE=text/html:Veranstaltung: Projektmanagement (BTX8102)<br>
 Dozierende: Gasenzer [gzr1]\, Helbling [hif1]<br>Räume: Höhe-N321<br>Cod
 e: BTX8102a
DTSTAMP:20260425T002219Z
END:VEVENT
BEGIN:VEVENT
UID:69ec093b6b4b5
DTSTART:20221222T072000Z
SEQUENCE:0
TRANSP:OPAQUE
DTEND:20221222T105500Z
LOCATION:Höhe-N321
SUMMARY:Projektmanagement
CLASS:PUBLIC
DESCRIPTION:Veranstaltung: Projektmanagement (BTX8102)\nDozierende: Gasenze
 r [gzr1]\, Helbling [hif1]\nRäume: Höhe-N321\nCode: BTX8102a
X-ALT-DESC;FMTTYPE=text/html:Veranstaltung: Projektmanagement (BTX8102)<br>
 Dozierende: Gasenzer [gzr1]\, Helbling [hif1]<br>Räume: Höhe-N321<br>Cod
 e: BTX8102a
DTSTAMP:20260425T002219Z
END:VEVENT
BEGIN:VEVENT
UID:69ec093b6b4ed
DTSTART:20230112T072000Z
SEQUENCE:0
TRANSP:OPAQUE
DTEND:20230112T105500Z
LOCATION:Höhe-N321
SUMMARY:Projektmanagement
CLASS:PUBLIC
DESCRIPTION:Veranstaltung: Projektmanagement (BTX8102)\nDozierende: Gasenze
 r [gzr1]\, Helbling [hif1]\nRäume: Höhe-N321\nCode: BTX8102a
X-ALT-DESC;FMTTYPE=text/html:Veranstaltung: Projektmanagement (BTX8102)<br>
 Dozierende: Gasenzer [gzr1]\, Helbling [hif1]<br>Räume: Höhe-N321<br>Cod
 e: BTX8102a
DTSTAMP:20260425T002219Z
END:VEVENT
BEGIN:VEVENT
UID:69ec093b6b524
DTSTART:20230119T072000Z
SEQUENCE:0
TRANSP:OPAQUE
DTEND:20230119T105500Z
LOCATION:Höhe-N321
SUMMARY:Projektmanagement
CLASS:PUBLIC
DESCRIPTION:Veranstaltung: Projektmanagement (BTX8102)\nDozierende: Gasenze
 r [gzr1]\, Helbling [hif1]\nRäume: Höhe-N321\nCode: BTX8102a
X-ALT-DESC;FMTTYPE=text/html:Veranstaltung: Projektmanagement (BTX8102)<br>
 Dozierende: Gasenzer [gzr1]\, Helbling [hif1]<br>Räume: Höhe-N321<br>Cod
 e: BTX8102a
DTSTAMP:20260425T002219Z
END:VEVENT
BEGIN:VEVENT
UID:69ec093b6b55b
DTSTART:20280921T062000Z
SEQUENCE:0
TRANSP:OPAQUE
DTEND:20280921T095500Z
LOCATION:CBB-N321
SUMMARY:Projektmanagement
CLASS:PUBLIC
DESCRIPTION:Veranstaltung: Projektmanagement (BTX8102)\nDozierende: Gasenze
 r [gzr1]\, Helbling [hif1]\nRäume: CBB-N321\nCode: BTX8102a
X-ALT-DESC;FMTTYPE=text/html:Veranstaltung: Projektmanagement (BTX8102)<br>
 Dozierende: Gasenzer [gzr1]\, Helbling [hif1]<br>Räume: CBB-N321<br>Code:
  BTX8102a
DTSTAMP:20260425T002219Z
END:VEVENT
END:VCALENDAR