BEGIN:VCALENDAR
VERSION:2.0
PRODID:www.bfh.ch
X-APPLE-CALENDAR-COLOR:Orange
X-OUTLOOK-COLOR:Orange
X-FUNAMBOL-COLOR:Orange
X-WR-CALNAME:Übersicht BTX8335
BEGIN:VEVENT
UID:69ec34fd7b375
DTSTART:20210922T082000Z
SEQUENCE:0
TRANSP:OPAQUE
DTEND:20210922T095500Z
LOCATION:N319
SUMMARY:Advanced Databases
CLASS:PUBLIC
DESCRIPTION:Veranstaltung: Advanced Databases (BTX8335)\nDozierende: Sariya
 r [sym3]\nRäume: N319\nCode: BTX8335a
X-ALT-DESC;FMTTYPE=text/html:Veranstaltung: Advanced Databases (BTX8335)<br
 >Dozierende: Sariyar [sym3]<br>Räume: N319<br>Code: BTX8335a
DTSTAMP:20260425T032901Z
END:VEVENT
BEGIN:VEVENT
UID:69ec34fd7b52f
DTSTART:20210929T082000Z
SEQUENCE:0
TRANSP:OPAQUE
DTEND:20210929T095500Z
LOCATION:N319
SUMMARY:Advanced Databases
CLASS:PUBLIC
DESCRIPTION:Veranstaltung: Advanced Databases (BTX8335)\nDozierende: Sariya
 r [sym3]\nRäume: N319\nCode: BTX8335a
X-ALT-DESC;FMTTYPE=text/html:Veranstaltung: Advanced Databases (BTX8335)<br
 >Dozierende: Sariyar [sym3]<br>Räume: N319<br>Code: BTX8335a
DTSTAMP:20260425T032901Z
END:VEVENT
BEGIN:VEVENT
UID:69ec34fd7b5af
DTSTART:20211006T082000Z
SEQUENCE:0
TRANSP:OPAQUE
DTEND:20211006T095500Z
LOCATION:N319
SUMMARY:Advanced Databases
CLASS:PUBLIC
DESCRIPTION:Veranstaltung: Advanced Databases (BTX8335)\nDozierende: Sariya
 r [sym3]\nRäume: N319\nCode: BTX8335a
X-ALT-DESC;FMTTYPE=text/html:Veranstaltung: Advanced Databases (BTX8335)<br
 >Dozierende: Sariyar [sym3]<br>Räume: N319<br>Code: BTX8335a
DTSTAMP:20260425T032901Z
END:VEVENT
BEGIN:VEVENT
UID:69ec34fd7b61a
DTSTART:20211013T082000Z
SEQUENCE:0
TRANSP:OPAQUE
DTEND:20211013T095500Z
LOCATION:N319
SUMMARY:Advanced Databases
CLASS:PUBLIC
DESCRIPTION:Veranstaltung: Advanced Databases (BTX8335)\nDozierende: Sariya
 r [sym3]\nRäume: N319\nCode: BTX8335a
X-ALT-DESC;FMTTYPE=text/html:Veranstaltung: Advanced Databases (BTX8335)<br
 >Dozierende: Sariyar [sym3]<br>Räume: N319<br>Code: BTX8335a
DTSTAMP:20260425T032901Z
END:VEVENT
BEGIN:VEVENT
UID:69ec34fd7b689
DTSTART:20211020T082000Z
SEQUENCE:0
TRANSP:OPAQUE
DTEND:20211020T095500Z
LOCATION:N319
SUMMARY:Advanced Databases
CLASS:PUBLIC
DESCRIPTION:Veranstaltung: Advanced Databases (BTX8335)\nDozierende: Sariya
 r [sym3]\nRäume: N319\nCode: BTX8335a
X-ALT-DESC;FMTTYPE=text/html:Veranstaltung: Advanced Databases (BTX8335)<br
 >Dozierende: Sariyar [sym3]<br>Räume: N319<br>Code: BTX8335a
DTSTAMP:20260425T032901Z
END:VEVENT
BEGIN:VEVENT
UID:69ec34fd7b6ed
DTSTART:20211027T082000Z
SEQUENCE:0
TRANSP:OPAQUE
DTEND:20211027T095500Z
LOCATION:N319
SUMMARY:Advanced Databases
CLASS:PUBLIC
DESCRIPTION:Veranstaltung: Advanced Databases (BTX8335)\nDozierende: Sariya
 r [sym3]\nRäume: N319\nCode: BTX8335a
X-ALT-DESC;FMTTYPE=text/html:Veranstaltung: Advanced Databases (BTX8335)<br
 >Dozierende: Sariyar [sym3]<br>Räume: N319<br>Code: BTX8335a
DTSTAMP:20260425T032901Z
END:VEVENT
BEGIN:VEVENT
UID:69ec34fd7b752
DTSTART:20211103T092000Z
SEQUENCE:0
TRANSP:OPAQUE
DTEND:20211103T105500Z
LOCATION:N319
SUMMARY:Advanced Databases
CLASS:PUBLIC
DESCRIPTION:Veranstaltung: Advanced Databases (BTX8335)\nDozierende: Sariya
 r [sym3]\nRäume: N319\nCode: BTX8335a
X-ALT-DESC;FMTTYPE=text/html:Veranstaltung: Advanced Databases (BTX8335)<br
 >Dozierende: Sariyar [sym3]<br>Räume: N319<br>Code: BTX8335a
DTSTAMP:20260425T032901Z
END:VEVENT
BEGIN:VEVENT
UID:69ec34fd7b7b7
DTSTART:20211110T092000Z
SEQUENCE:0
TRANSP:OPAQUE
DTEND:20211110T105500Z
LOCATION:N319
SUMMARY:Advanced Databases
CLASS:PUBLIC
DESCRIPTION:Veranstaltung: Advanced Databases (BTX8335)\nDozierende: Sariya
 r [sym3]\nRäume: N319\nCode: BTX8335a
X-ALT-DESC;FMTTYPE=text/html:Veranstaltung: Advanced Databases (BTX8335)<br
 >Dozierende: Sariyar [sym3]<br>Räume: N319<br>Code: BTX8335a
DTSTAMP:20260425T032901Z
END:VEVENT
BEGIN:VEVENT
UID:69ec34fd7b81b
DTSTART:20211117T092000Z
SEQUENCE:0
TRANSP:OPAQUE
DTEND:20211117T105500Z
LOCATION:N319
SUMMARY:Advanced Databases
CLASS:PUBLIC
DESCRIPTION:Veranstaltung: Advanced Databases (BTX8335)\nDozierende: Sariya
 r [sym3]\nRäume: N319\nCode: BTX8335a
X-ALT-DESC;FMTTYPE=text/html:Veranstaltung: Advanced Databases (BTX8335)<br
 >Dozierende: Sariyar [sym3]<br>Räume: N319<br>Code: BTX8335a
DTSTAMP:20260425T032901Z
END:VEVENT
BEGIN:VEVENT
UID:69ec34fd7b880
DTSTART:20211124T092000Z
SEQUENCE:0
TRANSP:OPAQUE
DTEND:20211124T105500Z
LOCATION:N319
SUMMARY:Advanced Databases
CLASS:PUBLIC
DESCRIPTION:Veranstaltung: Advanced Databases (BTX8335)\nDozierende: Sariya
 r [sym3]\nRäume: N319\nCode: BTX8335a
X-ALT-DESC;FMTTYPE=text/html:Veranstaltung: Advanced Databases (BTX8335)<br
 >Dozierende: Sariyar [sym3]<br>Räume: N319<br>Code: BTX8335a
DTSTAMP:20260425T032901Z
END:VEVENT
BEGIN:VEVENT
UID:69ec34fd7b8e6
DTSTART:20211201T092000Z
SEQUENCE:0
TRANSP:OPAQUE
DTEND:20211201T105500Z
LOCATION:N319
SUMMARY:Advanced Databases
CLASS:PUBLIC
DESCRIPTION:Veranstaltung: Advanced Databases (BTX8335)\nDozierende: Sariya
 r [sym3]\nRäume: N319\nCode: BTX8335a
X-ALT-DESC;FMTTYPE=text/html:Veranstaltung: Advanced Databases (BTX8335)<br
 >Dozierende: Sariyar [sym3]<br>Räume: N319<br>Code: BTX8335a
DTSTAMP:20260425T032901Z
END:VEVENT
BEGIN:VEVENT
UID:69ec34fd7b948
DTSTART:20211208T092000Z
SEQUENCE:0
TRANSP:OPAQUE
DTEND:20211208T105500Z
LOCATION:N319
SUMMARY:Advanced Databases
CLASS:PUBLIC
DESCRIPTION:Veranstaltung: Advanced Databases (BTX8335)\nDozierende: Sariya
 r [sym3]\nRäume: N319\nCode: BTX8335a
X-ALT-DESC;FMTTYPE=text/html:Veranstaltung: Advanced Databases (BTX8335)<br
 >Dozierende: Sariyar [sym3]<br>Räume: N319<br>Code: BTX8335a
DTSTAMP:20260425T032901Z
END:VEVENT
BEGIN:VEVENT
UID:69ec34fd7b9ae
DTSTART:20211215T092000Z
SEQUENCE:0
TRANSP:OPAQUE
DTEND:20211215T105500Z
LOCATION:N319
SUMMARY:Advanced Databases
CLASS:PUBLIC
DESCRIPTION:Veranstaltung: Advanced Databases (BTX8335)\nDozierende: Sariya
 r [sym3]\nRäume: N319\nCode: BTX8335a
X-ALT-DESC;FMTTYPE=text/html:Veranstaltung: Advanced Databases (BTX8335)<br
 >Dozierende: Sariyar [sym3]<br>Räume: N319<br>Code: BTX8335a
DTSTAMP:20260425T032901Z
END:VEVENT
BEGIN:VEVENT
UID:69ec34fd7ba0f
DTSTART:20211222T092000Z
SEQUENCE:0
TRANSP:OPAQUE
DTEND:20211222T105500Z
LOCATION:N319
SUMMARY:Advanced Databases
CLASS:PUBLIC
DESCRIPTION:Veranstaltung: Advanced Databases (BTX8335)\nDozierende: Sariya
 r [sym3]\nRäume: N319\nCode: BTX8335a
X-ALT-DESC;FMTTYPE=text/html:Veranstaltung: Advanced Databases (BTX8335)<br
 >Dozierende: Sariyar [sym3]<br>Räume: N319<br>Code: BTX8335a
DTSTAMP:20260425T032901Z
END:VEVENT
BEGIN:VEVENT
UID:69ec34fd7ba72
DTSTART:20220112T092000Z
SEQUENCE:0
TRANSP:OPAQUE
DTEND:20220112T105500Z
LOCATION:N319
SUMMARY:Advanced Databases
CLASS:PUBLIC
DESCRIPTION:Veranstaltung: Advanced Databases (BTX8335)\nDozierende: Sariya
 r [sym3]\nRäume: N319\nCode: BTX8335a
X-ALT-DESC;FMTTYPE=text/html:Veranstaltung: Advanced Databases (BTX8335)<br
 >Dozierende: Sariyar [sym3]<br>Räume: N319<br>Code: BTX8335a
DTSTAMP:20260425T032901Z
END:VEVENT
BEGIN:VEVENT
UID:69ec34fd7bad7
DTSTART:20220119T092000Z
SEQUENCE:0
TRANSP:OPAQUE
DTEND:20220119T105500Z
LOCATION:N319
SUMMARY:Advanced Databases
CLASS:PUBLIC
DESCRIPTION:Veranstaltung: Advanced Databases (BTX8335)\nDozierende: Sariya
 r [sym3]\nRäume: N319\nCode: BTX8335a
X-ALT-DESC;FMTTYPE=text/html:Veranstaltung: Advanced Databases (BTX8335)<br
 >Dozierende: Sariyar [sym3]<br>Räume: N319<br>Code: BTX8335a
DTSTAMP:20260425T032901Z
END:VEVENT
BEGIN:VEVENT
UID:69ec34fd7bb71
DTSTART:20220923T122500Z
SEQUENCE:0
TRANSP:OPAQUE
DTEND:20220923T140000Z
LOCATION:Quell-Q608
SUMMARY:Advanced Databases
CLASS:PUBLIC
DESCRIPTION:Veranstaltung: Advanced Databases (BTX8335)\nDozierende: Sariya
 r [sym3]\nRäume: Quell-Q608\nCode: BTX8335a
X-ALT-DESC;FMTTYPE=text/html:Veranstaltung: Advanced Databases (BTX8335)<br
 >Dozierende: Sariyar [sym3]<br>Räume: Quell-Q608<br>Code: BTX8335a
DTSTAMP:20260425T032901Z
END:VEVENT
BEGIN:VEVENT
UID:69ec34fd7bbd6
DTSTART:20220930T122500Z
SEQUENCE:0
TRANSP:OPAQUE
DTEND:20220930T140000Z
LOCATION:Quell-Q608
SUMMARY:Advanced Databases
CLASS:PUBLIC
DESCRIPTION:Veranstaltung: Advanced Databases (BTX8335)\nDozierende: Sariya
 r [sym3]\nRäume: Quell-Q608\nCode: BTX8335a
X-ALT-DESC;FMTTYPE=text/html:Veranstaltung: Advanced Databases (BTX8335)<br
 >Dozierende: Sariyar [sym3]<br>Räume: Quell-Q608<br>Code: BTX8335a
DTSTAMP:20260425T032901Z
END:VEVENT
BEGIN:VEVENT
UID:69ec34fd7bc38
DTSTART:20221007T122500Z
SEQUENCE:0
TRANSP:OPAQUE
DTEND:20221007T140000Z
LOCATION:Quell-Q608
SUMMARY:Advanced Databases
CLASS:PUBLIC
DESCRIPTION:Veranstaltung: Advanced Databases (BTX8335)\nDozierende: Sariya
 r [sym3]\nRäume: Quell-Q608\nCode: BTX8335a
X-ALT-DESC;FMTTYPE=text/html:Veranstaltung: Advanced Databases (BTX8335)<br
 >Dozierende: Sariyar [sym3]<br>Räume: Quell-Q608<br>Code: BTX8335a
DTSTAMP:20260425T032901Z
END:VEVENT
BEGIN:VEVENT
UID:69ec34fd7bc99
DTSTART:20221014T122500Z
SEQUENCE:0
TRANSP:OPAQUE
DTEND:20221014T140000Z
LOCATION:Quell-Q608
SUMMARY:Advanced Databases
CLASS:PUBLIC
DESCRIPTION:Veranstaltung: Advanced Databases (BTX8335)\nDozierende: Sariya
 r [sym3]\nRäume: Quell-Q608\nCode: BTX8335a
X-ALT-DESC;FMTTYPE=text/html:Veranstaltung: Advanced Databases (BTX8335)<br
 >Dozierende: Sariyar [sym3]<br>Räume: Quell-Q608<br>Code: BTX8335a
DTSTAMP:20260425T032901Z
END:VEVENT
BEGIN:VEVENT
UID:69ec34fd7bd01
DTSTART:20221021T122500Z
SEQUENCE:0
TRANSP:OPAQUE
DTEND:20221021T140000Z
LOCATION:Quell-Q608
SUMMARY:Advanced Databases
CLASS:PUBLIC
DESCRIPTION:Veranstaltung: Advanced Databases (BTX8335)\nDozierende: Sariya
 r [sym3]\nRäume: Quell-Q608\nCode: BTX8335a
X-ALT-DESC;FMTTYPE=text/html:Veranstaltung: Advanced Databases (BTX8335)<br
 >Dozierende: Sariyar [sym3]<br>Räume: Quell-Q608<br>Code: BTX8335a
DTSTAMP:20260425T032901Z
END:VEVENT
BEGIN:VEVENT
UID:69ec34fd7bd66
DTSTART:20221028T122500Z
SEQUENCE:0
TRANSP:OPAQUE
DTEND:20221028T140000Z
LOCATION:Quell-Q608
SUMMARY:Advanced Databases
CLASS:PUBLIC
DESCRIPTION:Veranstaltung: Advanced Databases (BTX8335)\nDozierende: Sariya
 r [sym3]\nRäume: Quell-Q608\nCode: BTX8335a
X-ALT-DESC;FMTTYPE=text/html:Veranstaltung: Advanced Databases (BTX8335)<br
 >Dozierende: Sariyar [sym3]<br>Räume: Quell-Q608<br>Code: BTX8335a
DTSTAMP:20260425T032901Z
END:VEVENT
BEGIN:VEVENT
UID:69ec34fd7bdcd
DTSTART:20221104T132500Z
SEQUENCE:0
TRANSP:OPAQUE
DTEND:20221104T150000Z
LOCATION:Quell-Q608
SUMMARY:Advanced Databases
CLASS:PUBLIC
DESCRIPTION:Veranstaltung: Advanced Databases (BTX8335)\nDozierende: Sariya
 r [sym3]\nRäume: Quell-Q608\nCode: BTX8335a
X-ALT-DESC;FMTTYPE=text/html:Veranstaltung: Advanced Databases (BTX8335)<br
 >Dozierende: Sariyar [sym3]<br>Räume: Quell-Q608<br>Code: BTX8335a
DTSTAMP:20260425T032901Z
END:VEVENT
BEGIN:VEVENT
UID:69ec34fd7be2e
DTSTART:20221111T132500Z
SEQUENCE:0
TRANSP:OPAQUE
DTEND:20221111T150000Z
LOCATION:Quell-Q608
SUMMARY:Advanced Databases
CLASS:PUBLIC
DESCRIPTION:Veranstaltung: Advanced Databases (BTX8335)\nDozierende: Sariya
 r [sym3]\nRäume: Quell-Q608\nCode: BTX8335a
X-ALT-DESC;FMTTYPE=text/html:Veranstaltung: Advanced Databases (BTX8335)<br
 >Dozierende: Sariyar [sym3]<br>Räume: Quell-Q608<br>Code: BTX8335a
DTSTAMP:20260425T032901Z
END:VEVENT
BEGIN:VEVENT
UID:69ec34fd7be93
DTSTART:20221118T132500Z
SEQUENCE:0
TRANSP:OPAQUE
DTEND:20221118T150000Z
LOCATION:Quell-Q608
SUMMARY:Advanced Databases
CLASS:PUBLIC
DESCRIPTION:Veranstaltung: Advanced Databases (BTX8335)\nDozierende: Sariya
 r [sym3]\nRäume: Quell-Q608\nCode: BTX8335a
X-ALT-DESC;FMTTYPE=text/html:Veranstaltung: Advanced Databases (BTX8335)<br
 >Dozierende: Sariyar [sym3]<br>Räume: Quell-Q608<br>Code: BTX8335a
DTSTAMP:20260425T032901Z
END:VEVENT
BEGIN:VEVENT
UID:69ec34fd7bef6
DTSTART:20221125T132500Z
SEQUENCE:0
TRANSP:OPAQUE
DTEND:20221125T150000Z
LOCATION:Quell-Q608
SUMMARY:Advanced Databases
CLASS:PUBLIC
DESCRIPTION:Veranstaltung: Advanced Databases (BTX8335)\nDozierende: Sariya
 r [sym3]\nRäume: Quell-Q608\nCode: BTX8335a
X-ALT-DESC;FMTTYPE=text/html:Veranstaltung: Advanced Databases (BTX8335)<br
 >Dozierende: Sariyar [sym3]<br>Räume: Quell-Q608<br>Code: BTX8335a
DTSTAMP:20260425T032901Z
END:VEVENT
BEGIN:VEVENT
UID:69ec34fd7bf59
DTSTART:20221202T132500Z
SEQUENCE:0
TRANSP:OPAQUE
DTEND:20221202T150000Z
LOCATION:Quell-Q608
SUMMARY:Advanced Databases
CLASS:PUBLIC
DESCRIPTION:Veranstaltung: Advanced Databases (BTX8335)\nDozierende: Sariya
 r [sym3]\nRäume: Quell-Q608\nCode: BTX8335a
X-ALT-DESC;FMTTYPE=text/html:Veranstaltung: Advanced Databases (BTX8335)<br
 >Dozierende: Sariyar [sym3]<br>Räume: Quell-Q608<br>Code: BTX8335a
DTSTAMP:20260425T032901Z
END:VEVENT
BEGIN:VEVENT
UID:69ec34fd7bfbc
DTSTART:20221209T132500Z
SEQUENCE:0
TRANSP:OPAQUE
DTEND:20221209T150000Z
LOCATION:Quell-Q608
SUMMARY:Advanced Databases
CLASS:PUBLIC
DESCRIPTION:Veranstaltung: Advanced Databases (BTX8335)\nDozierende: Sariya
 r [sym3]\nRäume: Quell-Q608\nCode: BTX8335a
X-ALT-DESC;FMTTYPE=text/html:Veranstaltung: Advanced Databases (BTX8335)<br
 >Dozierende: Sariyar [sym3]<br>Räume: Quell-Q608<br>Code: BTX8335a
DTSTAMP:20260425T032901Z
END:VEVENT
BEGIN:VEVENT
UID:69ec34fd7c027
DTSTART:20221216T132500Z
SEQUENCE:0
TRANSP:OPAQUE
DTEND:20221216T150000Z
LOCATION:Quell-Q608
SUMMARY:Advanced Databases
CLASS:PUBLIC
DESCRIPTION:Veranstaltung: Advanced Databases (BTX8335)\nDozierende: Sariya
 r [sym3]\nRäume: Quell-Q608\nCode: BTX8335a
X-ALT-DESC;FMTTYPE=text/html:Veranstaltung: Advanced Databases (BTX8335)<br
 >Dozierende: Sariyar [sym3]<br>Räume: Quell-Q608<br>Code: BTX8335a
DTSTAMP:20260425T032901Z
END:VEVENT
BEGIN:VEVENT
UID:69ec34fd7c08a
DTSTART:20221223T132500Z
SEQUENCE:0
TRANSP:OPAQUE
DTEND:20221223T150000Z
LOCATION:Quell-Q608
SUMMARY:Advanced Databases
CLASS:PUBLIC
DESCRIPTION:Veranstaltung: Advanced Databases (BTX8335)\nDozierende: Sariya
 r [sym3]\nRäume: Quell-Q608\nCode: BTX8335a
X-ALT-DESC;FMTTYPE=text/html:Veranstaltung: Advanced Databases (BTX8335)<br
 >Dozierende: Sariyar [sym3]<br>Räume: Quell-Q608<br>Code: BTX8335a
DTSTAMP:20260425T032901Z
END:VEVENT
BEGIN:VEVENT
UID:69ec34fd7c0f1
DTSTART:20230113T132500Z
SEQUENCE:0
TRANSP:OPAQUE
DTEND:20230113T150000Z
LOCATION:Quell-Q608
SUMMARY:Advanced Databases
CLASS:PUBLIC
DESCRIPTION:Veranstaltung: Advanced Databases (BTX8335)\nDozierende: Sariya
 r [sym3]\nRäume: Quell-Q608\nCode: BTX8335a
X-ALT-DESC;FMTTYPE=text/html:Veranstaltung: Advanced Databases (BTX8335)<br
 >Dozierende: Sariyar [sym3]<br>Räume: Quell-Q608<br>Code: BTX8335a
DTSTAMP:20260425T032901Z
END:VEVENT
BEGIN:VEVENT
UID:69ec34fd7c154
DTSTART:20230120T132500Z
SEQUENCE:0
TRANSP:OPAQUE
DTEND:20230120T150000Z
LOCATION:Quell-Q608
SUMMARY:Advanced Databases
CLASS:PUBLIC
DESCRIPTION:Veranstaltung: Advanced Databases (BTX8335)\nDozierende: Sariya
 r [sym3]\nRäume: Quell-Q608\nCode: BTX8335a
X-ALT-DESC;FMTTYPE=text/html:Veranstaltung: Advanced Databases (BTX8335)<br
 >Dozierende: Sariyar [sym3]<br>Räume: Quell-Q608<br>Code: BTX8335a
DTSTAMP:20260425T032901Z
END:VEVENT
BEGIN:VEVENT
UID:69ec34fd7c1ba
DTSTART:20280922T122500Z
SEQUENCE:0
TRANSP:OPAQUE
DTEND:20280922T140000Z
LOCATION:CBB-X608
SUMMARY:Advanced Databases
CLASS:PUBLIC
DESCRIPTION:Veranstaltung: Advanced Databases (BTX8335)\nDozierende: Sariya
 r [sym3]\nRäume: CBB-X608\nCode: BTX8335a
X-ALT-DESC;FMTTYPE=text/html:Veranstaltung: Advanced Databases (BTX8335)<br
 >Dozierende: Sariyar [sym3]<br>Räume: CBB-X608<br>Code: BTX8335a
DTSTAMP:20260425T032901Z
END:VEVENT
END:VCALENDAR