BEGIN:VCALENDAR
VERSION:2.0
PRODID:www.bfh.ch
X-APPLE-CALENDAR-COLOR:Orange
X-OUTLOOK-COLOR:Orange
X-FUNAMBOL-COLOR:Orange
X-WR-CALNAME:Übersicht BZG2242
BEGIN:VEVENT
UID:69ebe63a07b60
DTSTART:20220221T072000Z
SEQUENCE:0
TRANSP:OPAQUE
DTEND:20220221T085500Z
LOCATION:Q609
SUMMARY:Physik 4 (ABT E)
CLASS:PUBLIC
DESCRIPTION:Veranstaltung: Physik 4 (ABT E) (BZG2242)\nDozierende: Nelis [n
 lt1]\nRäume: Q609\nCode: BZG2242a\nKommentar: PM - Bi - df -
X-ALT-DESC;FMTTYPE=text/html:Veranstaltung: Physik 4 (ABT E) (BZG2242)<br>D
 ozierende: Nelis [nlt1]<br>Räume: Q609<br>Code: BZG2242a<br>Kommentar: PM
  - Bi - df -
DTSTAMP:20260424T215258Z
END:VEVENT
BEGIN:VEVENT
UID:69ebe63a07c34
DTSTART:20220222T114500Z
SEQUENCE:0
TRANSP:OPAQUE
DTEND:20220222T132000Z
LOCATION:E013
SUMMARY:Physik 4 (ABT E)
CLASS:PUBLIC
DESCRIPTION:Veranstaltung: Physik 4 (ABT E) (BZG2242)\nDozierende: Bucher [
 bhg1]\nRäume: E013\nCode: BZG2242i\nKommentar: PM - Bu - d -
X-ALT-DESC;FMTTYPE=text/html:Veranstaltung: Physik 4 (ABT E) (BZG2242)<br>D
 ozierende: Bucher [bhg1]<br>Räume: E013<br>Code: BZG2242i<br>Kommentar: P
 M - Bu - d -
DTSTAMP:20260424T215258Z
END:VEVENT
BEGIN:VEVENT
UID:69ebe63a07c6d
DTSTART:20220223T171000Z
SEQUENCE:0
TRANSP:OPAQUE
DTEND:20220223T184500Z
LOCATION:E013
SUMMARY:Physik 4 (ABT E)
CLASS:PUBLIC
DESCRIPTION:Veranstaltung: Physik 4 (ABT E) (BZG2242)\nDozierende: Bucher [
 bhg1]\nRäume: E013\nCode: BZG2242j\nKommentar: PM - Bu - d -
X-ALT-DESC;FMTTYPE=text/html:Veranstaltung: Physik 4 (ABT E) (BZG2242)<br>D
 ozierende: Bucher [bhg1]<br>Räume: E013<br>Code: BZG2242j<br>Kommentar: P
 M - Bu - d -
DTSTAMP:20260424T215258Z
END:VEVENT
BEGIN:VEVENT
UID:69ebe63a07c9b
DTSTART:20220228T072000Z
SEQUENCE:0
TRANSP:OPAQUE
DTEND:20220228T085500Z
LOCATION:Q609
SUMMARY:Physik 4 (ABT E)
CLASS:PUBLIC
DESCRIPTION:Veranstaltung: Physik 4 (ABT E) (BZG2242)\nDozierende: Nelis [n
 lt1]\nRäume: Q609\nCode: BZG2242a\nKommentar: PM - Bi - df -
X-ALT-DESC;FMTTYPE=text/html:Veranstaltung: Physik 4 (ABT E) (BZG2242)<br>D
 ozierende: Nelis [nlt1]<br>Räume: Q609<br>Code: BZG2242a<br>Kommentar: PM
  - Bi - df -
DTSTAMP:20260424T215258Z
END:VEVENT
BEGIN:VEVENT
UID:69ebe63a07cc8
DTSTART:20220301T114500Z
SEQUENCE:0
TRANSP:OPAQUE
DTEND:20220301T132000Z
LOCATION:E013
SUMMARY:Physik 4 (ABT E)
CLASS:PUBLIC
DESCRIPTION:Veranstaltung: Physik 4 (ABT E) (BZG2242)\nDozierende: Bucher [
 bhg1]\nRäume: E013\nCode: BZG2242i\nKommentar: PM - Bu - d -
X-ALT-DESC;FMTTYPE=text/html:Veranstaltung: Physik 4 (ABT E) (BZG2242)<br>D
 ozierende: Bucher [bhg1]<br>Räume: E013<br>Code: BZG2242i<br>Kommentar: P
 M - Bu - d -
DTSTAMP:20260424T215258Z
END:VEVENT
BEGIN:VEVENT
UID:69ebe63a07cf7
DTSTART:20220302T171000Z
SEQUENCE:0
TRANSP:OPAQUE
DTEND:20220302T184500Z
LOCATION:E013
SUMMARY:Physik 4 (ABT E)
CLASS:PUBLIC
DESCRIPTION:Veranstaltung: Physik 4 (ABT E) (BZG2242)\nDozierende: Bucher [
 bhg1]\nRäume: E013\nCode: BZG2242j\nKommentar: PM - Bu - d -
X-ALT-DESC;FMTTYPE=text/html:Veranstaltung: Physik 4 (ABT E) (BZG2242)<br>D
 ozierende: Bucher [bhg1]<br>Räume: E013<br>Code: BZG2242j<br>Kommentar: P
 M - Bu - d -
DTSTAMP:20260424T215258Z
END:VEVENT
BEGIN:VEVENT
UID:69ebe63a07d23
DTSTART:20220307T072000Z
SEQUENCE:0
TRANSP:OPAQUE
DTEND:20220307T085500Z
LOCATION:Q609
SUMMARY:Physik 4 (ABT E)
CLASS:PUBLIC
DESCRIPTION:Veranstaltung: Physik 4 (ABT E) (BZG2242)\nDozierende: Nelis [n
 lt1]\nRäume: Q609\nCode: BZG2242a\nKommentar: PM - Bi - df -
X-ALT-DESC;FMTTYPE=text/html:Veranstaltung: Physik 4 (ABT E) (BZG2242)<br>D
 ozierende: Nelis [nlt1]<br>Räume: Q609<br>Code: BZG2242a<br>Kommentar: PM
  - Bi - df -
DTSTAMP:20260424T215258Z
END:VEVENT
BEGIN:VEVENT
UID:69ebe63a07d51
DTSTART:20220308T114500Z
SEQUENCE:0
TRANSP:OPAQUE
DTEND:20220308T132000Z
LOCATION:E013
SUMMARY:Physik 4 (ABT E)
CLASS:PUBLIC
DESCRIPTION:Veranstaltung: Physik 4 (ABT E) (BZG2242)\nDozierende: Bucher [
 bhg1]\nRäume: E013\nCode: BZG2242i\nKommentar: PM - Bu - d -
X-ALT-DESC;FMTTYPE=text/html:Veranstaltung: Physik 4 (ABT E) (BZG2242)<br>D
 ozierende: Bucher [bhg1]<br>Räume: E013<br>Code: BZG2242i<br>Kommentar: P
 M - Bu - d -
DTSTAMP:20260424T215258Z
END:VEVENT
BEGIN:VEVENT
UID:69ebe63a07d7e
DTSTART:20220309T171000Z
SEQUENCE:0
TRANSP:OPAQUE
DTEND:20220309T184500Z
LOCATION:E013
SUMMARY:Physik 4 (ABT E)
CLASS:PUBLIC
DESCRIPTION:Veranstaltung: Physik 4 (ABT E) (BZG2242)\nDozierende: Bucher [
 bhg1]\nRäume: E013\nCode: BZG2242j\nKommentar: PM - Bu - d -
X-ALT-DESC;FMTTYPE=text/html:Veranstaltung: Physik 4 (ABT E) (BZG2242)<br>D
 ozierende: Bucher [bhg1]<br>Räume: E013<br>Code: BZG2242j<br>Kommentar: P
 M - Bu - d -
DTSTAMP:20260424T215258Z
END:VEVENT
BEGIN:VEVENT
UID:69ebe63a07dab
DTSTART:20220314T072000Z
SEQUENCE:0
TRANSP:OPAQUE
DTEND:20220314T085500Z
LOCATION:Q609
SUMMARY:Physik 4 (ABT E)
CLASS:PUBLIC
DESCRIPTION:Veranstaltung: Physik 4 (ABT E) (BZG2242)\nDozierende: Nelis [n
 lt1]\nRäume: Q609\nCode: BZG2242a\nKommentar: PM - Bi - df -
X-ALT-DESC;FMTTYPE=text/html:Veranstaltung: Physik 4 (ABT E) (BZG2242)<br>D
 ozierende: Nelis [nlt1]<br>Räume: Q609<br>Code: BZG2242a<br>Kommentar: PM
  - Bi - df -
DTSTAMP:20260424T215258Z
END:VEVENT
BEGIN:VEVENT
UID:69ebe63a07dd6
DTSTART:20220315T114500Z
SEQUENCE:0
TRANSP:OPAQUE
DTEND:20220315T132000Z
LOCATION:E013
SUMMARY:Physik 4 (ABT E)
CLASS:PUBLIC
DESCRIPTION:Veranstaltung: Physik 4 (ABT E) (BZG2242)\nDozierende: Bucher [
 bhg1]\nRäume: E013\nCode: BZG2242i\nKommentar: PM - Bu - d -
X-ALT-DESC;FMTTYPE=text/html:Veranstaltung: Physik 4 (ABT E) (BZG2242)<br>D
 ozierende: Bucher [bhg1]<br>Räume: E013<br>Code: BZG2242i<br>Kommentar: P
 M - Bu - d -
DTSTAMP:20260424T215258Z
END:VEVENT
BEGIN:VEVENT
UID:69ebe63a07e01
DTSTART:20220316T171000Z
SEQUENCE:0
TRANSP:OPAQUE
DTEND:20220316T184500Z
LOCATION:E013
SUMMARY:Physik 4 (ABT E)
CLASS:PUBLIC
DESCRIPTION:Veranstaltung: Physik 4 (ABT E) (BZG2242)\nDozierende: Bucher [
 bhg1]\nRäume: E013\nCode: BZG2242j\nKommentar: PM - Bu - d -
X-ALT-DESC;FMTTYPE=text/html:Veranstaltung: Physik 4 (ABT E) (BZG2242)<br>D
 ozierende: Bucher [bhg1]<br>Räume: E013<br>Code: BZG2242j<br>Kommentar: P
 M - Bu - d -
DTSTAMP:20260424T215258Z
END:VEVENT
BEGIN:VEVENT
UID:69ebe63a07e2e
DTSTART:20220321T072000Z
SEQUENCE:0
TRANSP:OPAQUE
DTEND:20220321T085500Z
LOCATION:Q609
SUMMARY:Physik 4 (ABT E)
CLASS:PUBLIC
DESCRIPTION:Veranstaltung: Physik 4 (ABT E) (BZG2242)\nDozierende: Nelis [n
 lt1]\nRäume: Q609\nCode: BZG2242a\nKommentar: PM - Bi - df -
X-ALT-DESC;FMTTYPE=text/html:Veranstaltung: Physik 4 (ABT E) (BZG2242)<br>D
 ozierende: Nelis [nlt1]<br>Räume: Q609<br>Code: BZG2242a<br>Kommentar: PM
  - Bi - df -
DTSTAMP:20260424T215258Z
END:VEVENT
BEGIN:VEVENT
UID:69ebe63a07e5a
DTSTART:20220322T114500Z
SEQUENCE:0
TRANSP:OPAQUE
DTEND:20220322T132000Z
LOCATION:E013
SUMMARY:Physik 4 (ABT E)
CLASS:PUBLIC
DESCRIPTION:Veranstaltung: Physik 4 (ABT E) (BZG2242)\nDozierende: Bucher [
 bhg1]\nRäume: E013\nCode: BZG2242i\nKommentar: PM - Bu - d -
X-ALT-DESC;FMTTYPE=text/html:Veranstaltung: Physik 4 (ABT E) (BZG2242)<br>D
 ozierende: Bucher [bhg1]<br>Räume: E013<br>Code: BZG2242i<br>Kommentar: P
 M - Bu - d -
DTSTAMP:20260424T215258Z
END:VEVENT
BEGIN:VEVENT
UID:69ebe63a07e86
DTSTART:20220323T171000Z
SEQUENCE:0
TRANSP:OPAQUE
DTEND:20220323T184500Z
LOCATION:E013
SUMMARY:Physik 4 (ABT E)
CLASS:PUBLIC
DESCRIPTION:Veranstaltung: Physik 4 (ABT E) (BZG2242)\nDozierende: Bucher [
 bhg1]\nRäume: E013\nCode: BZG2242j\nKommentar: PM - Bu - d -
X-ALT-DESC;FMTTYPE=text/html:Veranstaltung: Physik 4 (ABT E) (BZG2242)<br>D
 ozierende: Bucher [bhg1]<br>Räume: E013<br>Code: BZG2242j<br>Kommentar: P
 M - Bu - d -
DTSTAMP:20260424T215258Z
END:VEVENT
BEGIN:VEVENT
UID:69ebe63a07eb0
DTSTART:20220328T062000Z
SEQUENCE:0
TRANSP:OPAQUE
DTEND:20220328T075500Z
LOCATION:Q609
SUMMARY:Physik 4 (ABT E)
CLASS:PUBLIC
DESCRIPTION:Veranstaltung: Physik 4 (ABT E) (BZG2242)\nDozierende: Nelis [n
 lt1]\nRäume: Q609\nCode: BZG2242a\nKommentar: PM - Bi - df -
X-ALT-DESC;FMTTYPE=text/html:Veranstaltung: Physik 4 (ABT E) (BZG2242)<br>D
 ozierende: Nelis [nlt1]<br>Räume: Q609<br>Code: BZG2242a<br>Kommentar: PM
  - Bi - df -
DTSTAMP:20260424T215258Z
END:VEVENT
BEGIN:VEVENT
UID:69ebe63a07edb
DTSTART:20220329T104500Z
SEQUENCE:0
TRANSP:OPAQUE
DTEND:20220329T122000Z
LOCATION:E013
SUMMARY:Physik 4 (ABT E)
CLASS:PUBLIC
DESCRIPTION:Veranstaltung: Physik 4 (ABT E) (BZG2242)\nDozierende: Bucher [
 bhg1]\nRäume: E013\nCode: BZG2242i\nKommentar: PM - Bu - d -
X-ALT-DESC;FMTTYPE=text/html:Veranstaltung: Physik 4 (ABT E) (BZG2242)<br>D
 ozierende: Bucher [bhg1]<br>Räume: E013<br>Code: BZG2242i<br>Kommentar: P
 M - Bu - d -
DTSTAMP:20260424T215258Z
END:VEVENT
BEGIN:VEVENT
UID:69ebe63a07f05
DTSTART:20220330T161000Z
SEQUENCE:0
TRANSP:OPAQUE
DTEND:20220330T174500Z
LOCATION:E013
SUMMARY:Physik 4 (ABT E)
CLASS:PUBLIC
DESCRIPTION:Veranstaltung: Physik 4 (ABT E) (BZG2242)\nDozierende: Bucher [
 bhg1]\nRäume: E013\nCode: BZG2242j\nKommentar: PM - Bu - d -
X-ALT-DESC;FMTTYPE=text/html:Veranstaltung: Physik 4 (ABT E) (BZG2242)<br>D
 ozierende: Bucher [bhg1]<br>Räume: E013<br>Code: BZG2242j<br>Kommentar: P
 M - Bu - d -
DTSTAMP:20260424T215258Z
END:VEVENT
BEGIN:VEVENT
UID:69ebe63a07f30
DTSTART:20220404T062000Z
SEQUENCE:0
TRANSP:OPAQUE
DTEND:20220404T075500Z
LOCATION:Q609
SUMMARY:Physik 4 (ABT E)
CLASS:PUBLIC
DESCRIPTION:Veranstaltung: Physik 4 (ABT E) (BZG2242)\nDozierende: Nelis [n
 lt1]\nRäume: Q609\nCode: BZG2242a\nKommentar: PM - Bi - df -
X-ALT-DESC;FMTTYPE=text/html:Veranstaltung: Physik 4 (ABT E) (BZG2242)<br>D
 ozierende: Nelis [nlt1]<br>Räume: Q609<br>Code: BZG2242a<br>Kommentar: PM
  - Bi - df -
DTSTAMP:20260424T215258Z
END:VEVENT
BEGIN:VEVENT
UID:69ebe63a07f5d
DTSTART:20220405T104500Z
SEQUENCE:0
TRANSP:OPAQUE
DTEND:20220405T122000Z
LOCATION:E013
SUMMARY:Physik 4 (ABT E)
CLASS:PUBLIC
DESCRIPTION:Veranstaltung: Physik 4 (ABT E) (BZG2242)\nDozierende: Bucher [
 bhg1]\nRäume: E013\nCode: BZG2242i\nKommentar: PM - Bu - d -
X-ALT-DESC;FMTTYPE=text/html:Veranstaltung: Physik 4 (ABT E) (BZG2242)<br>D
 ozierende: Bucher [bhg1]<br>Räume: E013<br>Code: BZG2242i<br>Kommentar: P
 M - Bu - d -
DTSTAMP:20260424T215258Z
END:VEVENT
BEGIN:VEVENT
UID:69ebe63a07f89
DTSTART:20220406T161000Z
SEQUENCE:0
TRANSP:OPAQUE
DTEND:20220406T174500Z
LOCATION:E013
SUMMARY:Physik 4 (ABT E)
CLASS:PUBLIC
DESCRIPTION:Veranstaltung: Physik 4 (ABT E) (BZG2242)\nDozierende: Bucher [
 bhg1]\nRäume: E013\nCode: BZG2242j\nKommentar: PM - Bu - d -
X-ALT-DESC;FMTTYPE=text/html:Veranstaltung: Physik 4 (ABT E) (BZG2242)<br>D
 ozierende: Bucher [bhg1]<br>Räume: E013<br>Code: BZG2242j<br>Kommentar: P
 M - Bu - d -
DTSTAMP:20260424T215258Z
END:VEVENT
BEGIN:VEVENT
UID:69ebe63a07fb4
DTSTART:20220419T104500Z
SEQUENCE:0
TRANSP:OPAQUE
DTEND:20220419T122000Z
LOCATION:E013
SUMMARY:Physik 4 (ABT E)
CLASS:PUBLIC
DESCRIPTION:Veranstaltung: Physik 4 (ABT E) (BZG2242)\nDozierende: Bucher [
 bhg1]\nRäume: E013\nCode: BZG2242i\nKommentar: PM - Bu - d -
X-ALT-DESC;FMTTYPE=text/html:Veranstaltung: Physik 4 (ABT E) (BZG2242)<br>D
 ozierende: Bucher [bhg1]<br>Räume: E013<br>Code: BZG2242i<br>Kommentar: P
 M - Bu - d -
DTSTAMP:20260424T215258Z
END:VEVENT
BEGIN:VEVENT
UID:69ebe63a07fdf
DTSTART:20220420T161000Z
SEQUENCE:0
TRANSP:OPAQUE
DTEND:20220420T174500Z
LOCATION:E013
SUMMARY:Physik 4 (ABT E)
CLASS:PUBLIC
DESCRIPTION:Veranstaltung: Physik 4 (ABT E) (BZG2242)\nDozierende: Bucher [
 bhg1]\nRäume: E013\nCode: BZG2242j\nKommentar: PM - Bu - d -
X-ALT-DESC;FMTTYPE=text/html:Veranstaltung: Physik 4 (ABT E) (BZG2242)<br>D
 ozierende: Bucher [bhg1]<br>Räume: E013<br>Code: BZG2242j<br>Kommentar: P
 M - Bu - d -
DTSTAMP:20260424T215258Z
END:VEVENT
BEGIN:VEVENT
UID:69ebe63a0800c
DTSTART:20220425T062000Z
SEQUENCE:0
TRANSP:OPAQUE
DTEND:20220425T075500Z
LOCATION:Q609
SUMMARY:Physik 4 (ABT E)
CLASS:PUBLIC
DESCRIPTION:Veranstaltung: Physik 4 (ABT E) (BZG2242)\nDozierende: Nelis [n
 lt1]\nRäume: Q609\nCode: BZG2242a\nKommentar: PM - Bi - df -
X-ALT-DESC;FMTTYPE=text/html:Veranstaltung: Physik 4 (ABT E) (BZG2242)<br>D
 ozierende: Nelis [nlt1]<br>Räume: Q609<br>Code: BZG2242a<br>Kommentar: PM
  - Bi - df -
DTSTAMP:20260424T215258Z
END:VEVENT
BEGIN:VEVENT
UID:69ebe63a08038
DTSTART:20220426T104500Z
SEQUENCE:0
TRANSP:OPAQUE
DTEND:20220426T122000Z
LOCATION:E013
SUMMARY:Physik 4 (ABT E)
CLASS:PUBLIC
DESCRIPTION:Veranstaltung: Physik 4 (ABT E) (BZG2242)\nDozierende: Bucher [
 bhg1]\nRäume: E013\nCode: BZG2242i\nKommentar: PM - Bu - d -
X-ALT-DESC;FMTTYPE=text/html:Veranstaltung: Physik 4 (ABT E) (BZG2242)<br>D
 ozierende: Bucher [bhg1]<br>Räume: E013<br>Code: BZG2242i<br>Kommentar: P
 M - Bu - d -
DTSTAMP:20260424T215258Z
END:VEVENT
BEGIN:VEVENT
UID:69ebe63a08063
DTSTART:20220427T161000Z
SEQUENCE:0
TRANSP:OPAQUE
DTEND:20220427T174500Z
LOCATION:E013
SUMMARY:Physik 4 (ABT E)
CLASS:PUBLIC
DESCRIPTION:Veranstaltung: Physik 4 (ABT E) (BZG2242)\nDozierende: Bucher [
 bhg1]\nRäume: E013\nCode: BZG2242j\nKommentar: PM - Bu - d -
X-ALT-DESC;FMTTYPE=text/html:Veranstaltung: Physik 4 (ABT E) (BZG2242)<br>D
 ozierende: Bucher [bhg1]<br>Räume: E013<br>Code: BZG2242j<br>Kommentar: P
 M - Bu - d -
DTSTAMP:20260424T215258Z
END:VEVENT
BEGIN:VEVENT
UID:69ebe63a08090
DTSTART:20220502T062000Z
SEQUENCE:0
TRANSP:OPAQUE
DTEND:20220502T075500Z
LOCATION:Q609
SUMMARY:Physik 4 (ABT E)
CLASS:PUBLIC
DESCRIPTION:Veranstaltung: Physik 4 (ABT E) (BZG2242)\nDozierende: Nelis [n
 lt1]\nRäume: Q609\nCode: BZG2242a\nKommentar: PM - Bi - df -
X-ALT-DESC;FMTTYPE=text/html:Veranstaltung: Physik 4 (ABT E) (BZG2242)<br>D
 ozierende: Nelis [nlt1]<br>Räume: Q609<br>Code: BZG2242a<br>Kommentar: PM
  - Bi - df -
DTSTAMP:20260424T215258Z
END:VEVENT
BEGIN:VEVENT
UID:69ebe63a080bb
DTSTART:20220503T104500Z
SEQUENCE:0
TRANSP:OPAQUE
DTEND:20220503T122000Z
LOCATION:E013
SUMMARY:Physik 4 (ABT E)
CLASS:PUBLIC
DESCRIPTION:Veranstaltung: Physik 4 (ABT E) (BZG2242)\nDozierende: Bucher [
 bhg1]\nRäume: E013\nCode: BZG2242i\nKommentar: PM - Bu - d -
X-ALT-DESC;FMTTYPE=text/html:Veranstaltung: Physik 4 (ABT E) (BZG2242)<br>D
 ozierende: Bucher [bhg1]<br>Räume: E013<br>Code: BZG2242i<br>Kommentar: P
 M - Bu - d -
DTSTAMP:20260424T215258Z
END:VEVENT
BEGIN:VEVENT
UID:69ebe63a080e6
DTSTART:20220504T161000Z
SEQUENCE:0
TRANSP:OPAQUE
DTEND:20220504T174500Z
LOCATION:E013
SUMMARY:Physik 4 (ABT E)
CLASS:PUBLIC
DESCRIPTION:Veranstaltung: Physik 4 (ABT E) (BZG2242)\nDozierende: Bucher [
 bhg1]\nRäume: E013\nCode: BZG2242j\nKommentar: PM - Bu - d -
X-ALT-DESC;FMTTYPE=text/html:Veranstaltung: Physik 4 (ABT E) (BZG2242)<br>D
 ozierende: Bucher [bhg1]<br>Räume: E013<br>Code: BZG2242j<br>Kommentar: P
 M - Bu - d -
DTSTAMP:20260424T215258Z
END:VEVENT
BEGIN:VEVENT
UID:69ebe63a08111
DTSTART:20220509T062000Z
SEQUENCE:0
TRANSP:OPAQUE
DTEND:20220509T075500Z
LOCATION:Q609
SUMMARY:Physik 4 (ABT E)
CLASS:PUBLIC
DESCRIPTION:Veranstaltung: Physik 4 (ABT E) (BZG2242)\nDozierende: Nelis [n
 lt1]\nRäume: Q609\nCode: BZG2242a\nKommentar: PM - Bi - df -
X-ALT-DESC;FMTTYPE=text/html:Veranstaltung: Physik 4 (ABT E) (BZG2242)<br>D
 ozierende: Nelis [nlt1]<br>Räume: Q609<br>Code: BZG2242a<br>Kommentar: PM
  - Bi - df -
DTSTAMP:20260424T215258Z
END:VEVENT
BEGIN:VEVENT
UID:69ebe63a08143
DTSTART:20220510T104500Z
SEQUENCE:0
TRANSP:OPAQUE
DTEND:20220510T122000Z
LOCATION:E013
SUMMARY:Physik 4 (ABT E)
CLASS:PUBLIC
DESCRIPTION:Veranstaltung: Physik 4 (ABT E) (BZG2242)\nDozierende: Bucher [
 bhg1]\nRäume: E013\nCode: BZG2242i\nKommentar: PM - Bu - d -
X-ALT-DESC;FMTTYPE=text/html:Veranstaltung: Physik 4 (ABT E) (BZG2242)<br>D
 ozierende: Bucher [bhg1]<br>Räume: E013<br>Code: BZG2242i<br>Kommentar: P
 M - Bu - d -
DTSTAMP:20260424T215258Z
END:VEVENT
BEGIN:VEVENT
UID:69ebe63a0816f
DTSTART:20220511T161000Z
SEQUENCE:0
TRANSP:OPAQUE
DTEND:20220511T174500Z
LOCATION:E013
SUMMARY:Physik 4 (ABT E)
CLASS:PUBLIC
DESCRIPTION:Veranstaltung: Physik 4 (ABT E) (BZG2242)\nDozierende: Bucher [
 bhg1]\nRäume: E013\nCode: BZG2242j\nKommentar: PM - Bu - d -
X-ALT-DESC;FMTTYPE=text/html:Veranstaltung: Physik 4 (ABT E) (BZG2242)<br>D
 ozierende: Bucher [bhg1]<br>Räume: E013<br>Code: BZG2242j<br>Kommentar: P
 M - Bu - d -
DTSTAMP:20260424T215258Z
END:VEVENT
BEGIN:VEVENT
UID:69ebe63a0819b
DTSTART:20220516T062000Z
SEQUENCE:0
TRANSP:OPAQUE
DTEND:20220516T075500Z
LOCATION:Q609
SUMMARY:Physik 4 (ABT E)
CLASS:PUBLIC
DESCRIPTION:Veranstaltung: Physik 4 (ABT E) (BZG2242)\nDozierende: Nelis [n
 lt1]\nRäume: Q609\nCode: BZG2242a\nKommentar: PM - Bi - df -
X-ALT-DESC;FMTTYPE=text/html:Veranstaltung: Physik 4 (ABT E) (BZG2242)<br>D
 ozierende: Nelis [nlt1]<br>Räume: Q609<br>Code: BZG2242a<br>Kommentar: PM
  - Bi - df -
DTSTAMP:20260424T215258Z
END:VEVENT
BEGIN:VEVENT
UID:69ebe63a081c4
DTSTART:20220517T104500Z
SEQUENCE:0
TRANSP:OPAQUE
DTEND:20220517T122000Z
LOCATION:E013
SUMMARY:Physik 4 (ABT E)
CLASS:PUBLIC
DESCRIPTION:Veranstaltung: Physik 4 (ABT E) (BZG2242)\nDozierende: Bucher [
 bhg1]\nRäume: E013\nCode: BZG2242i\nKommentar: PM - Bu - d -
X-ALT-DESC;FMTTYPE=text/html:Veranstaltung: Physik 4 (ABT E) (BZG2242)<br>D
 ozierende: Bucher [bhg1]<br>Räume: E013<br>Code: BZG2242i<br>Kommentar: P
 M - Bu - d -
DTSTAMP:20260424T215258Z
END:VEVENT
BEGIN:VEVENT
UID:69ebe63a081f0
DTSTART:20220523T062000Z
SEQUENCE:0
TRANSP:OPAQUE
DTEND:20220523T075500Z
LOCATION:Q609
SUMMARY:Physik 4 (ABT E)
CLASS:PUBLIC
DESCRIPTION:Veranstaltung: Physik 4 (ABT E) (BZG2242)\nDozierende: Nelis [n
 lt1]\nRäume: Q609\nCode: BZG2242a\nKommentar: PM - Bi - df -
X-ALT-DESC;FMTTYPE=text/html:Veranstaltung: Physik 4 (ABT E) (BZG2242)<br>D
 ozierende: Nelis [nlt1]<br>Räume: Q609<br>Code: BZG2242a<br>Kommentar: PM
  - Bi - df -
DTSTAMP:20260424T215258Z
END:VEVENT
BEGIN:VEVENT
UID:69ebe63a0821a
DTSTART:20220524T104500Z
SEQUENCE:0
TRANSP:OPAQUE
DTEND:20220524T122000Z
LOCATION:E013
SUMMARY:Physik 4 (ABT E)
CLASS:PUBLIC
DESCRIPTION:Veranstaltung: Physik 4 (ABT E) (BZG2242)\nDozierende: Bucher [
 bhg1]\nRäume: E013\nCode: BZG2242i\nKommentar: PM - Bu - d -
X-ALT-DESC;FMTTYPE=text/html:Veranstaltung: Physik 4 (ABT E) (BZG2242)<br>D
 ozierende: Bucher [bhg1]<br>Räume: E013<br>Code: BZG2242i<br>Kommentar: P
 M - Bu - d -
DTSTAMP:20260424T215258Z
END:VEVENT
BEGIN:VEVENT
UID:69ebe63a08246
DTSTART:20220525T161000Z
SEQUENCE:0
TRANSP:OPAQUE
DTEND:20220525T174500Z
LOCATION:E013
SUMMARY:Physik 4 (ABT E)
CLASS:PUBLIC
DESCRIPTION:Veranstaltung: Physik 4 (ABT E) (BZG2242)\nDozierende: Bucher [
 bhg1]\nRäume: E013\nCode: BZG2242j\nKommentar: PM - Bu - d -
X-ALT-DESC;FMTTYPE=text/html:Veranstaltung: Physik 4 (ABT E) (BZG2242)<br>D
 ozierende: Bucher [bhg1]<br>Räume: E013<br>Code: BZG2242j<br>Kommentar: P
 M - Bu - d -
DTSTAMP:20260424T215258Z
END:VEVENT
BEGIN:VEVENT
UID:69ebe63a08271
DTSTART:20220530T062000Z
SEQUENCE:0
TRANSP:OPAQUE
DTEND:20220530T075500Z
LOCATION:Q609
SUMMARY:Physik 4 (ABT E)
CLASS:PUBLIC
DESCRIPTION:Veranstaltung: Physik 4 (ABT E) (BZG2242)\nDozierende: Nelis [n
 lt1]\nRäume: Q609\nCode: BZG2242a\nKommentar: PM - Bi - df -
X-ALT-DESC;FMTTYPE=text/html:Veranstaltung: Physik 4 (ABT E) (BZG2242)<br>D
 ozierende: Nelis [nlt1]<br>Räume: Q609<br>Code: BZG2242a<br>Kommentar: PM
  - Bi - df -
DTSTAMP:20260424T215258Z
END:VEVENT
BEGIN:VEVENT
UID:69ebe63a0829d
DTSTART:20220531T104500Z
SEQUENCE:0
TRANSP:OPAQUE
DTEND:20220531T122000Z
LOCATION:E013
SUMMARY:Physik 4 (ABT E)
CLASS:PUBLIC
DESCRIPTION:Veranstaltung: Physik 4 (ABT E) (BZG2242)\nDozierende: Bucher [
 bhg1]\nRäume: E013\nCode: BZG2242i\nKommentar: PM - Bu - d -
X-ALT-DESC;FMTTYPE=text/html:Veranstaltung: Physik 4 (ABT E) (BZG2242)<br>D
 ozierende: Bucher [bhg1]<br>Räume: E013<br>Code: BZG2242i<br>Kommentar: P
 M - Bu - d -
DTSTAMP:20260424T215258Z
END:VEVENT
BEGIN:VEVENT
UID:69ebe63a082cb
DTSTART:20220601T161000Z
SEQUENCE:0
TRANSP:OPAQUE
DTEND:20220601T174500Z
LOCATION:E013
SUMMARY:Physik 4 (ABT E)
CLASS:PUBLIC
DESCRIPTION:Veranstaltung: Physik 4 (ABT E) (BZG2242)\nDozierende: Bucher [
 bhg1]\nRäume: E013\nCode: BZG2242j\nKommentar: PM - Bu - d -
X-ALT-DESC;FMTTYPE=text/html:Veranstaltung: Physik 4 (ABT E) (BZG2242)<br>D
 ozierende: Bucher [bhg1]<br>Räume: E013<br>Code: BZG2242j<br>Kommentar: P
 M - Bu - d -
DTSTAMP:20260424T215258Z
END:VEVENT
BEGIN:VEVENT
UID:69ebe63a082f6
DTSTART:20220607T104500Z
SEQUENCE:0
TRANSP:OPAQUE
DTEND:20220607T122000Z
LOCATION:E013
SUMMARY:Physik 4 (ABT E)
CLASS:PUBLIC
DESCRIPTION:Veranstaltung: Physik 4 (ABT E) (BZG2242)\nDozierende: Bucher [
 bhg1]\nRäume: E013\nCode: BZG2242i\nKommentar: PM - Bu - d -
X-ALT-DESC;FMTTYPE=text/html:Veranstaltung: Physik 4 (ABT E) (BZG2242)<br>D
 ozierende: Bucher [bhg1]<br>Räume: E013<br>Code: BZG2242i<br>Kommentar: P
 M - Bu - d -
DTSTAMP:20260424T215258Z
END:VEVENT
BEGIN:VEVENT
UID:69ebe63a08324
DTSTART:20220608T161000Z
SEQUENCE:0
TRANSP:OPAQUE
DTEND:20220608T174500Z
LOCATION:E013
SUMMARY:Physik 4 (ABT E)
CLASS:PUBLIC
DESCRIPTION:Veranstaltung: Physik 4 (ABT E) (BZG2242)\nDozierende: Bucher [
 bhg1]\nRäume: E013\nCode: BZG2242j\nKommentar: PM - Bu - d -
X-ALT-DESC;FMTTYPE=text/html:Veranstaltung: Physik 4 (ABT E) (BZG2242)<br>D
 ozierende: Bucher [bhg1]<br>Räume: E013<br>Code: BZG2242j<br>Kommentar: P
 M - Bu - d -
DTSTAMP:20260424T215258Z
END:VEVENT
BEGIN:VEVENT
UID:69ebe63a08351
DTSTART:20220613T062000Z
SEQUENCE:0
TRANSP:OPAQUE
DTEND:20220613T075500Z
LOCATION:Q609
SUMMARY:Physik 4 (ABT E)
CLASS:PUBLIC
DESCRIPTION:Veranstaltung: Physik 4 (ABT E) (BZG2242)\nDozierende: Nelis [n
 lt1]\nRäume: Q609\nCode: BZG2242a\nKommentar: PM - Bi - df -
X-ALT-DESC;FMTTYPE=text/html:Veranstaltung: Physik 4 (ABT E) (BZG2242)<br>D
 ozierende: Nelis [nlt1]<br>Räume: Q609<br>Code: BZG2242a<br>Kommentar: PM
  - Bi - df -
DTSTAMP:20260424T215258Z
END:VEVENT
BEGIN:VEVENT
UID:69ebe63a0837d
DTSTART:20220614T104500Z
SEQUENCE:0
TRANSP:OPAQUE
DTEND:20220614T122000Z
LOCATION:E013
SUMMARY:Physik 4 (ABT E)
CLASS:PUBLIC
DESCRIPTION:Veranstaltung: Physik 4 (ABT E) (BZG2242)\nDozierende: Bucher [
 bhg1]\nRäume: E013\nCode: BZG2242i\nKommentar: PM - Bu - d -
X-ALT-DESC;FMTTYPE=text/html:Veranstaltung: Physik 4 (ABT E) (BZG2242)<br>D
 ozierende: Bucher [bhg1]<br>Räume: E013<br>Code: BZG2242i<br>Kommentar: P
 M - Bu - d -
DTSTAMP:20260424T215258Z
END:VEVENT
BEGIN:VEVENT
UID:69ebe63a083a9
DTSTART:20220615T161000Z
SEQUENCE:0
TRANSP:OPAQUE
DTEND:20220615T174500Z
LOCATION:E013
SUMMARY:Physik 4 (ABT E)
CLASS:PUBLIC
DESCRIPTION:Veranstaltung: Physik 4 (ABT E) (BZG2242)\nDozierende: Bucher [
 bhg1]\nRäume: E013\nCode: BZG2242j\nKommentar: PM - Bu - d -
X-ALT-DESC;FMTTYPE=text/html:Veranstaltung: Physik 4 (ABT E) (BZG2242)<br>D
 ozierende: Bucher [bhg1]<br>Räume: E013<br>Code: BZG2242j<br>Kommentar: P
 M - Bu - d -
DTSTAMP:20260424T215258Z
END:VEVENT
END:VCALENDAR